Workbook
Name 실내기다: [1]LG제품!$A$3:$A$195
Name 실외기입니다: [1]LG제품!$F$3:$F$308

Sheet 총괄표
A1: LG EHP 장비현황
A3: 연번 | B3: 건물명 | C3: 실내기(대) | D3: 실외기(조) | E3: 비고
A4: 1 | B4: 중앙도서관 | C4: =중앙도서관!F28 -> 24 | D4: =중앙도서관!G28 -> 3
A5: 2 | B5: 본관 | C5: =본관!F95 -> 91 | D5: =본관!G95 -> 34
A6: 3 | B6: 학술관 | C6: =학술관!F66 -> 59 | D6: =학술관!G66 -> 13
A7: 4 | B7: 문화관 | C7: =문화관!F194 -> 227 | D7: =문화관!G194 -> 32
A8: 5 | B8: 경영관 | C8: =경영관!F67 -> 63 | D8: =경영관!G67 -> 8조
A9: 6 | B9: 사회과학관 | C9: =사회과학관!F160 -> 156 | D9: =사회과학관!G160 -> 24
A10: 7 | B10: 정보문화관P동 | C10: =정보문화관P동!F104 -> 100 | D10: =정보문화관P동!G104 -> 16
A11: 8 | B11: 다향관 | C11: =다향관!F22 -> 24 | D11: =다향관!G22 -> 6
A12: 9 | B12: 혜화관 | C12: =혜화관!F217 -> 213 | D12: =혜화관!G217 -> 29
A13: 10 | B13: 혜화별관 | C13: =혜화별관!F26 -> 22 | D13: =혜화별관!G26 -> 8
A14: 11 | B14: 법학관 | C14: =법학관!F130 -> 126 | D14: =법학관!G130 -> 20
A15: 12 | B15: 법학관 열람실 | C15: =법학관열람실!F48 -> 44 | D15: =법학관열람실!G48 -> 4
A16: 13 | B16: 만해관 | C16: =만해관!F149 -> 145 | D16: =만해관!G149 -> 18
A17: 14 | B17: 계산관B | C17: =계산관B동!F24 -> 20 | D17: =계산관B동!G24 -> 3
A18: 15 | B18: 계산관A | C18: =계산관A동!F8 -> 4 | D18: =계산관A동!G8 -> 1
A19: 16 | B19: 체육관 | C19: =체육관!F6 -> 2 | D19: =체육관!G6 -> 1
A20: 17 | B20: 신공학관 | C20: =신공학관!F10 -> 6 | D20: =신공학관!G10 -> 3
A21: 18 | B21: 장충지구연구동 | C21: =장충지구연구동!F9 -> 5 | D21: =장충지구연구동!G9 -> 1
A22: 19 | B22: 필동관 | C22: =필동관!F9 -> 5 | D22: =필동관!G9 -> 1
A23: 20 | B23: 충무로신관 | C23: =충무로신관!F25 -> 21 | D23: =충무로신관!G25 -> 4
A24: 21 | B24: 충무로본관 | C24: =충무로본관!F128 -> 124 | D24: =충무로본관!G128 -> 19
A25: 계 | C25: =SUM(C4:C24) -> 1481 | D25: =SUM(D4:D24) -> 240

Sheet 중앙도서관
A1: LG EHP 장비현황 중앙도서관
A3: 층 | C3: 실내명 | D3: 실내기 모델 | E3: 종류 | F3: 수량 | G3: 실외기모델 | H3: 설치년도 | I3: 형식 | J3: 비고
A4: 1열람실(상) | B4: 1 | C4: 제1열람실 | D4: LRD-N1105B | E4: 매립 | F4: 1 | H4: 2009 | I4: M
B5: 2 | C5: 제1열람실 | D5: LRD-N1105B | E5: 매립 | F5: 1 | I5: M
B6: 3 | C6: 제1열람실 | D6: LRD-N1105B | E6: 매립 | F6: 1 | I6: M
B7: 4 | C7: 제1열람실 | D7: LRD-N1105B | E7: 매립 | F7: 1 | I7: M
B8: 5 | C8: 제1열람실 | D8: LRD-N1105B | E8: 매립 | F8: 1 | I8: M
B9: 6 | C9: 제1열람실 | D9: LRD-N1105B | E9: 매립 | F9: 1 | G9: #3 | I9: M
B10: 7 | C10: 제1열람실 | D10: LRD-N835B | E10: 매립 | F10: 1 | I10: M
B11: 8 | C11: 제1열람실 | D11: LRD-N835B | E11: 매립 | F11: 1 | G11: LRP-N11007 | I11: M
B12: 9 | C12: 제1열람실 | D12: LRD-N835B | E12: 매립 | F12: 1 | I12: M
B13: 10 | C13: 화장실(여) | D13: LRD-N607T | E13: 4 | F13: 1 | I13: M
B14: 11 | C14: 화장실(남) | D14: LRD-N608T | E14: 4 | F14: 1 | I14: M
A15: B4층별관 | B15: 1 | C15: 라운지 | D15: RNW831A2U | E15: 4 | F15: 1 | G15: RPUW220X9L | H15: 2026.3 | I15: M
B16: 2 | C16: PBL실습실 | D16: RNW0601T2S | E16: 4 | F16: 1 | I16: M
B17: 3 | C17: PBL실습실 | D17: RNW0601T2S | E17: 4 | F17: 1 | I17: M
B18: 4 | C18: 회의실1 | D18: RNW1451T2S | E18: 4 | F18: 1 | I18: M
B19: 5 | C19: 사무실1 | D19: RNW831A2U | E19: 4 | F19: 1 | I19: M
B20: 6 | C20: 사무실2 | D20: RNW831A2U | E20: 4 | F20: 1 | I20: M
B21: 7 | C21: 회의실2 | D21: RNW0601T2S | E21: 4 | F21: 1 | I21: M
A22: B3층별관 | B22: 1 | C22: 열람실-1 | D22: LRD-N1457T | E22: 4 | F22: 1 | G22: RP-W220X9S | H22: 2012.1 | I22: M
B23: 2 | C23: 열람실-1 | D23: LRD-N1457T | E23: 4 | F23: 1 | I23: M
B24: 3 | C24: 열람실-1 | D24: LRD-N1457T | E24: 4 | F24: 1 | I24: M
B25: 4 | C25: 열람실-2 | D25: LRD-N607T | E25: 4 | F25: 1 | I25: M
B26: 5 | C26: 열람실-2 | D26: LRD-N607T | E26: 4 | F26: 1 | I26: M
B27: 6 | C27: 열람실-3 | D27: LRD-N727T | E27: 4 | F27: 1 | I27: M
A28: 장비계 | F28: =SUM(F4:F27) -> 24 | G28: 3

Sheet 본관
A1: LG EHP 장비현황 본관
A3: 층 | C3: 실내명 | D3: 실내기 모델 | E3: 종류 | F3: 수량 | G3: 실외기모델 | H3: 제조년도 | I3: 형식 | J3: 비고
A4: 5층 | B4: 1 | C4: 건학 위원회 1 | D4: RNW1451B2S | E4: 매립 | F4: 1 | G4: RPUW181X9H | H4: 2021.4 | I4: M
B5: 2 | C5: 건학 위원회 2 | D5: RNW1451B2S | E5: 매립 | F5: 1 | H5: 2021.4 | I5: M
B6: 3 | C6: 건학 위원회 3 | D6: RNW1451B2S | E6: 매립 | F6: 1 | H6: 2021.4 | I6: M
B7: 4 | C7: 건학 위원회 4 | D7: RNW1451B2S | E7: 매립 | F7: 1 | H7: 2021.4 | I7: M
B8: 5 | C8: 건학 위원회 5 | D8: RNW0720A2S | E8: 4 | F8: 1 | G8: RPUW14EX9H | H8: 2021.3 | I8: M
B9: 6 | C9: 건학 위원회 6 | D9: RNW0601G2S | E9: 2 | F9: 1 | H9: 2021.2 | I9: M
B10: 7 | C10: 건학 위원회 7 | D10: RNW0601G2S | E10: 2 | F10: 1 | H10: 2020년10 | I10: M
B11: 8 | C11: 건학 위원회 8 | D11: RNW0200C2S | E11: 1 | F11: 1 | H11: 2021.2 | I11: M
B12: 9 | C12: 건학 위원회 9 | D12: RNW0200C2S | E12: 1 | F12: 1 | H12: 2021.4 | I12: M
B13: 10 | C13: 건학 위원회 10 | D13: RNW0720C2S | E13: 1 | F13: 1 | H13: 2021.1 | I13: M
B14: 11 | C14: 법인 임원실1 | D14: TNW0651S2SR | E14: 2 | F14: 1 | G14: TUW0651S2SR | H14: 2021.1 | I14: S
B15: 12 | C15: 법인 임원실2 | D15: TNW072PA2SR | E15: 4 | F15: 1 | G15: TUW072PA2SR | H15: 2021.03 | I15: S
A16: 4층 | B16: 1 | C16: 경영 관리실 | D16: LRD-N727T | E16: 4 | F16: 1 | G16: LRP-N2908D | H16: 2008.12 | I16: M
B17: 2 | C17: 혁신 관리팀 | D17: LRD-N1005T | E17: 4 | F17: 1 | I17: M
B18: 3 | C18: CS 경영팀 | D18: LRD-N1005T | E18: 4 | F18: 1 | I18: M
B19: 4 | C19: 총장실1 | D19: LRD-N837T | E19: 4 | F19: 1 | I19: M
B20: 5 | C20: 총장실2 | D20: LRD-N837T | E20: 4 | F20: 1 | I20: M
B21: 6 | C21: 접견실 | D21: LRD-N325CS | E21: 1 | F21: 1 | I21: M
B22: 7 | C22: 화장실 | D22: LRD-N325CS | E22: 1 | F22: 1 | I22: M
B23: 8 | C23: 휴게실 | D23: LRD-N407CS | E23: 1 | F23: 1 | I23: M
B24: 9 | C24: 이사장실 | D24: TNW0900M2S | E24: 4 | F24: 1 | G24: TUW0900M2S | H24: 2016.1 | I24: M
B25: 10 | C25: 이사장실 | D25: TNW0900M2S | E25: 4 | F25: 1 | I25: M
C26: 로터스홀1 | D26: LT-W1101SN | E26: 4 | F26: 1 | G26: LTW1101SN | H26: 2009.8 | I26: S
C27: 로터스홀2 | D27: LT-W1101SN | E27: 4 | F27: 1 | G27: LTW1101SN | I27: S
C28: 로터스홀3 | D28: LT-W1101SN | E28: 4 | F28: 1 | G28: LTW1101SN | I28: S
C29: 총장 비서실 | D29: TNW0400U2S | E29: 1 | F29: 1 | G29: TUW0400U2S | I29: S
C30: 사무실9 | D30: LT-W601SPJ | E30: 4 | F30: 1 | G30: LTW601SPJ | I30: S
C31: 사무실10 | D31: LT-W601SPJ | E31: 4 | F31: 1 | G31: LTW601SPJ | I31: S
C32: 사무실11 | D32: LT-W601SPJ | E32: 4 | F32: 1 | G32: LTW601SPJ | I32: S
C33: 사무실12 | D33: LT-W601SPJ | E33: 4 | F33: 1 | G33: LTW601SPJ | I33: S
C34: 기획부총장실 | D34: LT-W601SPJ | E34: 4 | F34: 1 | G34: LTW601SPJ | I34: S
C35: 법인 접견실1 | D35: LTNW901SNJ | E35: 4 | F35: 1 | G35: LTUW901SNJ | I35: S
C36: 법인 접견실2 | D36: LTNW901SNJ | E36: 4 | F36: 1 | G36: LTUW901SNJ | I36: S
A37: 3층(우) | B37: 1 | C37: 숙직실 | D37: LRD-N405C | E37: 1 | F37: 1 | G37: LRP-N6407D | H37: 2021.11 | I37: M
B38: 2 | C38: 학생경력개발원장실 | D38: LRD-N605G | E38: 2 | F38: 1 | I38: M
B39: 3 | C39: IMFORMATION | D39: LRD-N525G | E39: 2 | F39: 1 | I39: M
B40: 4 | C40: IMFORMATION | D40: LRD-N605G | E40: 2 | F40: 1 | I40: M
B41: 5 | C41: 취업 및 행정실 | D41: LRD-N605G | E41: 2 | F41: 1 | I41: M
B42: 6 | C42: 취업 및 행정실 | D42: LRD-N605G | E42: 2 | F42: 1 | I42: M
B43: 7 | C43: 취업 및 행정실 | D43: LRD-N605G | E43: 2 | F43: 1 | I43: M
B44: 8 | C44: 집단상담실 | D44: LRD-N605G | E44: 2 | F44: 1 | I44: M
B45: 9 | C45: 취업상담실 | D45: LRD-N405C | E45: 1 | F45: 1 | I45: M
B46: 10 | C46: 학생 상담센타 | D46: LRD-N605G | E46: 2 | F46: 1 | I46: M
B47: 11 | C47: 상담실 -1 | D47: LRD-N235C | E47: 1 | F47: 1 | I47: M
B48: 12 | C48: 상담실 -2 | D48: LRD-N235C | E48: 1 | F48: 1 | I48: M
B49: 13 | C49: 상담실 -3 | D49: LRD-N235C | E49: 1 | F49: 1 | I49: M
C50: 경비실 앞 | D50: LTUW232SUE | E50: 1 | F50: 1 | G50: LTUW232SUE | I50: S
A51: 3층(상부) | B51: 1 | C51: 회의실 | D51: LRD-N605G | E51: 2 | F51: 1 | G51: LRP-N4607D | I51: M
B52: 2 | C52: 국제화추진단장실 | D52: LRD-N605G | E52: 2 | F52: 1 | I52: M
B53: 3 | C53: 국제화추진단 | D53: LRD-N725G | E53: 2 | F53: 1 | I53: M
B54: 4 | C54: 국제화추진단 | D54: LRD-N725G | E54: 2 | F54: 1 | I54: M
B55: 5 | C55: 재무회계팀 | D55: LRD-N725G | E55: 2 | F55: 1 | I55: M
B56: 6 | C56: 재무회계팀 | D56: LRD-N725G | E56: 2 | F56: 1 | I56: M
B57: 7 | C57: 재무회계팀창고 | D57: LRD-N605G | E57: 2 | F57: 1 | I57: M
A58: 2층 | B58: 1 | C58: 교무팀 | D58: LRD-N605G | E58: 2 | F58: 1 | G58: LRP-N2907D | I58: M
B59: 2 | C59: 교무팀 | D59: LRD-N605G | E59: 2 | F59: 1 | I59: M
B60: 3 | C60: 교무팀 | D60: LRD-N605G | E60: 2 | F60: 1 | I60: M
B61: 4 | C61: 중강당홀 | D61: LRD-N605G | E61: 2 | F61: 1 | I61: M
B62: 5 | C62: 중강당홀 | D62: LRD-N605G | E62: 2 | F62: 1 | I62: M
B63: 6 | C63: 공제회 | D63: LRD-N405C | E63: 1 | F63: 1 | I63: M
B64: 7 | C64: CS ZONE | D64: LRD-N525G | E64: 2 | F64: 1 | G64: LRP-N5807D | I64: M
B65: 8 | C65: CS ZONE | D65: LRD-N605G | E65: 2 | F65: 1 | I65: M
B66: 9 | C66: CS ZONE | D66: LRD-N605G | E66: 2 | F66: 1 | I66: M
B67: 10 | C67: CS ZONE | D67: LRD-N605G | E67: 2 | F67: 1 | I67: M
B68: 11 | C68: CS ZONE | D68: LRD-N605G | E68: 2 | F68: 1 | I68: M
B69: 12 | C69: 학생서비스팀 | D69: LRD-N605G | E69: 2 | F69: 1 | I69: M
B70: 13 | C70: 학생서비스팀 | D70: LRD-N605G | E70: 2 | F70: 1 | I70: M
B71: 14 | C71: 회의실 | D71: LRD-N605G | E71: 2 | F71: 1 | I71: M
B72: 15 | C72: 학사본부장실 | D72: LRD-N605G | E72: 2 | F72: 1 | I72: M
B73: 16 | C73: 연구진흥본부 | D73: LRD-N145T | E73: 4 | F73: 1 | G73: RPUW160X9S | H73: 2013.2 | I73: M
B74: 17 | C74: 연구진흥본부 | D74: LRD-N145T | E74: 4 | F74: 1 | I74: M
B75: 18 | C75: 연구진흥본부 | D75: LRD-N145T | E75: 4 | F75: 1 | I75: M
B76: 19 | C76: 법인 사무처 | D76: LRD-N407CS | E76: 1 | F76: 1 | G76: RPUW050S2S | H76: 2015.5 | I76: M
B77: 20 | C77: 법인 사무처 | D77: LRD-N407CS | E77: 1 | F77: 1 | I77: M
B78: 21 | C78: 인권센터 | D78: LRD-N407CS | E78: 1 | F78: 1 | I78: M
C79: 회의실 | D79: LT-750Z | E79: 4 | F79: 1 | G79: LT750Z | H79: 2009.9 | I79: S
C80: 회의실 | D80: LTUW1001SN | E80: 4 | F80: 1 | G80: LTUW1001SN | H80: 2009.9 | I80: S
C81: 예비군 연대 | D81: LTNW602SNE | E81: 4 | F81: 1 | G81: LTUW602SNE | H81: 2011.3.3 | I81: S
C82: 노동조합 | D82: LTNW902SN | E82: 4 | F82: 1 | G82: LTUW902SN | H82: 2011.3 | I82: S
C83: 재무회계팀 | D83: LTNW1002SNE | E83: 4 | F83: 1 | G83: LTUW1002SNE | H83: 2011.3 | I83: S
C84: 연구 처장실 | D84: LTNW720SH | E84: 4 | F84: 1 | G84: LTUW720SH | H84: 2010.11 | I84: S
C85: 역량개발센터 | D85: TNW0601P2S(NR) | E85: 4 | F85: 1 | G85: TUW0601P2S | H85: 2020.2 | I85: S
A86: 1층 | B86: 1 | C86: 미디어 센터1 | D86: RNW0320C2S | E86: 2 | F86: 1 | G86: RPUW181X9P | H86: 2019.05 | I86: M
B87: 2 | C87: 미디어 센터2 | D87: RNW0320C2S | E87: 2 | F87: 1 | I87: M
B88: 3 | C88: 미디어 센터3 | D88: RNW0400C2S | E88: 2 | F88: 1 | I88: M
B89: 4 | C89: 미디어 센터4 | D89: RNW0721G2S | E89: 2 | F89: 1 | I89: M
B90: 5 | C90: 미디어 센터5 | D90: RNW1000T2S | E90: 4 | F90: 1 | I90: M
B91: 6 | C91: 미디어 센터6 | D91: RNW1000T2S | E91: 4 | F91: 1 | I91: M
B92: 7 | C92: 미디어 센터7 | D92: RNW1100T2S | E92: 4 | F92: 1 | I92: M
C93: 총무 처장실 | D93: LTNW403SU | E93: 1 | F93: 1 | G93: LTNU403SU | H93: 2015.3 | I93: S
A94: B1 | C94: 본관 기계실 | D94: TNW0900M2S | E94: 4 | F94: 1 | G94: TUW0900M2S | H94: 2023.3 | I94: S
A95: 장비계 | F95: =SUM(F4:F94) -> 91 | G95: 34

Sheet 학술관
A1: LG EHP 멀티형 장비현황 학술관
A3: 층 | C3: 실내명 | D3: 실내기 모델 | E3: 종류 | F3: 수량 | G3: 실외기모델 | H3: 제조년도 | I3: 형식 | J3: 비고
A4: 4층 | B4: 1 | C4: S473호 | D4: RNW0521G2S | E4: 2 | F4: 1 | G4: RPUW14GX9E | H4: 2024.7 | I4: M
B5: 2 | C5: S474호 | D5: RNW0601G2S | E5: 2 | F5: 1 | I5: M
B6: 3 | C6: S475호 | D6: RNW0601G2S | E6: 2 | F6: 1 | I6: M
B7: 4 | C7: S476호 | D7: RNW0601G2S | E7: 2 | F7: 1 | I7: M
B8: 5 | C8: S477호 | D8: RNW0601G2S | E8: 2 | F8: 1 | I8: M
B9: 6 | C9: S478호 | D9: RNW0601G2S | E9: 2 | F9: 1 | I9: M
B10: 7 | C10: S479호 | D10: RNW0601G2S | E10: 2 | F10: 1 | I10: M
B11: 8 | C11: S480호 | D11: RNW0601G2S | E11: 2 | F11: 1 | G11: RPUW12GX9E | I11: M
B12: 9 | C12: S481호 | D12: RNW0601G2S | E12: 2 | F12: 1 | I12: M
B13: 10 | C13: S482호 | D13: RNW0601G2S | E13: 2 | F13: 1 | I13: M
B14: 11 | C14: S485-1호 | D14: RNW0720A2U | E14: 4 | F14: 1 | I14: M
B15: 12 | C15: S485-2호 | D15: RNW0720A2U | E15: 4 | F15: 1 | I15: M
B16: 13 | C16: S486호 | D16: RNW0521G2S | E16: 2 | F16: 1 | G16: RPUW12GX9E | I16: M
B17: 14 | C17: S487호 | D17: RNW0521G2S | E17: 2 | F17: 1 | I17: M
B18: 15 | C18: S488호 | D18: RNW0521G2S | E18: 2 | F18: 1 | I18: M
B19: 16 | C19: S489호 | D19: RNW0521G2S | E19: 2 | F19: 1 | I19: M
B20: 17 | C20: S490호 | D20: RNW0521G2S | E20: 2 | F20: 1 | I20: M
B21: 18 | C21: S491호 | D21: RNW0521G2S | E21: 2 | F21: 1 | I21: M
B22: 19 | C22: S492호 | D22: RNW0521G2S | E22: 2 | F22: 1 | I22: M
B23: 20 | C23: S494호 | D23: RNW0521G2S | E23: 2 | F23: 1 | G23: RPUW12GX9E | I23: M
B24: 21 | C24: S495호 | D24: RNW0521G2S | E24: 2 | F24: 1 | I24: M
B25: 22 | C25: S496호 | D25: RNW0521G2S | E25: 2 | F25: 1 | I25: M
B26: 23 | C26: S497호 | D26: RNW0521G2S | E26: 2 | F26: 1 | I26: M
B27: 24 | C27: S498호 | D27: RNW0521G2S | E27: 2 | F27: 1 | I27: M
B28: 25 | C28: S499호 | D28: RNW0521G2S | E28: 2 | F28: 1 | I28: M
A29: B1층 | B29: 1 | C29: 101-B1X90 | D29: RNW0320C2S | E29: 1 | F29: 1 | G29: RP-W362X9L.AKM2 | H29: 2025.12 | I29: M
B30: 2 | C30: 101-B1X92 | D30: RNW0320C2S | E30: 1 | F30: 1 | I30: M
B31: 3 | C31: 101-B190 | D31: RNW0400C2S | E31: 1 | F31: 1 | I31: M
B32: 4 | C32: 101-B191 | D32: RNW0400C2S | E32: 1 | F32: 1 | I32: M
B33: 5 | C33: 101-B193 | D33: RNW0400C2S | E33: 1 | F33: 1 | I33: M
B34: 6 | C34: 101-B194 | D34: RNW0400C2S | E34: 1 | F34: 1 | I34: M
B35: 7 | C35: 101-B195 | D35: RNW0720C2S | E35: 1 | F35: 1 | I35: M
B36: 8 | C36: 101-B196 | D36: RNW0720C2S | E36: 1 | F36: 1 | I36: M
B37: 9 | C37: 101-B1X68 | D37: RNW0521G2S | E37: 2 | F37: 1 | I37: M
B38: 10 | C38: 101-B1X29 | D38: RNW0831A2U | E38: 4 | F38: 1 | I38: M
B39: 11 | C39: 101-B1X29 | D39: RNW0831A2U | E39: 4 | F39: 1 | I39: M
B40: 12 | C40: 102-B165 | D40: RNW1001A2U | E40: 4 | F40: 1 | I40: M
B41: 13 | C41: 102-B165 | D41: RNW1001A2U | E41: 4 | F41: 1 | I41: M
... B43: 15 | C43: 102-B165 | D43: RNW1001A2U | E43: 4 | F43: 1 | I43: M
A44: B2 | B44: 1 | C44: B230 분장실 | D44: RNW1451B2S | E44: 매립 | F44: 1 | G44: RPUW202X9E | H44: 2025.02 | I44: M
B45: 2 | C45: B230 분장실 | D45: RNW1451B2S | E45: 매립 | F45: 1 | I45: M
B46: 3 | C46: B232 남자탈의실 | D46: R-W0320C2S | E46: 1 | F46: 1 | I46: M
B47: 4 | C47: B233 여자탈의실 | D47: R-W0320C2S | E47: 1 | F47: 1 | I47: M
B48: 5 | C48: B215 준비실 | D48: R-W1000A2U | E48: 4 | F48: 1 | I48: M
B49: 6 | C49: B215 준비실 | D49: R-W1000A2U | E49: 4 | F49: 1 | I49: M
B50: 1 | C50: 무대 | D50: AHU1-26,200CMH | E50: 라인 | F50: 1 | G50: #1LRP-N8107D | H50: 2009.4 | I50: M
G51: #1-1LRP-N8107D | I51: M
B52: 2 | C52: 객석 | D52: AHU2-15,100CMH | E52: 라인 | F52: 1 | G52: #1LRP-N4107D | I52: M
G53: #1-1LRP-N4107D | I53: M
B54: 3 | C54: 로비 | D54: AHU3-20,100CMH | E54: 라인 | F54: 1 | G54: #1LRP-N700D | I54: M
G55: #1-1LRP-N700D | I55: M
B56: 1 | C56: 음악실로비1 | D56: RNW1000T2S | E56: 4 | F56: 1 | G56: RPUW141X9P | H56: 2020.1 | I56: M
B57: 2 | C57: 음악실로비2 | D57: RNW1000T2S | E57: 4 | F57: 1 | I57: M
B58: 3 | C58: 음악실3 | D58: RNW0200C2S | E58: 2 | F58: 1 | I58: M
B59: 4 | C59: 음악실4 | D59: RNW0200C2S | E59: 2 | F59: 1 | I59: M
B60: 5 | C60: 음악실5 | D60: RNW0200C2S | E60: 2 | F60: 1 | I60: M
B61: 6 | C61: 음악실6 | D61: RNW0200C2S | E61: 2 | F61: 1 | I61: M
B62: 7 | C62: 음악실7 | D62: RNW0200C2S | E62: 2 | F62: 1 | I62: M
B63: 8 | C63: 음악실8 | D63: RNW0200C2S | E63: 2 | F63: 1 | I63: M
B64: 9 | C64: 음악실9 | D64: RNW0200C2S | E64: 2 | F64: 1 | I64: M
B65: 10 | C65: 음악실10 | D65: RNW0200C2S | E65: 2 | F65: 1 | I65: M
A66: 장비계 | F66: =SUM(F4:F65) -> 59 | G66: 13

Sheet 문화관
A1: LG EHP 장비현황 문화관
A3: 층 | C3: 실내명 | D3: 실내기 모델 | E3: 종류 | F3: 수량 | G3: 실외기모델 | H3: 제조년도 | I3: 형식 | J3: 비고
A4: 4층 | B4: 1 | C4: 대강의실 | D4: LRD-N110B | E4: 매립 | F4: 1 | G4: #1 | H4: 2010.7 | I4: M
B5: 2 | C5: 대강의실 | D5: LRD-N110B | E5: 매립 | F5: 1 | G5: LRP-N3505D | I5: M
B6: 3 | C6: 대강의실 | D6: LRD-N83B | E6: 매립 | F6: 1 | I6: M
B7: 1 | C7: 강의실1-1 | D7: LRD-N727T | E7: 4 | F7: 1 | I7: M
B8: 2 | C8: 강의실1-2 | D8: LRD-N727T | E8: 4 | F8: 1 | I8: M
B9: 3 | C9: 강의실2-1 | D9: LRD-N727T | E9: 4 | F9: 1 | I9: M
B10: 4 | C10: 강의실2-2 | D10: LRD-N727T | E10: 4 | F10: 1 | G10: #2 | I10: M
B11: 5 | C11: 강의실3-1 | D11: LRD-N727T | E11: 4 | F11: 1 | I11: M
B12: 6 | C12: 강의실3-2 | D12: LRD-N727T | E12: 4 | F12: 1 | G12: LRP-N8705D | I12: M
B13: 7 | C13: 강의실4-1 | D13: LRD-N727T | E13: 4 | F13: 1 | I13: M
B14: 8 | C14: 강의실4-2 | D14: LRD-N727T | E14: 4 | F14: 1 | I14: M
B15: 9 | C15: 강의실5-1 | D15: LRD-N727T | E15: 4 | F15: 1 | I15: M
B16: 10 | C16: 강의실5-2 | D16: LRD-N727T | E16: 4 | F16: 1 | I16: M
B17: 1 | C17: 강의실19-1 | D17: LRD-N727T | E17: 4 | F17: 1 | I17: M
B18: 2 | C18: 강의실19-2 | D18: LRD-N727T | E18: 4 | F18: 1 | I18: M
B19: 3 | C19: 강의실18-1 | D19: LRD-N727T | E19: 4 | F19: 1 | I19: M
B20: 4 | C20: 강의실18-2 | D20: LRD-N727T | E20: 4 | F20: 1 | G20: #3 | I20: M
B21: 5 | C21: 강의실17-1 | D21: LRD-N727T | E21: 4 | F21: 1 | I21: M
B22: 6 | C22: 강의실17-2 | D22: LRD-N727T | E22: 4 | F22: 1 | G22: LRP-N8705D | I22: M
B23: 7 | C23: 강의실16-1 | D23: LRD-N727T | E23: 4 | F23: 1 | I23: M
B24: 8 | C24: 강의실16-2 | D24: LRD-N727T | E24: 4 | F24: 1 | I24: M
B25: 9 | C25: 강의실15-1 | D25: LRD-N727T | E25: 4 | F25: 1 | I25: M
B26: 10 | C26: 강의실15-2 | D26: LRD-N727T | E26: 4 | F26: 1 | I26: M
B27: 1 | C27: K426호(교) | D27: RNW0601G2S | E27: 2 | F27: 1 | G27: RPUW16GX9E | H27: 2024.5 | I27: M
B28: 2 | C28: K427호(교) | D28: RNW0601G2S | E28: 2 | F28: 1 | I28: M
B29: 3 | C29: K428호(교) | D29: RNW0601G2S | E29: 2 | F29: 1 | I29: M
B30: 4 | C30: K429호(교) | D30: RNW0601G2S | E30: 2 | F30: 1 | I30: M
B31: 5 | C31: K430호(교) | D31: RNW0601G2S | E31: 2 | F31: 1 | I31: M
B32: 6 | C32: K431호(교) | D32: RNW0601G2S | E32: 2 | F32: 1 | I32: M
B33: 7 | C33: K432호(교) | D33: RNW0601G2S | E33: 2 | F33: 1 | I33: M
B34: 8 | C34: K433호(교) | D34: RNW0601G2S | E34: 2 | F34: 1 | G34: RPUW12GX9E | I34: M
B35: 9 | C35: K434호(교) | D35: RNW0601G2S | E35: 2 | F35: 1 | I35: M
B36: 10 | C36: K420-1호(사) | D36: RNW0830A2U | E36: 4 | F36: 1 | I36: M
B37: 11 | C37: K420-2호(사) | D37: RNW0830A2U | E37: 4 | F37: 1 | I37: M
B38: 12 | C38: K424-1호(사) | D38: RNW0600A2U | E38: 4 | F38: 1 | I38: M
B39: 13 | C39: K424-1호(사) | D39: RNW0600A2U | E39: 4 | F39: 1 | I39: M
B40: 1 | C40: 조교실1 | D40: LRD-N727T | E40: 4 | F40: 1 | H40: 2010.7 | I40: M
B41: 2 | C41: 조교실2 | D41: LRD-N727T | E41: 4 | F41: 1 | I41: M
B42: 3 | C42: 조교실3 | D42: LRD-N727T | E42: 4 | F42: 1 | I42: M
B43: 4 | C43: 교수실10 | D43: LRD-N835TJ | E43: 4 | F43: 1 | I43: M
B44: 5 | C44: 교수실11 | D44: LRD-N835TJ | E44: 4 | F44: 1 | I44: M
B45: 6 | C45: 교수실12 | D45: LRD-N835TJ | E45: 4 | F45: 1 | I45: M
B46: 7 | C46: 교수실13 | D46: LRD-N835TJ | E46: 4 | F46: 1 | I46: M
B47: 8 | C47: 교수실14 | D47: LRD-N835TJ | E47: 4 | F47: 1 | G47: #5 | I47: M
B48: 9 | C48: 교수실15 | D48: LRD-N835TJ | E48: 4 | F48: 1 | I48: M
B49: 10 | C49: 교수실16 | D49: LRD-N835TJ | E49: 4 | F49: 1 | G49: LRP-N8705D | I49: M
B50: 11 | C50: 교수실17 | D50: LRD-N835TJ | E50: 4 | F50: 1 | I50: M
B51: 12 | C51: 교수실18 | D51: LRD-N835TJ | E51: 4 | F51: 1 | I51: M
A52: 3층 | B52: 1 | C52: 강의실K308 | D52: LRD-N1007T | E52: 4 | F52: 1 | H52: 2010.7 | I52: M
B53: 2 | C53: 강의실K309-1 | D53: LRD-N1007T | E53: 4 | F53: 1 | I53: M
B54: 3 | C54: 강의실K309-2 | D54: LRD-N1007T | E54: 4 | F54: 1 | I54: M
B55: 4 | C55: 강의실K309-3 | D55: LRD-N1007T | E55: 4 | F55: 1 | G55: #6 | I55: M
B56: 5 | C56: 강의실K309-4 | D56: LRD-N1007T | E56: 4 | F56: 1 | I56: M
B57: 6 | C57: 강의실K311-1 | D57: LRD-N1007T | E57: 4 | F57: 1 | G57: LRP-N8705DG | I57: M
B58: 7 | C58: 강의실K311-2 | D58: LRD-N1007T | E58: 4 | F58: 1 | I58: M
B59: 8 | C59: 강의실K311-3 | D59: LRD-N1007T | E59: 4 | F59: 1 | I59: M
B60: 9 | C60: 강의실K311-4 | D60: LRD-N1007T | E60: 4 | F60: 1 | I60: M
B61: 1 | C61: K325 | D61: LRD-N727G | E61: 2 | F61: 1 | H61: 2006.7 | I61: M
B62: 2 | C62: 교수실K324 | D62: LRD-N727G | E62: 2 | F62: 1 | I62: M
B63: 3 | C63: 교수실K323-2 | D63: LRD-N727G | E63: 2 | F63: 1 | I63: M
B64: 4 | C64: 교수실K323-1 | D64: LRD-N727G | E64: 2 | F64: 1 | I64: M
B65: 5 | C65: 교수실K322 | D65: LRD-N727G | E65: 2 | F65: 1 | G65: #7 | I65: M
B66: 6 | C66: 교수실K321 | D66: LRD-N727G | E66: 2 | F66: 1 | I66: M
B67: 7 | C67: 교수실K320 | D67: LRD-N727G | E67: 2 | F67: 1 | G67: LRP-N8705DG | I67: M
B68: 8 | C68: 교수실K319 | D68: LRD-N727G | E68: 2 | F68: 1 | I68: M
B69: 9 | C69: 교수실K318 | D69: LRD-N727G | E69: 2 | F69: 1 | I69: M
B70: 10 | C70: 교수실K317 | D70: LRD-N727G | E70: 2 | F70: 1 | I70: M
B71: 11 | C71: 교수실K316 | D71: LRD-N727G | E71: 2 | F71: 1 | I71: M
B72: 12 | C72: 대각전사무실 | D72: LRD-N727G | E72: 2 | F72: 1 | I72: M
B73: 1 | C73: K304-1 | D73: LRD-N1307T | E73: 4 | F73: 1 | G73: #8 LRP-N8705DG | H73: 2010.7 | I73: M
B74: 2 | C74: K303-1 | D74: LRD-N1107T | E74: 4 | F74: 1 | I74: M
B75: 3 | C75: K303-2 | D75: LRD-N1107T | E75: 4 | F75: 1 | I75: M
B76: 4 | C76: K310-1 | D76: LRD-N1007T | E76: 4 | F76: 1 | I76: M
B77: 5 | C77: K310-2 | D77: LRD-N1007T | E77: 4 | F77: 1 | I77: M
B78: 6 | C78: K308-1 | D78: LRD-N1007T | E78: 4 | F78: 1 | I78: M
B79: 7 | C79: K308-2 | D79: LRD-N1007T | E79: 4 | F79: 1 | I79: M
B80: 8 | C80: K308-3 | D80: LRD-N1007T | E80: 4 | F80: 1 | I80: M
B81: 9 | C81: K343 | D81: LRD-N607G | E81: 2 | F81: 1 | G81: LRD-N607G | H81: 2006.7 | I81: M
B82: 1 | C82: K301-1 | D82: LRD-N1307T | E82: 4 | F82: 1 | G82: #9 LRP-N8705DG | H82: 2010.7 | I82: M
B83: 2 | C83: K301-2 | D83: LRD-N1307T | E83: 4 | F83: 1 | I83: M
B84: 3 | C84: K302-1 | D84: LRD-N1457T | E84: 4 | F84: 1 | I84: M
B85: 4 | C85: K302-2 | D85: LRD-N1457T | E85: 4 | F85: 1 | I85: M
B86: 5 | C86: K305-1 | D86: LRD-N1107T | E86: 4 | F86: 1 | I86: M
B87: 6 | C87: K305-2 | D87: LRD-N1107T | E87: 4 | F87: 1 | I87: M
B88: 7 | C88: K304-2 | D88: LRD-N1307T | E88: 4 | F88: 1 | I88: M
B89: 1 | C89: K338 | D89: LRD-N1457T | E89: 4 | F89: 1 | G89: #10 LRP-N8705DG | I89: M
B90: 2 | C90: K338 | D90: LRD-N1457T | E90: 4 | F90: 1 | I90: M
B91: 3 | C91: K339 | D91: LRD-N1007T | E91: 4 | F91: 1 | I91: M
B92: 4 | C92: K339 | D92: LRD-N1007T | E92: 4 | F92: 1 | I92: M
B93: 5 | C93: K340 | D93: LRD-N1007T | E93: 4 | F93: 1 | I93: M
B94: 6 | C94: K340 | D94: LRD-N1007T | E94: 4 | F94: 1 | I94: M
A95: 2층 | B95: 1 | C95: 102-256A | D95: LRD-N1457T | E95: 4 | F95: 1 | G95: #11 LRP-N8708DG | H95: 2010.7 | I95: M
B96: 2 | C96: 102-256B | D96: LRD-N1457T | E96: 4 | F96: 1 | I96: M
B97: 3 | C97: 102-257 | D97: LRD-N1007T | E97: 4 | F97: 1 | I97: M
B98: 4 | C98: 102-259A | D98: LRD-N1007T | E98: 4 | F98: 1 | I98: M
B99: 5 | C99: 102-259B | D99: LRD-N1007T | E99: 4 | F99: 1 | I99: M
B100: 6 | C100: 102-260 | D100: LRD-N1107T | E100: 4 | F100: 1 | I100: M
B101: 7 | C101: 102-245A | D101: LRD-N1107T | E101: 4 | F101: 1 | I101: M
...

Sheet 경영관
A1: LG EHP 장비현황 경영관
A3: 층 | C3: 실내명 | D3: 실내기 모델 | E3: 종류 | F3: 수량 | G3: 실외기모델 | H3: 제조년도 | I3: 형식 | J3: 비고
A4: B1 | B4: 1 | C4: LB106 | D4: RNW0721G2S | E4: 2 | F4: 1 | G4: RPUW102X9L | H4: 2025.2 | I4: M
B5: 2 | C5: LB107 | D5: RNW0721G2S | E5: 2 | F5: 1 | I5: M
B6: 3 | C6: LB108 | D6: RNW0721G2S | E6: 2 | F6: 1 | I6: M
B7: 4 | C7: LB109 | D7: RNW0721G2S | E7: 2 | F7: 1 | I7: M
A8: 1층 | B8: 1 | C8: L101-1호 | D8: RNW0830A2U | E8: 4 | F8: 1 | G8: RPUW14EX9H | H8: 2022.2 | I8: M
B9: 2 | C9: L101-2호 | D9: RNW0830A2U | E9: 4 | F9: 1 | I9: M
B10: 3 | C10: L102호 | D10: RNW0720A2U | E10: 4 | F10: 1 | H10: 2022.1 | I10: M
B11: 4 | C11: L110호 비즈마루 | D11: RNW0400A2S | E11: 1 | F11: 1 | H11: 2022.2 | I11: M
B12: 5 | C12: L110호 비즈마루 | D12: RNW0400A2S | E12: 1 | F12: 1 | I12: M
B13: 6 | C13: L110호 비즈마루 | D13: RNW0400A2S | E13: 1 | F13: 1 | I13: M
B14: 7 | C14: L110호 비즈마루 | D14: RNW0400A2S | E14: 1 | F14: 1 | I14: M
B15: 8 | C15: L110호 비즈마루 | D15: RNW1000A2U | E15: 4 | F15: 1 | G15: RPUW14EX9H | I15: M
B16: 9 | C16: L110호 비즈마루 | D16: RNW1000A2U | E16: 4 | F16: 1 | I16: M
B17: 10 | C17: L110호 비즈마루 | D17: RNW1000A2U | E17: 4 | F17: 1 | I17: M
B18: 11 | C18: L110호 비즈마루 | D18: RNW1000A2U | E18: 4 | F18: 1 | I18: M
B19: 12 | C19: L110호 비즈마루 | D19: RNW1000A2U | E19: 4 | F19: 1 | I19: M
B20: 13 | C20: L110호 비즈마루 | D20: RNW1000A2U | E20: 4 | F20: 1 | I20: M
A21: 1층 | B21: 1 | C21: 강의실 L101 | D21: RNW0830A2U | E21: 4 | F21: 1 | G21: RP-W362X9L | H21: 2025.2 | I21: M
B22: 2 | C22: 강의실 L101 | D22: RNW0830A2U | E22: 4 | F22: 1 | I22: M
B23: 3 | C23: 강의실 L101 | D23: RNW0830A2U | E23: 4 | F23: 1 | I23: M
B24: 4 | C24: 강의실 L101 | D24: RNW0830A2U | E24: 4 | F24: 1 | I24: M
B25: 5 | C25: 강의실 L101 | D25: RNW0830A2U | E25: 4 | F25: 1 | I25: M
B26: 6 | C26: 강의실 L101 | D26: RNW0830A2U | E26: 4 | F26: 1 | I26: M
B27: 7 | C27: L116-1 | D27: RNW1100A2U | E27: 4 | F27: 1 | I27: M
B28: 8 | C28: L116-2 | D28: RNW1100A2U | E28: 4 | F28: 1 | I28: M
B29: 9 | C29: L117 | D29: RNW0601G2S | E29: 2 | F29: 1 | I29: M
B30: 10 | C30: L118 | D30: RNW0601G2S | E30: 2 | F30: 1 | I30: M
B31: 11 | C31: L119 | D31: RNW0601G2S | E31: 2 | F31: 1 | I31: M
B32: 12 | C32: L119-1 | D32: RNW0601G2S | E32: 2 | F32: 1 | I32: M
B33: 13 | C33: 학사복 창고 | D33: RNW0720A2U | E33: 4 | F33: 1 | I33: M
A34: 2층 | B34: 1 | C34: L202 | D34: RNW0720A2U | E34: 4 | F34: 1 | G34: RP-W302X9L | I34: M
B35: 2 | C35: L202 | D35: RNW0830A2U | E35: 4 | F35: 1 | I35: M
B36: 3 | C36: L202 | D36: RNW0830A2U | E36: 4 | F36: 1 | I36: M
B37: 4 | C37: L202 | D37: RNW0830A2U | E37: 4 | F37: 1 | I37: M
B38: 5 | C38: L203 | D38: RNW0720A2U | E38: 4 | F38: 1 | I38: M
B39: 6 | C39: L204 | D39: RNW1000A2U | E39: 4 | F39: 1 | I39: M
B40: 7 | C40: L205 | D40: RNW0830A2U | E40: 4 | F40: 1 | I40: M
B41: 8 | C41: L205 | D41: RNW0830A2U | E41: 4 | F41: 1 | I41: M
B42: 8 | C42: L208 | D42: RNW1300A2U | E42: 4 | F42: 1 | I42: M
B43: 9 | C43: L208 | D43: RNW1300A2U | E43: 4 | F43: 1 | I43: M
B44: 10 | C44: L209 | D44: RNW1100A2U | E44: 4 | F44: 1 | I44: M
B45: 11 | C45: L209 | D45: RNW1100A2U | E45: 4 | F45: 1 | I45: M
B46: 12 | C46: 행정지지원실 | D46: RNW0220C2S | E46: 1 | F46: 1 | I46: M
B47: 13 | C47: 주차관리실 | D47: RNW0220C2S | E47: 1 | F47: 1 | I47: M
B48: 14 | C48: L223 | D48: RNW1100A2U | E48: 4 | F48: 1 | G48: RPUW202X9L | I48: M
B49: 15 | C49: L222 | D49: RNW1100A2U | E49: 4 | F49: 1 | I49: M
B50: 16 | C50: L221 | D50: RNW1100A2U | E50: 4 | F50: 1 | I50: M
B51: 17 | C51: L210 | D51: RNW1000A2U | E51: 4 | F51: 1 | I51: M
B52: 18 | C52: L210 | D52: RNW1000A2U | E52: 4 | F52: 1 | I52: M
A53: 3층 | B53: 1 | C53: L303 | D53: RNW0830A2U | E53: 4 | F53: 1 | G53: RPUW182X9L | I53: M
B54: 2 | C54: L303 | D54: RNW0830A2U | E54: 4 | F54: 1 | I54: M
B55: 3 | C55: L304 | D55: RNW1100A2U | E55: 4 | F55: 1 | I55: M
B56: 4 | C56: L304 | D56: RNW1100A2U | E56: 4 | F56: 1 | I56: M
B57: 5 | C57: L305 | D57: RNW1300A2U | E57: 4 | F57: 1 | I57: M
B58: 6 | C58: L305 | D58: RNW1300A2U | E58: 4 | F58: 1 | I58: M
B59: 7 | C59: L306 | D59: RNW1000A2U | E59: 4 | F59: 1 | I59: M
B60: 8 | C60: L306 | D60: RNW1000A2U | E60: 4 | F60: 1 | I60: M
B61: 9 | C61: 강의실L311 | D61: RNW1100A2U | E61: 4 | F61: 1 | G61: RPUW122X9L | I61: M
B62: 10 | C62: 강의실L311 | D62: RNW1100A2U | E62: 4 | F62: 1 | I62: M
B63: 11 | C63: 강의실L310 | D63: RNW1100A2U | E63: 4 | F63: 1 | I63: M
B64: 12 | C64: 강의실L310 | D64: RNW1100A2U | E64: 4 | F64: 1 | I64: M
B65: 13 | C65: 강의실L309 | D65: RNW1100A2U | E65: 4 | F65: 1 | I65: M
B66: 14 | C66: 강의실L309 | D66: RNW1100A2U | E66: 4 | F66: 1 | I66: M
A67: 장비계 | F67: =SUM(F4:F66) -> 63 | G67: 8조

Sheet 사회과학관
A1: LG EHP 장비현황 사회 과학관
A3: 층 | C3: 실내명 | D3: 실내기 모델 | E3: 종류 | F3: 수량 | G3: 실외기모델 | H3: 제조년도 | I3: 형식 | J3: 비고
A4: B1층 | B4: 1 | C4: MB123-1 | D4: RNW1300A2U | E4: 4 | F4: 1 | G4: RPUW142X9L | H4: 2025.2 | I4: M
B5: 2 | C5: MB123-2 | D5: RNW1300A2U | E5: 4 | F5: 1 | I5: M
B6: 3 | C6: MB123-3 | D6: RNW1450A2U | E6: 4 | F6: 1 | I6: M
A7: 1층 | B7: 1 | C7: M122 | D7: RNW1300A2U | E7: 4 | F7: 1 | G7: RP-W362X9L | H7: 2025.2 | I7: M
B8: 2 | C8: M122 | D8: RNW1300A2U | E8: 4 | F8: 1 | I8: M
B9: 3 | C9: M126 | D9: RNW0601G2S | E9: 4 | F9: 1 | I9: M
B10: 4 | C10: M127 | D10: RNW1300A2U | E10: 4 | F10: 1 | I10: M
B11: 5 | C11: M129 | D11: RNW1300A2U | E11: 4 | F11: 1 | I11: M
B12: 6 | C12: M131 | D12: RNW1100A2U | E12: 4 | F12: 1 | I12: M
B13: 7 | C13: M131 | D13: RNW1100A2U | E13: 4 | F13: 1 | I13: M
B14: 8 | C14: M134 | D14: RNW1300A2U | E14: 4 | F14: 1 | I14: M
B15: 9 | C15: M136 | D15: RNW1300A2U | E15: 4 | F15: 1 | I15: M
B16: 10 | C16: M107 | D16: RNW0601G2S | E16: 4 | F16: 1 | G16: RP-W302X9L | I16: M
B17: 11 | C17: M108 | D17: RNW0320C2S | E17: 1 | F17: 1 | I17: M
B18: 12 | C18: M108 | D18: RNW0320C2S | E18: 1 | F18: 1 | I18: M
B19: 13 | C19: M109 | D19: RNW0601G2S | E19: 4 | F19: 1 | I19: M
B20: 14 | C20: M110 | D20: RNW0601G2S | E20: 4 | F20: 1 | I20: M
B21: 15 | C21: M111 | D21: RNW0830A2U | E21: 4 | F21: 1 | I21: M
B22: 16 | C22: M111 | D22: RNW0830A2U | E22: 4 | F22: 1 | I22: M
B23: 17 | C23: M114 | D23: RNW0830A2U | E23: 4 | F23: 1 | I23: M
B24: 18 | C24: M114 | D24: RNW0830A2U | E24: 4 | F24: 1 | I24: M
B25: 19 | C25: M117 | D25: RNW1300A2U | E25: 4 | F25: 1 | I25: M
B26: 20 | C26: M117 | D26: RNW1300A2U | E26: 4 | F26: 1 | I26: M
A27: 2층 | B27: 1 | C27: M209-1 | D27: RNW0220C2S | E27: 1 | F27: 1 | G27: RP-W362X9L | H27: 2025.2 | I27: M
B28: 2 | C28: M209-1 | D28: RNW0220C2S | E28: 1 | F28: 1 | I28: M
B29: 3 | C29: M211 | D29: RNW0830A2U | E29: 4 | F29: 1 | I29: M
B30: 4 | C30: M211 | D30: RNW0830A2U | E30: 4 | F30: 1 | I30: M
B31: 5 | C31: M211 | D31: RNW0830A2U | E31: 4 | F31: 1 | I31: M
B32: 6 | C32: M212 | D32: RNW0601G2S | E32: 2 | F32: 1 | I32: M
B33: 7 | C33: M213 | D33: RNW0601G2S | E33: 2 | F33: 1 | I33: M
B34: 8 | C34: M214 | D34: RNW0601G2S | E34: 2 | F34: 1 | I34: M
B35: 9 | C35: M215 | D35: RNW1300A2U | E35: 4 | F35: 1 | I35: M
B36: 10 | C36: M215 | D36: RNW1300A2U | E36: 4 | F36: 1 | I36: M
B37: 11 | C37: M216 | D37: RNW1300A2U | E37: 4 | F37: 1 | I37: M
B38: 12 | C38: M216 | D38: RNW1300A2U | E38: 4 | F38: 1 | I38: M
B39: 13 | C39: 열람실 | D39: RNW1300A2U | E39: 4 | F39: 1 | G39: RP-W242X9L | I39: M
B40: 14 | C40: 열람실 | D40: RNW1300A2U | E40: 4 | F40: 1 | I40: M
B41: 15 | C41: 열람실 | D41: RNW1300A2U | E41: 4 | F41: 1 | I41: M
B42: 16 | C42: 열람실 | D42: RNW1300A2U | E42: 4 | F42: 1 | I42: M
B43: 17 | C43: 열람실 | D43: RNW1300A2U | E43: 4 | F43: 1 | I43: M
B44: 18 | C44: i-space | D44: RNW1300A2U | E44: 4 | F44: 1 | G44: RP-W362X9L | I44: M
B45: 19 | C45: i-space | D45: RNW1300A2U | E45: 4 | F45: 1 | I45: M
B46: 20 | C46: i-space | D46: RNW1300A2U | E46: 4 | F46: 1 | I46: M
B47: 21 | C47: 멘토링룸 | D47: RNW0600A2U | E47: 4 | F47: 1 | I47: M
B48: 22 | C48: 세미나룸 | D48: RNW0600A2U | E48: 4 | F48: 1 | I48: M
B49: 23 | C49: 세미나룸 | D49: RNW0600A2U | E49: 4 | F49: 1 | I49: M
B50: 24 | C50: 세미나룸 | D50: RNW0600A2U | E50: 4 | F50: 1 | I50: M
B51: 25 | C51: 로비 | D51: RNW1300A2U | E51: 4 | F51: 1 | I51: M
B52: 26 | C52: 로비 | D52: RNW1300A2U | E52: 4 | F52: 1 | I52: M
B53: 27 | C53: M235학생회실 | D53: RNW1000A2U | E53: 4 | F53: 1 | I53: M
A54: 3층 | B54: 1 | C54: M306-1호(강) | D54: RNW1100A2U | E54: 4 | F54: 1 | G54: RPUW12GX9E | H54: 2024.8 | I54: M
B55: 2 | C55: M306-2호(강) | D55: RNW1100A2U | E55: 4 | F55: 1 | I55: M
B56: 3 | C56: M307호(강) | D56: RNW1000A2U | E56: 4 | F56: 1 | I56: M
B57: 4 | C57: M308-1호(강) | D57: RNW0830A2U | E57: 4 | F57: 1 | I57: M
B58: 5 | C58: M308-2호(강) | D58: RNW1000A2U | E58: 4 | F58: 1 | I58: M
B59: 6 | C59: M308-3호(강) | D59: RNW1000A2U | E59: 4 | F59: 1 | G59: RPUW18GX9E | I59: M
B60: 7 | C60: 학사운영실1 | D60: RNW0830A2U | E60: 4 | F60: 1 | I60: M
B61: 8 | C61: 학사운영실2 | D61: RNW1100A2U | E61: 4 | F61: 1 | I61: M
B62: 9 | C62: 학사운영실3 | D62: RNW1100A2U | E62: 4 | F62: 1 | I62: M
B63: 10 | C63: 학사운영실4 | D63: RNW1100A2U | E63: 4 | F63: 1 | I63: M
B64: 11 | C64: 글로벌 세미나룸 | D64: RNW0400C2S | E64: 1 | F64: 1 | I64: M
B65: 12 | C65: M334 | D65: RNW0830A2U | E65: 4 | F65: 1 | G65: RPUW162X9L | H65: 2025.2 | I65: M
B66: 13 | C66: M334 | D66: RNW0830A2U | E66: 4 | F66: 1 | I66: M
B67: 14 | C67: M332 | D67: RNW0220C2S | E67: 1 | F67: 1 | I67: M
B68: 15 | C68: M332 | D68: RNW0220C2S | E68: 1 | F68: 1 | I68: M
B69: 16 | C69: M331 | D69: RNW1100A2U | E69: 4 | F69: 1 | I69: M
B70: 17 | C70: M330 | D70: RNW0220C2S | E70: 1 | F70: 1 | I70: M
B71: 18 | C71: M330 | D71: RNW0220C2S | E71: 1 | F71: 1 | I71: M
B72: 19 | C72: M329 | D72: RNW0521G2S | E72: 4 | F72: 1 | I72: M
B73: 20 | C73: M302 | D73: RNW1100A2U | E73: 4 | F73: 1 | G73: RP-W222X9L RPUW122X9L | H73: 2025.2 | I73: M
B74: 21 | C74: M303 | D74: RNW1100A2U | E74: 4 | F74: 1 | I74: M
B75: 22 | C75: M303 | D75: RNW1100A2U | E75: 4 | F75: 1 | I75: M
B76: 23 | C76: M304 | D76: RNW1100A2U | E76: 4 | F76: 1 | I76: M
B77: 24 | C77: M304 | D77: RNW1100A2U | E77: 4 | F77: 1 | I77: M
B78: 25 | C78: M305 | D78: RNW1100A2U | E78: 4 | F78: 1 | I78: M
B79: 26 | C79: M305 | D79: RNW1100A2U | E79: 4 | F79: 1 | I79: M
B80: 27 | C80: 로비 | D80: RNW1100A2U | E80: 4 | F80: 1 | I80: M
B81: 28 | C81: 로비 | D81: RNW1100A2U | E81: 4 | F81: 1 | I81: M
B82: 29 | C82: 경비실 | D82: RNW0220C2S | E82: 1 | F82: 1 | I82: M
A83: 4층 | B83: 1 | C83: M454-1호(강) | D83: RNW0830A2U | E83: 4 | F83: 1 | G83: RPUW18GX9E | H83: 2024.8 | I83: M
B84: 2 | C84: M454-2호(강) | D84: RNW0830A2U | E84: 4 | F84: 1 | I84: M
B85: 3 | C85: M455-1호(강) | D85: RNW1000A2U | E85: 4 | F85: 1 | I85: M
B86: 4 | C86: M455-2호(강) | D86: RNW1000A2U | E86: 4 | F86: 1 | I86: M
B87: 5 | C87: M404-1호(강) | D87: RNW1300A2U | E87: 4 | F87: 1 | G87: RPUW20GX9E | I87: M
B88: 6 | C88: M404-2호(강) | D88: RNW1300A2U | E88: 4 | F88: 1 | I88: M
B89: 7 | C89: M436-1호(강) | D89: RNW1100A2U | E89: 4 | F89: 1 | I89: M
B90: 8 | C90: M436-2호(강) | D90: RNW1100A2U | E90: 4 | F90: 1 | I90: M
B91: 9 | C91: M408-1호(강) | D91: RNW1300A2U | E91: 4 | F91: 1 | G91: RPUW14GX9E | I91: M
B92: 10 | C92: M408-2호(강) | D92: RNW1300A2U | E92: 4 | F92: 1 | I92: M
B93: 11 | C93: M409호(교) | D93: RNW0601G2S | E93: 2 | F93: 1 | I93: M
B94: 12 | C94: M410호(교) | D94: RNW0601G2S | E94: 2 | F94: 1 | I94: M
B95: 13 | C95: M411호(교) | D95: RNW0601G2S | E95: 2 | F95: 1 | I95: M
B96: 14 | C96: M412호(교) | D96: RNW0601G2S | E96: 2 | F96: 1 | I96: M
B97: 15 | C97: M413호(교) | D97: RNW0601G2S | E97: 2 | F97: 1 | G97: RPUW20GX9E | I97: M
B98: 16 | C98: M414호(교) | D98: RNW0601G2S | E98: 2 | F98: 1 | I98: M
B99: 17 | C99: M415호(교) | D99: RNW0601G2S | E99: 2 | F99: 1 | I99: M
B100: 18 | C100: M416호(교) | D100: RNW0601G2S | E100: 2 | F100: 1 | I100: M
B101: 19 | C101: M417호(교) | D101: RNW0601G2S | E101: 2 | F101: 1 | I101: M
...

Sheet 정보문화관P동
A1: LG EHP 장비현황 정보문화관P
C3: 실내명 | D3: 실내기 모델 | E3: 종류 | F3: 수량 | G3: 실외기모델 | H3: 제조년도 | I3: 형식 | J3: 비고
A4: 6층 | B4: 1 | C4: P601 | D4: RNW0721A2U | E4: 4 | F4: 1 | G4: RP-W342X9L | H4: 2025.3 | I4: M
B5: 2 | C5: P602 | D5: RNW0600C2S | E5: 1 | F5: 1 | I5: M
B6: 3 | C6: P603 | D6: RNW0600C2S | E6: 1 | F6: 1 | I6: M
B7: 4 | C7: P604 | D7: RNW0600C2S | E7: 1 | F7: 1 | I7: M
B8: 5 | C8: P605 | D8: RNW0600C2S | E8: 1 | F8: 1 | I8: M
B9: 6 | C9: P606 | D9: RNW0600C2S | E9: 1 | F9: 1 | I9: M
B10: 7 | C10: P607 | D10: RNW0600C2S | E10: 1 | F10: 1 | I10: M
B11: 8 | C11: P608 | D11: RNW0600C2S | E11: 1 | F11: 1 | I11: M
B12: 9 | C12: P609 | D12: RNW0600C2S | E12: 1 | F12: 1 | I12: M
B13: 10 | C13: P610 | D13: RNW0600C2S | E13: 1 | F13: 1 | I13: M
B14: 11 | C14: P611 | D14: RNW0600C2S | E14: 1 | F14: 1 | I14: M
B15: 12 | C15: P612 | D15: RNW0721A2U | E15: 4 | F15: 1 | I15: M
B16: 13 | C16: P621 | D16: RNW0600C2S | E16: 1 | F16: 1 | G16: RP-W342X9L | I16: M
B17: 14 | C17: P622 | D17: RNW0600C2S | E17: 1 | F17: 1 | I17: M
B18: 15 | C18: P623 | D18: RNW0600C2S | E18: 1 | F18: 1 | I18: M
B19: 16 | C19: P624 | D19: RNW0600C2S | E19: 1 | F19: 1 | I19: M
B20: 17 | C20: P625 | D20: RNW0600C2S | E20: 1 | F20: 1 | I20: M
B21: 18 | C21: P626 | D21: RNW0600C2S | E21: 1 | F21: 1 | I21: M
B22: 19 | C22: P627 | D22: RNW0600C2S | E22: 1 | F22: 1 | I22: M
B23: 20 | C23: P628 | D23: RNW0600C2S | E23: 1 | F23: 1 | I23: M
B24: 21 | C24: P634 | D24: RNW0600C2S | E24: 1 | F24: 1 | I24: M
B25: 22 | C25: P635 | D25: RNW0601A2U | E25: 4 | F25: 1 | I25: M
B26: 23 | C26: P636 | D26: RNW0601A2U | E26: 4 | F26: 1 | I26: M
B27: 24 | C27: P637 | D27: RNW0601A2U | E27: 4 | F27: 1 | I27: M
B28: 25 | C28: P638 | D28: RNW0601A2U | E28: 4 | F28: 1 | I28: M
... B31: 28 | C31: P641 | D31: RNW0600C2S | E31: 1 | F31: 1 | I31: M
A32: 5층 | B32: 1 | C32: P501 | D32: RNW0831A2U | E32: 4 | F32: 1 | G32: RPUW142X9L | H32: 2025.3 | I32: M
B33: 2 | C33: P501 | D33: RNW0831A2U | E33: 4 | F33: 1 | I33: M
B34: 3 | C34: P502 | D34: RNW0721A2U | E34: 4 | F34: 1 | I34: M
B35: 4 | C35: P502 | D35: RNW0721A2U | E35: 4 | F35: 1 | I35: M
B36: 5 | C36: P502 | D36: RNW0721A2U | E36: 4 | F36: 1 | I36: M
B37: 6 | C37: 분석실2 | D37: RNW0601A2U | E37: 4 | F37: 1 | G37: RPUW162X9L | I37: M
B38: 7 | C38: 분석실2 | D38: RNW0601A2U | E38: 4 | F38: 1 | I38: M
B39: 8 | C39: 분석실2 | D39: RNW0601A2U | E39: 4 | F39: 1 | I39: M
B40: 9 | C40: 분석실2 | D40: RNW0400C2S | E40: 1 | F40: 1 | I40: M
B41: 10 | C41: 분석실1 | D41: RNW0831A2U | E41: 4 | F41: 1 | I41: M
B42: 11 | C42: 분석실1 | D42: RNW0831A2U | E42: 4 | F42: 1 | I42: M
B43: 12 | C43: P503-1 | D43: RNW0831A2U | E43: 4 | F43: 1 | G43: RP-W302X9L | I43: M
B44: 13 | C44: P503-1 | D44: RNW0831A2U | E44: 4 | F44: 1 | I44: M
B45: 14 | C45: P503 | D45: RNW100A2U | E45: 4 | F45: 1 | I45: M
B46: 15 | C46: P503 | D46: RNW100A2U | E46: 4 | F46: 1 | I46: M
B47: 16 | C47: P504 | D47: RNW0831A2U | E47: 4 | F47: 1 | I47: M
B48: 17 | C48: P504 | D48: RNW0831A2U | E48: 4 | F48: 1 | I48: M
B49: 18 | C49: P505 | D49: RNW0831A2U | E49: 4 | F49: 1 | I49: M
B50: 19 | C50: P505 | D50: RNW0831A2U | E50: 4 | F50: 1 | I50: M
B51: 20 | C51: 장비실 | D51: RNW0601A2U | E51: 4 | F51: 1 | I51: M
A52: 4층 | B52: 1 | C52: 402-1호 | D52: RNW100P2S | E52: 4 | F52: 1 | G52: RPUW14GX9E | H52: 2021.11 | I52: M
B53: 2 | C53: 402-2호 | D53: RNW1000T2S | E53: 4 | F53: 1 | I53: M
B54: 3 | C54: 402-3호 | D54: RNW1300T2S | E54: 4 | F54: 1 | I54: M
B55: 4 | C55: 402-4호 | D55: RNW1300T2S | E55: 4 | F55: 1 | I55: M
B56: 5 | C56: 403-1호 | D56: RNW100P2S | E56: 4 | F56: 1 | G56: RPUW16GX9E | I56: M
B57: 6 | C57: 403-2호 | D57: RNW1000T2S | E57: 4 | F57: 1 | I57: M
B58: 7 | C58: 403-3호 | D58: RNW1300T2S | E58: 4 | F58: 1 | I58: M
B59: 8 | C59: 403-4호 | D59: RNW1300T2S | E59: 4 | F59: 1 | I59: M
B60: 9 | C60: P401-1호 | D60: RNW0830A2U | E60: 4 | F60: 1 | G60: RPUW16GX9E | H60: 2022.1 | I60: M
B61: 10 | C61: P401-2호 | D61: RNW0830A2U | E61: 4 | F61: 1 | I61: M
B62: 11 | C62: P401-3호 | D62: RNW0830A2U | E62: 4 | F62: 1 | I62: M
B63: 12 | C63: P401-4호 | D63: RNW0830A2U | E63: 4 | F63: 1 | I63: M
B64: 13 | C64: P404호 | D64: RNW1450A2U | E64: 4 | F64: 1 | I64: M
B65: 14 | C65: P405호 | D65: RNW1300A2U | E65: 4 | F65: 1 | I65: M
B66: 15 | C66: AI 융합행정실 | D66: RNW0520A2U | E66: 4 | F66: 1 | G66: RPUW14GX9E | H66: 2021.7 | I66: M
B67: 16 | C67: AI 융합행정실 | D67: RNW0520A2U | E67: 4 | F67: 1 | I67: M
B68: 17 | C68: AI 융합행정실 | D68: RNW0400A2U | E68: 4 | F68: 1 | I68: M
A69: 3층 | B69: 1 | C69: 304-1 | D69: LRD-N1457TJ | E69: 4 | F69: 1 | G69: #3LRP-N2908D | I69: M
B70: 2 | C70: 304-2 | D70: LRD-N1457TJ | E70: 4 | F70: 1 | I70: M
B71: 3 | C71: P305 | D71: RNW0831A2U | E71: 4 | F71: 1 | G71: RP-W222X9L | H71: 2025.2 | I71: M
B72: 4 | C72: P305 | D72: RNW0831A2U | E72: 4 | F72: 1 | I72: M
B73: 5 | C73: P306 | D73: RNW0831A2U | E73: 4 | F73: 1 | I73: M
B74: 6 | C74: P306 | D74: RNW0831A2U | E74: 4 | F74: 1 | I74: M
B75: 7 | C75: P307 | D75: RNW0601G2S | E75: 2 | F75: 1 | I75: M
B76: 8 | C76: P308 | D76: RNW0601G2S | E76: 2 | F76: 1 | I76: M
B77: 9 | C77: P309 | D77: RNW0601G2S | E77: 2 | F77: 1 | I77: M
B78: 10 | C78: P309 | D78: RNW0601G2S | E78: 2 | F78: 1 | I78: M
A79: 2층 | B79: 1 | C79: P201-1호 | D79: RNW1000A2S | E79: 4 | F79: 1 | G79: RPUW221X9P | H79: 2021.12 | I79: M
B80: 2 | C80: P201-2호 | D80: RNW1000A2S | E80: 4 | F80: 1 | I80: M
B81: 3 | C81: P202-1호 | D81: RNW1000A2S | E81: 4 | F81: 1 | I81: M
B82: 4 | C82: P202-2호 | D82: RNW1000A2S | E82: 4 | F82: 1 | I82: M
B83: 5 | C83: P203호 | D83: RNW1300A2U | E83: 4 | F83: 1 | I83: M
B84: 6 | C84: P205-1호 | D84: RNW1100A2U | E84: 4 | F84: 1 | I84: M
B85: 7 | C85: P205-2호 | D85: RNW1100A2U | E85: 4 | F85: 1 | I85: M
B86: 8 | C86: P207호 | D86: RNW1100A2U | E86: 4 | F86: 1 | I86: M
B87: 9 | C87: P207호 | D87: RNW1000A2S | E87: 4 | F87: 1 | G87: RPUW101S9S | H87: 2025.2 | I87: M
B88: 10 | C88: P206호 | D88: RNW0721A2U | E88: 4 | F88: 1 | I88: M
B89: 11 | C89: P206호 | D89: RNW0721A2U | E89: 4 | F89: 1 | I89: M
B90: 12 | C90: P204호(좌선실1) | D90: RNW0830A2U | E90: 4 | F90: 1 | G90: RPUW081S9S | H90: 2024.2 | I90: M
B91: 13 | C91: P204호(좌선실2) | D91: RNW0830A2U | E91: 4 | F91: 1 | I91: M
B92: 14 | C92: P204호(좌선실3) | D92: RNW0600A2U | E92: 4 | F92: 1 | I92: M
B93: 15 | C93: P204호(좌선실4) | D93: RNW0600A2U | E93: 4 | F93: 1 | G93: RPUW081S9S | H93: 2024.2 | I93: M
B94: 16 | C94: P204호(좌선실5) | D94: RNW1450P2S | E94: 4 | F94: 1 | I94: M
A95: 1층 | B95: 1 | C95: P201 | D95: RNW0721A2U | E95: 4 | F95: 1 | G95: RP-W242X9L | H95: 2025.2 | I95: M
B96: 2 | C96: P202 | D96: RNW0831A2U | E96: 4 | F96: 1 | I96: M
B97: 3 | C97: P203 | D97: RNW0721A2U | E97: 4 | F97: 1 | I97: M
B98: 4 | C98: P204 | D98: RNW0831A2U | E98: 4 | F98: 1 | I98: M
B99: 5 | C99: P205 | D99: RNW1000A2S | E99: 4 | F99: 1 | I99: M
B100: 6 | C100: P210 | D100: RNW0721A2U | E100: 4 | F100: 1 | I100: M
B101: 7 | C101: P211 | D101: RNW0721A2U | E101: 4 | F101: 1 | I101: M
B102: 8 | C102: P212 | D102: RNW0601A2U | E102: 4 | F102: 1 | I102: M
B103: 9 | C103: P213 | D103: RNW0601A2U | E103: 4 | F103: 1 | I103: M
...

Sheet 다향관
A1: LG EHP 장비현황 다향관
A3: 층 | C3: 실내명 | D3: 실내기 모델 | E3: 종류 | F3: 수량 | G3: 실외기모델 | H3: 설치년도 | I3: 형식 | J3: 비고
A4: 3층 | B4: 1 | C4: 4 | D4: LRD-N1457T | E4: 4 | F4: 1 | G4: #1 LRP-V8708D | H4: 2011.7 | I4: M
B5: 2 | C5: 4 | D5: LRD-N1457T | E5: 4 | F5: 1 | I5: M
B6: 3 | C6: 4 | D6: LRD-N1457T | E6: 4 | F6: 1 | I6: M
B7: 4 | C7: 4 | D7: LRD-N1457T | E7: 4 | F7: 1 | I7: M
B8: 5 | C8: 4 | D8: LRD-N1457T | E8: 4 | F8: 1 | I8: M
B9: 6 | C9: 4 | D9: LRD-N1457T | E9: 4 | F9: 1 | I9: M
B10: 7 | C10: A/S 실 | D10: TNW0720P2S | E10: 4 | F10: 1 | G10: TUW0720P2S | I10: S
A11: 2층 | B11: 1 | C11: 컴퓨터실 | D11: RNW0831T2S | E11: 4 | F11: 1 | G11: RPUW102X9L | H11: 2026.2 | I11: M
B12: 2 | C12: 컴퓨터실 | D12: RNW0831T2S | E12: 4 | F12: 1 | I12: M
B13: 3 | C13: 컴퓨터실 | D13: RNW0831T2S | E13: 4 | F13: 1 | I13: M
A14: 1층 | B14: 1 | C14: 컴퓨터실-2 (노트북존) | D14: R-W1100A2U | E14: 4 | F14: 4 | G14: RPUW16GX9E | H14: 2025.2 | I14: M
B15: 2 | C15: 컴퓨터실-3 (노트북존) | D15: R-W0720A2U | E15: 4 | F15: 4 | G15: RPUW16GX9E | I15: M
B16: 3 | C16: 109 세미나실1 | D16: R-W0520C2S | E16: 1 | F16: 1 | I16: M
B17: 4 | C17: 109 세미나실2 | D17: R-W0520C2S | E17: 1 | F17: 1 | I17: M
B18: 5 | C18: 109 세미나실3 | D18: R-W0520C2S | E18: 1 | F18: 1 | I18: M
B19: 6 | C19: 컴퓨터실-1 | D19: R-W1000A2U | E19: 4 | F19: 1 | G19: RPUW12GX9E | I19: M
B20: 7 | C20: 컴퓨터실-2 | D20: R-W1000A3U | E20: 4 | F20: 1
B21: 8 | C21: 컴퓨터실-3 | D21: R-W1000A4U | E21: 4 | F21: 1
A22: 장비계 | F22: =SUM(F4:F21) -> 24 | G22: 6

Sheet 혜화관
A1: LG EHP 장비현황 혜화관
A3: 층 | C3: 실내명 | D3: 실내기 모델 | E3: 종류 | F3: 수량 | G3: 실외기모델 | H3: 제조년도 | I3: 형식 | J3: 비고
A4: 6층(좌) | B4: 1 | C4: 207-614-1호 | D4: RNW1450T2S | E4: 4 | F4: 1 | G4: RPUW20GX9E | H4: 2019.12 | I4: M
B5: 2 | C5: 207-614-2호 | D5: RNW1450T2S | E5: 4 | F5: 1 | I5: M
B6: 3 | C6: 207-615-1호 | D6: RNW1450T2S | E6: 4 | F6: 1 | I6: M
B7: 4 | C7: 207-615-2호 | D7: RNW1450T2S | E7: 4 | F7: 1 | I7: M
B8: 5 | C8: 207-642-1호 | D8: RNW0720A2U | E8: 4 | F8: 1 | G8: RPUW20GX9E | H8: 2022.11 | I8: M
B9: 6 | C9: 207-642-2호 | D9: RNW0720A2U | E9: 4 | F9: 1 | I9: M
B10: 7 | C10: 207-642-3호 | D10: RNW0720A2U | E10: 4 | F10: 1 | I10: M
B11: 8 | C11: 207-601호 | D11: RNW0830A2U | E11: 4 | F11: 1 | I11: M
B12: 9 | C12: 207-603호 | D12: RNW0720A2U | E12: 4 | F12: 1 | I12: M
B13: 10 | C13: 207-604-1호 | D13: RNW0830A2U | E13: 4 | F13: 1 | I13: M
B14: 11 | C14: 207-604-2호 | D14: RNW0830A2U | E14: 4 | F14: 1 | I14: M
B15: 12 | C15: 207-606호 | D15: RNW0521G2S | E15: 2 | F15: 1 | G15: RPUW12GX9E | H15: 2022.11 | I15: M
B16: 13 | C16: 207-607호 | D16: RNW0521G2S | E16: 2 | F16: 1 | I16: M
B17: 14 | C17: 207-608호 | D17: RNW0521G2S | E17: 2 | F17: 1 | I17: M
B18: 15 | C18: 207-610호 | D18: RNW0520C2S | E18: 1 | F18: 1 | I18: M
B19: 16 | C19: 207-612-1호 | D19: RNW0830A2U | E19: 4 | F19: 1 | I19: M
B20: 17 | C20: 207-612-2호 | D20: RNW0830A2U | E20: 4 | F20: 1 | I20: M
A21: 6층(우) | B21: 1 | C21: 207-617-1호 | D21: RNW0830A2U | E21: 4 | F21: 1 | G21: RPUW20GX9E | H21: 2022.11 | I21: M
B22: 2 | C22: 207-617-2호 | D22: RNW0830A2U | E22: 4 | F22: 1 | I22: M
B23: 3 | C23: 207-617-3호 | D23: RNW0830A2U | E23: 4 | F23: 1 | I23: M
B24: 4 | C24: 207-617-4호 | D24: RNW0830A2U | E24: 4 | F24: 1 | I24: M
B25: 5 | C25: 207-620-1호 | D25: RNW0600A2U | E25: 4 | F25: 1 | I25: M
B26: 6 | C26: 207-620-2호 | D26: RNW0830A2U | E26: 4 | F26: 1 | I26: M
B27: 7 | C27: 207-622호 | D27: RNW0521G2S | E27: 2 | F27: 1 | I27: M
B28: 8 | C28: 207-623호 | D28: RNW0200C2S | E28: 1 | F28: 1 | I28: M
B29: 9 | C29: 207-623호 | D29: RNW0200C2S | E29: 1 | F29: 1 | I29: M
B30: 10 | C30: 207-623호 | D30: RNW0600A2U | E30: 4 | F30: 1 | G30: RPUW16GX9E | H30: 2022.11 | I30: M
B31: 11 | C31: 207-623호-1 | D31: RNW0830A2U | E31: 4 | F31: 1 | I31: M
B32: 12 | C32: 207-625-1호 | D32: RNW0720A2U | E32: 4 | F32: 1 | I32: M
B33: 13 | C33: 207-625-2호 | D33: RNW0720A2U | E33: 4 | F33: 1 | I33: M
B34: 14 | C34: 207-628-1호 | D34: RNW1000A2U | E34: 4 | F34: 1 | I34: M
B35: 15 | C35: 207-628-2호 | D35: RNW1000A2U | E35: 4 | F35: 1 | I35: M
B36: 16 | C36: 207-631-1호 | D36: RNW0200C2S | E36: 1 | F36: 1 | I36: M
B37: 17 | C37: 207-631-2호 | D37: RNW0320C2S | E37: 1 | F37: 1 | I37: M
B38: 18 | C38: 207-631-3호 | D38: RNW0720A2U | E38: 4 | F38: 1 | I38: M
B39: 19 | C39: 207-634호 | D39: RNW0720A2U | E39: 4 | F39: 1 | G39: RPUW12GX9E | H39: 2022.11 | I39: M
B40: 20 | C40: 207-636호 | D40: RNW0720A2U | E40: 4 | F40: 1 | I40: M
B41: 21 | C41: 207-637호 | D41: RNW1000A2U | E41: 4 | F41: 1 | I41: M
B42: 22 | C42: 207-639호 | D42: RNW1000A2U | E42: 4 | F42: 1 | I42: M
B43: 23 | C43: 207-640호 | D43: RNW0600A2U | E43: 4 | F43: 1 | I43: M
A44: 5층(좌) | B44: 1 | C44: 207-543호 | D44: RNW0830A2U | E44: 4 | F44: 1 | G44: RPUW14GX9E | H44: 2022. 10 | I44: M
B45: 2 | C45: 207-501-1호 | D45: RNW1000A2U | E45: 4 | F45: 1 | I45: M
B46: 3 | C46: 207-501-2호 | D46: RNW0600A2U | E46: 4 | F46: 1 | I46: M
B47: 4 | C47: 207-504-1호 | D47: RNW0720A2U | E47: 4 | F47: 1 | I47: M
B48: 5 | C48: 207-504-2호 | D48: RNW0720A2U | E48: 4 | F48: 1 | I48: M
B49: 6 | C49: 207-504-3호 | D49: RNW0720A2U | E49: 4 | F49: 1 | I49: M
B50: 7 | C50: 207-505호 | D50: RNW0520A2U | E50: 4 | F50: 1 | G50: RPUW14GX9E | H50: 2022. 10 | I50: M
B51: 8 | C51: 207-506호 | D51: RNW0720A2U | E51: 4 | F51: 1 | I51: M
B52: 9 | C52: 207-507호 | D52: RNW0600A2U | E52: 4 | F52: 1 | I52: M
B53: 10 | C53: 207-508호 | D53: RNW0230C2S | E53: 1 | F53: 1 | I53: M
B54: 11 | C54: 207-510호 | D54: RNW0230C2S | E54: 1 | F54: 1 | I54: M
B55: 12 | C55: 207-512-1호 | D55: RNW0830A2U | E55: 4 | F55: 1 | G55: RPUW14FX9V | H55: 2022.6 | I55: M
B56: 13 | C56: 207-512-2호 | D56: RNW0830A2U | E56: 4 | F56: 1 | I56: M
B57: 14 | C57: 207-514-1호 | D57: RNW0830A2U | E57: 4 | F57: 1 | I57: M
B58: 15 | C58: 207-514-2호 | D58: RNW0830A2U | E58: 4 | F58: 1 | I58: M
A59: 5층(우) | B59: 1 | C59: 520-1호(미래융합) | D59: RNW1450T2S | E59: 4 | F59: 1 | G59: RPUW20GX9E | H59: 2019.2 | I59: M
B60: 2 | C60: 520-2호(미래융합) | D60: RNW1450T2S | E60: 4 | F60: 1 | I60: M
B61: 3 | C61: 520-3호(미래융합) | D61: RNW1450T2S | E61: 4 | F61: 1 | I61: M
B62: 4 | C62: 520-4호(미래융합) | D62: RNW1450T2S | E62: 4 | F62: 1 | I62: M
B63: 5 | C63: 207-517-1호 | D63: RNW1000A2U | E63: 4 | F63: 1 | G63: RPUW20GX9E | H63: 2022.11 | I63: M
B64: 6 | C64: 207-517-2호 | D64: RNW1000A2U | E64: 4 | F64: 1 | I64: M
B65: 7 | C65: 207-522호 | D65: RNW1100A2U | E65: 4 | F65: 1 | I65: M
B66: 8 | C66: 207-523호 | D66: RNW1100A2U | E66: 4 | F66: 1 | I66: M
B67: 9 | C67: 207-525호 | D67: RNW1300A2U | E67: 4 | F67: 1 | I67: M
B68: 10 | C68: 207-527호 | D68: RNW0320C2S | E68: 1 | F68: 1 | I68: M
B69: 11 | C69: 207-528호 | D69: RNW0320C2S | E69: 1 | F69: 1 | I69: M
B70: 12 | C70: 207-529호 | D70: RNW0320C2S | E70: 1 | F70: 1 | G70: RPUW12GX9E | H70: 2022.8 | I70: M
B71: 13 | C71: 207-530호 | D71: RNW0320C2S | E71: 1 | F71: 1 | I71: M
B72: 14 | C72: 207-531호 | D72: RNW0400A2U | E72: 4 | F72: 1 | I72: M
B73: 15 | C73: 207-532호 | D73: RNW0230C2S | E73: 1 | F73: 1 | I73: M
B74: 16 | C74: 207-533호 | D74: RNW0230C2S | E74: 1 | F74: 1 | I74: M
B75: 17 | C75: 207-533-1호 | D75: RNW0230C2S | E75: 1 | F75: 1 | I75: M
B76: 18 | C76: 207-534호 | D76: RNW0720A2U | E76: 4 | F76: 1 | I76: M
B77: 19 | C77: 207-537-1호 | D77: RNW0200C2S | E77: 1 | F77: 1 | G77: RPUW10GX9E | H77: 2024.8 | I77: M
B78: 20 | C78: 207-537-2호 | D78: RNW0200C2S | E78: 1 | F78: 1 | I78: M
B79: 21 | C79: 207-537-3호 | D79: RNW0320C2S | E79: 1 | F79: 1 | I79: M
B80: 22 | C80: 207-538-1호 | D80: RNW0720A2U | E80: 4 | F80: 1 | H80: 2022.12 | I80: M
B81: 23 | C81: 207-538-2호 | D81: RNW0720A2U | E81: 4 | F81: 1 | I81: M
B82: 24 | C82: 207-539호 | D82: RNW0720A2U | E82: 4 | F82: 1 | I82: M
B83: 25 | C83: 207-540호 | D83: RNW0830A2U | E83: 4 | F83: 1 | I83: M
A84: 4층(좌) | B84: 1 | C84: 403호 | D84: RNW0830T2S | E84: 4 | F84: 1 | G84: RPW341X9H | H84: 2015.12 | I84: M
B85: 2 | C85: 404호 | D85: RNW0830T2S | E85: 4 | F85: 1 | I85: M
B86: 3 | C86: 405호 | D86: RNW0830T2S | E86: 4 | F86: 1 | I86: M
B87: 4 | C87: 406호 | D87: RNW0830T2S | E87: 4 | F87: 1 | I87: M
B88: 5 | C88: 408-1호 | D88: RNW0200C2S | E88: 1 | F88: 1 | I88: M
B89: 6 | C89: 408-2호 | D89: RNW0520C2S | E89: 1 | F89: 1 | I89: M
B90: 7 | C90: 410호 | D90: RNW0320C2S | E90: 1 | F90: 1 | I90: M
B91: 8 | C91: 411호 | D91: RNW0720T2S | E91: 4 | F91: 1 | I91: M
B92: 9 | C92: 412호 | D92: RNW1100T2S | E92: 4 | F92: 1 | I92: M
B93: 10 | C93: 413호 | D93: RNW1100T2S | E93: 4 | F93: 1 | I93: M
B94: 11 | C94: 414호 | D94: RNW1100T2S | E94: 4 | F94: 1 | I94: M
B95: 12 | C95: 415호 | D95: RNW1100T2S | E95: 4 | F95: 1 | I95: M
A96: 4층(중) | B96: 1 | C96: 416호 | D96: RNW0720T2S | E96: 4 | F96: 1 | G96: RPW301X9H | H96: 2015.12 | I96: M
B97: 2 | C97: 418-1호 | D97: RNW1000T2S | E97: 4 | F97: 1 | I97: M
B98: 3 | C98: 418-2호 | D98: RNW0720T2S | E98: 4 | F98: 1 | I98: M
B99: 4 | C99: 418-3호 | D99: RNW0320C2S | E99: 1 | F99: 1 | I99: M
B100: 5 | C100: 418-4호 | D100: RNW0720T2S | E100: 4 | F100: 1 | I100: M
B101: 6 | C101: 420-1호 | D101: RNW0720T2S | E101: 4 | F101: 1 | I101: M
...

Sheet 혜화별관
A1: LG EHP 장비현황 혜화별관
A3: 층 | B3: 순위 | C3: 실내명 | D3: 실내기 모델 | E3: 종류 | F3: 수량 | G3: 실외기모델 | H3: 제조년도 | I3: 형식 | J3: 비고
A4: 1층 | B4: 1 | C4: H103호 | D4: RNW1300A2S | E4: 4 | F4: 1 | G4: RPUW100S9S | H4: 2021.02 | I4: M
B5: 2 | C5: H104호 | D5: RNW0720A2S | E5: 4 | F5: 1 | I5: M
C6: 스튜디오 조정실 | D6: TNW0900M2S | E6: 4 | F6: 1 | G6: TUW0900M2S | H6: 2017.5 | I6: S
C7: 스튜디오 1실 | D7: TNW0900M2S | E7: 4 | F7: 1 | G7: TUW0900M2S | H7: 2017.5 | I7: S
C8: 스튜디오 2실 | D8: TNW0900M2S | E8: 4 | F8: 1 | G8: TUW0900M2S | H8: 2017.5 | I8: S
C9: 103호 | D9: TNW0720B2SR | E9: 4 | F9: 1 | G9: UUW072042SR | H9: 2021.08 | I9: S
A10: 2층 | B10: 3 | C10: H203-1호 | D10: RNW1300A2S | E10: 4 | F10: 1 | G10: RPUW141X9P | H10: 2020.12 | I10: M
B11: 4 | C11: H203-2호 | D11: RNW0720A2S | E11: 4 | F11: 1 | I11: M
B12: 5 | C12: H204-1호 | D12: RNW1450A2S | E12: 4 | F12: 1 | I12: M
B13: 6 | C13: H204-2호 | D13: RNW1450A2S | E13: 4 | F13: 1 | I13: M
A14: 3층 | B14: 7 | C14: H301 | D14: LRD-N1107T | E14: 4 | F14: 1 | G14: LRP-N1608D | H14: 2010.4 | I14: M
B15: 8 | C15: H302 | D15: LRD-N1107T | E15: 4 | F15: 1 | I15: M
B16: 9 | C16: H303 | D16: LRD-N1107T | E16: 4 | F16: 1 | I16: M
B17: 10 | C17: H304 | D17: LRD-N1107T | E17: 4 | F17: 1 | I17: M
B18: 11 | C18: H305 | D18: LRD-N405C | E18: 1 | F18: 1 | I18: M
B19: 12 | C19: H306 | D19: LRD-N405C | E19: 1 | F19: 1 | G19: LRP-N4107D | I19: M
B20: 13 | C20: H307 | D20: LRD-N405C | E20: 1 | F20: 1 | I20: M
B21: 14 | C21: H307 | D21: LRD-N405C | E21: 1 | F21: 1 | I21: M
B22: 15 | C22: H307 | D22: LRD-N1107T | E22: 4 | F22: 1 | I22: M
B23: 16 | C23: H308 | D23: LRD-N1107T | E23: 4 | F23: 1 | I23: M
B24: 17 | C24: H309 | D24: LRD-N405C | E24: 1 | F24: 1 | I24: M
B25: 18 | C25: 복도 | D25: LRD-N607T | E25: 4 | F25: 1 | I25: M
A26: 장비계 | F26: =SUM(F4:F25) -> 22 | G26: 8

Sheet 법학관
A1: LG EHP 장비현황 법학관
A3: 층 | B3: 순위 | C3: 실내명 | D3: 실내기 모델 | E3: 종류 | F3: 수량 | G3: 실외기모델 | H3: 제조년도 | I3: 형식 | J3: 비고
A4: 1층 | B4: 1 | C4: B158-1호(강) | D4: RNW0830A2U | E4: 4 | F4: 1 | G4: 메인RPUW20GX9E서버(RPUW12GX9E) | H4: 2023.7 | I4: M
B5: 2 | C5: B158-2호(강) | D5: RNW0830A2U | E5: 4 | F5: 1 | I5: M
B6: 3 | C6: B159호(강) | D6: RNW0830A2U | E6: 4 | F6: 1 | I6: M
B7: 4 | C7: B160호(강) | D7: RNW0830A2U | E7: 4 | F7: 1 | I7: M
B8: 5 | C8: 만해관경비실 | D8: RNW0200C2S | E8: 1 | F8: 1 | I8: M
B9: 6 | C9: B162호(세) | D9: RNW0830A2U | E9: 4 | F9: 1 | I9: M
B10: 7 | C10: B162-1호(세) | D10: RNW0720A2U | E10: 4 | F10: 1 | I10: M
B11: 8 | C11: B161-1호(모의) | D11: RNW0830A2U | E11: 4 | F11: 1 | I11: M
B12: 9 | C12: B161-2호(모의) | D12: RNW0830A2U | E12: 4 | F12: 1 | I12: M
B13: 10 | C13: B161-3호(모의) | D13: RNW0830A2U | E13: 4 | F13: 1 | I13: M
B14: 11 | C14: B161-4호(모의) | D14: RNW0830A2U | E14: 4 | F14: 1 | I14: M
B15: 12 | C15: 모의법정전실 | D15: RNW1000A2U | E15: 4 | F15: 1 | I15: M
B16: 13 | C16: B163-1호(강) | D16: RNW1000A2U | E16: 4 | F16: 1 | G16: 메인RPUW20GX9E서버(RPUW12GX9E) | I16: M
B17: 14 | C17: B163호(강1) | D17: RNW0830A2U | E17: 4 | F17: 1 | I17: M
B18: 15 | C18: B163호(강2) | D18: RNW0830A2U | E18: 4 | F18: 1 | I18: M
B19: 16 | C19: B163호(강3) | D19: RNW0830A2U | E19: 4 | F19: 1 | I19: M
B20: 17 | C20: B164호 | D20: RNW1000A2U | E20: 4 | F20: 1 | I20: M
B21: 18 | C21: B165호(학) | D21: RNW0830A2U | E21: 4 | F21: 1 | I21: M
B22: 19 | C22: B166-1호(사) | D22: RNW0830A2U | E22: 4 | F22: 1 | I22: M
B23: 20 | C23: B166-2호(사) | D23: RNW0830A2U | E23: 4 | F23: 1 | I23: M
B24: 21 | C24: B167-1호(사) | D24: RNW0830A2U | E24: 4 | F24: 1 | I24: M
B25: 22 | C25: B167-2호(사) | D25: RNW0830A2U | E25: 4 | F25: 1 | I25: M
B26: 23 | C26: B168호(원) | D26: RNW0520A2U | E26: 4 | F26: 1 | I26: M
B27: 24 | C27: 열람실 복도1 | D27: RNW1450A2U | E27: 4 | F27: 1 | G27: 메인RPUW12GX9E서버(RPUW12GX9E) | I27: M
B28: 25 | C28: 경비실앞복도2 | D28: RNW1450A2U | E28: 4 | F28: 1 | I28: M
B29: 26 | C29: 경비실 복도3 | D29: RNW1450A2U | E29: 4 | F29: 1 | I29: M
B30: 27 | C30: 경비실 복도4 | D30: RNW1450A2U | E30: 4 | F30: 1 | I30: M
B31: 28 | C31: 경비실 휴게실 | D31: RNW0200C2S | E31: 1 | F31: 1 | I31: M
B32: 29 | C32: 락카툼 | D32: RNW1450A2U | E32: 4 | F32: 1 | I32: M
B33: 30 | C33: 169호(법학) | D33: RNW0400C2S | E33: 4 | F33: 1 | G33: 메인RPUW18GX9E | I33: M
B34: 31 | C34: 170호(상담) | D34: RNW0400C2S | E34: 4 | F34: 1 | I34: M
B35: 32 | C35: 171호(형사) | D35: RNW0400C2S | E35: 4 | F35: 1 | I35: M
B36: 33 | C36: 174호(강) | D36: RNW1000A2U | E36: 4 | F36: 1 | I36: M
B37: 34 | C37: 154호(사법) | D37: RNW0520C2S | E37: 1 | F37: 1 | I37: M
B38: 35 | C38: 155호(공법) | D38: RNW0400C2S | E38: 1 | F38: 1 | I38: M
B39: 36 | C39: 156호(국제) | D39: RNW0400C2S | E39: 1 | F39: 1 | I39: M
B40: 37 | C40: 157호(민주) | D40: RNW0400C2S | E40: 1 | F40: 1 | I40: M
A41: 2층 | B41: 1 | C41: B253호-1 | D41: RNW0830A2S | E41: 4 | F41: 1 | G41: 메인RPUW14EX9H | H41: 2021.12 | I41: M
B42: 2 | C42: B253호-2 | D42: RNW0830A2S | E42: 4 | F42: 1 | I42: M
B43: 3 | C43: B253호-3 | D43: RNW0830A2S | E43: 4 | F43: 1 | I43: M
B44: 4 | C44: B253호-4 | D44: RNW0830A2S | E44: 4 | F44: 1 | I44: M
B45: 5 | C45: B253호-5 | D45: RNW0830A2S | E45: 4 | F45: 1 | I45: M
B46: 6 | C46: B254호(강) | D46: RNW0600A2S | E46: 4 | F46: 1 | G46: 메인RPUW20GX9E서버(RPUW18GX9E) | H46: 2023.7 | I46: M
B47: 7 | C47: B255-1호(강) | D47: RNW0830A2S | E47: 4 | F47: 1 | I47: M
B48: 8 | C48: B255-2호(강) | D48: RNW0830A2S | E48: 4 | F48: 1 | I48: M
B49: 9 | C49: B256-1호(강) | D49: RNW0830A2S | E49: 4 | F49: 1 | I49: M
B50: 10 | C50: B256-2호(강) | D50: RNW0830A2S | E50: 4 | F50: 1 | I50: M
B51: 11 | C51: B257-1호(강) | D51: RNW0830A2S | E51: 4 | F51: 1 | I51: M
B52: 12 | C52: B257-2호(강) | D52: RNW0830A2S | E52: 4 | F52: 1 | I52: M
B53: 13 | C53: B258-1호(강) | D53: RNW0830A2S | E53: 4 | F53: 1 | I53: M
B54: 14 | C54: B258-2호(강) | D54: RNW0830A2S | E54: 4 | F54: 1 | I54: M
B55: 15 | C55: B259-1호(강) | D55: RNW0830A2S | E55: 4 | F55: 1 | I55: M
B56: 16 | C56: B259-2호(강) | D56: RNW0830A2S | E56: 4 | F56: 1 | I56: M
B57: 17 | C57: B264-1호(컴) | D57: RNW0830A2S | E57: 4 | F57: 1 | I57: M
B58: 18 | C58: B264-2호(컴) | D58: RNW0830A2S | E58: 4 | F58: 1 | I58: M
B59: 19 | C59: B260-1호(강) | D59: RNW0830A2S | E59: 4 | F59: 1 | G59: 메인RPUW20GX9E서버(RPUW14GX9E) | I59: M
B60: 20 | C60: B260-2호(강) | D60: RNW0830A2S | E60: 4 | F60: 1 | I60: M
B61: 21 | C61: B261호(강) | D61: RNW1000A2S | E61: 4 | F61: 1 | I61: M
B62: 22 | C62: B262-1호(좌) | D62: RNW0830A2S | E62: 4 | F62: 1 | I62: M
B63: 23 | C63: B262-2호(좌) | D63: RNW1451B2S | E63: 매립 | F63: 1 | I63: M
B64: 24 | C64: B262-3호(좌) | D64: RNW1451B2S | E64: 매립 | F64: 1 | I64: M
B65: 25 | C65: B263호(강) | D65: RNW0830A2S | E65: 4 | F65: 1 | I65: M
B66: 26 | C66: 복도1(열람실) | D66: RNW0600A2U | E66: 4 | F66: 1 | I66: M
B67: 27 | C67: 복도2(열람실) | D67: RNW0600A2U | E67: 4 | F67: 1 | I67: M
B68: 28 | C68: B267호(연구) | D68: RNW0520A2U | E68: 4 | F68: 1 | I68: M
B69: 29 | C69: B268호(연구) | D69: RNW0520A2U | E69: 4 | F69: 1 | I69: M
B70: 30 | C70: B269호(연구) | D70: RNW0520A2U | E70: 4 | F70: 1 | I70: M
A71: 3층 | B71: 1 | C71: B352호(연) | D71: RNW0720A2U | E71: 4 | F71: 1 | G71: 메인RPUW20GX9E서버(RPUW14GX9E) | H71: 2023.7 | I71: M
B72: 2 | C72: B353호(연) | D72: RNW0721G2S | E72: 2 | F72: 1 | I72: M
B73: 3 | C73: B354호(연) | D73: RNW0721G2S | E73: 2 | F73: 1 | I73: M
B74: 4 | C74: B355호(연) | D74: RNW0721G2S | E74: 2 | F74: 1 | I74: M
B75: 5 | C75: B356호(연) | D75: RNW0721G2S | E75: 2 | F75: 1 | I75: M
B76: 6 | C76: B357호(연) | D76: RNW0721G2S | E76: 2 | F76: 1 | I76: M
B77: 7 | C77: B358호(교) | D77: RNW0600C2S | E77: 1 | F77: 1 | I77: M
B78: 8 | C78: B359호(교) | D78: RNW0600C2S | E78: 1 | F78: 1 | I78: M
B79: 9 | C79: B360호(교) | D79: RNW0601G2S | E79: 2 | F79: 1 | I79: M
B80: 10 | C80: B361호(교) | D80: RNW0601G2S | E80: 2 | F80: 1 | I80: M
B81: 11 | C81: B362호(교) | D81: RNW0601G2S | E81: 2 | F81: 1 | I81: M
B82: 12 | C82: B363호(교) | D82: RNW0601G2S | E82: 2 | F82: 1 | I82: M
B83: 13 | C83: B364호(교) | D83: RNW0601G2S | E83: 2 | F83: 1 | I83: M
... B86: 16 | C86: B367호(교) | D86: RNW0601G2S | E86: 2 | F86: 1 | I86: M
B87: 17 | C87: B368호(교) | D87: RNW0601G2S | E87: 2 | F87: 1 | G87: 메인RPUW20GX9E서버(RPUW14GX9E) | I87: M
B88: 18 | C88: B369호(교) | D88: RNW0601G2S | E88: 2 | F88: 1 | I88: M
B89: 19 | C89: B370호(교) | D89: RNW0601G2S | E89: 2 | F89: 1 | I89: M
B90: 20 | C90: B371호(교) | D90: RNW0601G2S | E90: 2 | F90: 1 | I90: M
B91: 21 | C91: B372호(교) | D91: RNW0601G2S | E91: 2 | F91: 1 | I91: M
B92: 22 | C92: B373호(교) | D92: RNW0601G2S | E92: 2 | F92: 1 | I92: M
B93: 23 | C93: B374호 | D93: RNW1000A2U | E93: 4 | F93: 1 | I93: M
B94: 24 | C94: B375호(총학) | D94: RNW0830A2U | E94: 4 | F94: 1 | I94: M
B95: 25 | C95: B378-1호(연) | D95: RNW0830A2U | E95: 4 | F95: 1 | I95: M
B96: 26 | C96: B378-2호(연) | D96: RNW0830A2U | E96: 4 | F96: 1 | I96: M
B97: 27 | C97: B378-3호(연) | D97: RNW0830A2U | E97: 4 | F97: 1 | I97: M
B98: 28 | C98: B380-1호 | D98: RNW0830A2U | E98: 4 | F98: 1 | I98: M
B99: 29 | C99: B380-2호 | D99: RNW0830A2U | E99: 4 | F99: 1 | I99: M
B100: 30 | C100: B381호(학습) | D100: RNW0720A2U | E100: 4 | F100: 1 | I100: M
A101: 4층 | B101: 1 | C101: B452호 | D101: RNW0721G2S | E101: 2 | F101: 1 | G101: 메인RPUW18GX9E서버(RPUW12GX9E) | H101: 2023.7 | I101: M
B102: 2 | C102: B453호 | D102: RNW0601G2S | E102: 2 | F102: 1 | I102: M
B103: 3 | C103: B454호 | D103: RNW0601G2S | E103: 2 | F103: 1 | I103: M
...

Sheet 법학관열람실
A1: LG EHP 장비현황 법학관 열람실
A3: 층 | B3: 순위 | C3: 실내명 | D3: 실내기 모델 | E3: 종류 | F3: 수량 | G3: 실외기모델 | H3: 제조년도 | I3: 형식 | J3: 비고
A4: 1층 | B4: 1 | C4: 열람실1 | D4: R-W1000A2S | E4: 4 | F4: 1 | G4: RP-W301X9H(RPUW14EX9H) | H4: 2020.12 | I4: M
B5: 2 | C5: 열람실2 | D5: R-W1000A2S | E5: 4 | F5: 1 | I5: M
B6: 3 | C6: 열람실3 | D6: R-W1000A2S | E6: 4 | F6: 1 | I6: M
B7: 4 | C7: 열람실4 | D7: R-W1000A2S | E7: 4 | F7: 1 | I7: M
B8: 5 | C8: 열람실5 | D8: R-W1000A2S | E8: 4 | F8: 1 | I8: M
B9: 6 | C9: 열람실6 | D9: R-W1000A2S | E9: 4 | F9: 1 | I9: M
B10: 7 | C10: 열람실7 | D10: R-W1000A2S | E10: 4 | F10: 1 | I10: M
B11: 8 | C11: 열람실8 | D11: R-W1000A2S | E11: 4 | F11: 1 | I11: M
B12: 9 | C12: 열람실9 | D12: R-W1000A2S | E12: 4 | F12: 1 | I12: M
A13: 2층 | B13: 1 | C13: 열람실1 | D13: R-W1100A2S | E13: 4 | F13: 1 | G13: RP-W301X9H(RPUW14EX9H) | H13: 2020.12 | I13: M
B14: 2 | C14: 열람실2 | D14: R-W1100A2S | E14: 4 | F14: 1 | I14: M
B15: 3 | C15: 열람실3 | D15: R-W1100A2S | E15: 4 | F15: 1 | I15: M
B16: 4 | C16: 열람실4 | D16: R-W1100A2S | E16: 4 | F16: 1 | I16: M
B17: 5 | C17: 열람실5 | D17: R-W1100A2S | E17: 4 | F17: 1 | I17: M
B18: 6 | C18: 열람실6 | D18: R-W1100A2S | E18: 4 | F18: 1 | I18: M
B19: 7 | C19: 열람실7 | D19: R-W1100A2S | E19: 4 | F19: 1 | I19: M
B20: 8 | C20: 열람실8 | D20: R-W1100A2S | E20: 4 | F20: 1 | I20: M
A21: 3층 | B21: 1 | C21: 열람실1 | D21: R-W1100A2S | E21: 4 | F21: 1 | G21: RP-W401X9H(RPUW161X9H) | H21: 2020.12 | I21: M
B22: 2 | C22: 열람실2 | D22: R-W1100A2S | E22: 4 | F22: 1 | I22: M
B23: 3 | C23: 열람실3 | D23: R-W1100A2S | E23: 4 | F23: 1 | I23: M
B24: 4 | C24: 열람실4 | D24: R-W1100A2S | E24: 4 | F24: 1 | I24: M
B25: 5 | C25: 열람실5 | D25: R-W1100A2S | E25: 4 | F25: 1 | I25: M
B26: 6 | C26: 열람실6 | D26: R-W1100A2S | E26: 4 | F26: 1 | I26: M
B27: 7 | C27: 열람실7 | D27: R-W1100A2S | E27: 4 | F27: 1 | I27: M
B28: 8 | C28: 열람실8 | D28: R-W1100A2S | E28: 4 | F28: 1 | I28: M
B29: 9 | C29: 열람실9 | D29: R-W1100A2S | E29: 4 | F29: 1 | I29: M
B30: 10 | C30: 열람실10 | D30: R-W1100A2S | E30: 4 | F30: 1 | I30: M
B31: 11 | C31: 열람실11 | D31: R-W1100A2S | E31: 4 | F31: 1 | I31: M
B32: 12 | C32: 열람실12 | D32: R-W1100A2S | E32: 4 | F32: 1 | I32: M
A33: 4층 | B33: 1 | C33: 열람실1 | D33: R-W1100A2S | E33: 4 | F33: 1 | G33: RP-W461X9H(RPUW161X9H) | H33: 2020.12 | I33: M
B34: 2 | C34: 열람실2 | D34: R-W1100A2S | E34: 4 | F34: 1 | I34: M
B35: 3 | C35: 열람실3 | D35: R-W1100A2S | E35: 4 | F35: 1 | I35: M
B36: 4 | C36: 열람실4 | D36: R-W1100A2S | E36: 4 | F36: 1 | I36: M
B37: 5 | C37: 열람실5 | D37: R-W1100A2S | E37: 4 | F37: 1 | I37: M
B38: 6 | C38: 열람실6 | D38: R-W1100A2S | E38: 4 | F38: 1 | I38: M
B39: 7 | C39: 열람실7 | D39: R-W0600A2S | E39: 4 | F39: 1 | I39: M
B40: 8 | C40: 열람실8 | D40: R-W0600A2S | E40: 4 | F40: 1 | I40: M
B41: 9 | C41: 열람실9 | D41: R-W0600A2S | E41: 4 | F41: 1 | I41: M
B42: 10 | C42: 열람실10 | D42: R-W0600A2S | E42: 4 | F42: 1 | I42: M
B43: 11 | C43: 열람실11 | D43: R-W0600A2S | E43: 4 | F43: 1 | I43: M
B44: 12 | C44: 열람실12 | D44: R-W0600A2S | E44: 4 | F44: 1 | I44: M
B45: 13 | C45: 열람실13 | D45: R-W0520A2S | E45: 4 | F45: 1 | I45: M
... B47: 15 | C47: 열람실15 | D47: R-W0520A2S | E47: 4 | F47: 1 | I47: M
A48: 장비계 | F48: =SUM(F4:F47) -> 44 | G48: 4

Sheet 만해관
A1: LG EHP 장비현황 만해관
A3: 층 | B3: 순위 | C3: 실내명 | D3: 실내기 모델 | E3: 종류 | F3: 수량 | G3: 실외기모델 | H3: 제조년도 | I3: 형식 | J3: 비고
A4: B1층 | B4: 1 | C4: B01-1(불연구회) | D4: RNW0520C2S | E4: 4 | F4: 1 | G4: 메인 RPUW20GX9E서버 RPUW14GX9E | H4: 2023.7 | I4: M | J4: LS 네오텍(나재호)
B5: 2 | C5: B01-2(불연구회) | D5: RNW0520C2S | E5: 4 | F5: 1 | I5: M | J5: 010-2647-0847
B6: 3 | C6: B01-3(불연구회) | D6: RNW0520C2S | E6: 4 | F6: 1 | I6: M | J6: 신규설치
B7: 4 | C7: B01-4(불연구회) | D7: RNW0520C2S | E7: 4 | F7: 1 | I7: M
B8: 5 | C8: B02-1호 (석림비) | D8: RNW0520C2S | E8: 4 | F8: 1 | I8: M
B9: 6 | C9: B02-2호 (석림비) | D9: RNW0520C2S | E9: 4 | F9: 1 | I9: M
B10: 7 | C10: B03호(정각원) | D10: RNW0520C2S | E10: 4 | F10: 1 | I10: M
B11: 8 | C11: B04-1호(정각원) | D11: RNW0520C2S | E11: 4 | F11: 1 | I11: M
B12: 9 | C12: B04-2호(정각원) | D12: RNW0520C2S | E12: 4 | F12: 1 | I12: M
B13: 10 | C13: B05호(원장실) | D13: RNW1000G2S | E13: 4 | F13: 1 | I13: M
B14: 11 | C14: B06-1호(일본학) | D14: RNW0600C2S | E14: 4 | F14: 1 | I14: M
B15: 12 | C15: B06-2호(일본학) | D15: RNW0600C2S | E15: 4 | F15: 1 | I15: M
B16: 13 | C16: B07호(상담실) | D16: RNW0600C2S | E16: 4 | F16: 1 | I16: M
B17: 14 | C17: B08-1호(명상실) | D17: RNW0600C2S | E17: 4 | F17: 1 | I17: M
B18: 15 | C18: B08-2호(명상실) | D18: RNW0600C2S | E18: 4 | F18: 1 | I18: M
... B20: 17 | C20: B09-2호(석림회) | D20: RNW0600C2S | E20: 4 | F20: 1 | I20: M
A21: 1층 | B21: 1 | C21: B101호 | D21: RNW0520C2S | E21: 1 | F21: 1 | G21: 메인 RPUW18GX9E서버 RPUW12GX9E | H21: 2023.7 | I21: M
B22: 2 | C22: B102호 | D22: RNW0520C2S | E22: 1 | F22: 1 | I22: M
B23: 3 | C23: B103호 | D23: RNW0520C2S | E23: 1 | F23: 1 | I23: M
B24: 4 | C24: B104호 | D24: RNW0520C2S | E24: 1 | F24: 1 | I24: M
B25: 5 | C25: B105호 | D25: RNW0520C2S | E25: 1 | F25: 1 | I25: M
B26: 6 | C26: B107호 | D26: RNW0520C2S | E26: 1 | F26: 1 | I26: M
B27: 7 | C27: B108호 | D27: RNW0520C2S | E27: 1 | F27: 1 | I27: M
B28: 8 | C28: B109호 | D28: RNW0520C2S | E28: 1 | F28: 1 | I28: M
B29: 9 | C29: B110호 | D29: RNW0520C2S | E29: 1 | F29: 1 | I29: M
B30: 10 | C30: B111호 | D30: RNW0520C2S | E30: 1 | F30: 1 | I30: M
B31: 11 | C31: B-127호 | D31: RNW0721G2S | E31: 2 | F31: 1 | I31: M
B32: 12 | C32: B-128호 | D32: RNW0721G2S | E32: 2 | F32: 1 | I32: M
B33: 13 | C33: B-129-1호 | D33: RNW0601G2S | E33: 2 | F33: 1 | I33: M
... B36: 16 | C36: B-130-2호 | D36: RNW0601G2S | E36: 2 | F36: 1 | I36: M
B37: 17 | C37: B112호 | D37: RNW0520C2S | E37: 1 | F37: 1 | G37: 메인 RPUW18GX9E서버 RPUW12GX9E | I37: M
B38: 18 | C38: B113호 | D38: RNW0520C2S | E38: 1 | F38: 1 | I38: M
B39: 19 | C39: B114호 | D39: RNW0520C2S | E39: 1 | F39: 1 | I39: M
B40: 20 | C40: B115호 | D40: RNW0520C2S | E40: 1 | F40: 1 | I40: M
B41: 21 | C41: B116호 | D41: RNW0520C2S | E41: 1 | F41: 1 | I41: M
B42: 22 | C42: B117호 | D42: RNW0520C2S | E42: 1 | F42: 1 | I42: M
B43: 23 | C43: B118호 | D43: RNW0520C2S | E43: 1 | F43: 1 | I43: M
B44: 24 | C44: B119호 | D44: RNW0721G2S | E44: 2 | F44: 1 | I44: M
B45: 25 | C45: B120호 | D45: RNW0721G2S | E45: 2 | F45: 1 | H45: 2023.7 | I45: M
B46: 26 | C46: B121호 | D46: RNW0721G2S | E46: 2 | F46: 1 | I46: M
B47: 27 | C47: B122호 | D47: RNW0721G2S | E47: 2 | F47: 1 | I47: M
B48: 28 | C48: B123호 | D48: RNW0721G2S | E48: 2 | F48: 1 | I48: M
B49: 29 | C49: B124호 | D49: RNW0721G2S | E49: 2 | F49: 1 | I49: M
B50: 30 | C50: B125-1호 | D50: RNW0721G2S | E50: 2 | F50: 1 | I50: M
B51: 31 | C51: B125-2호(창고) | D51: RNW0230C2S | E51: 1 | F51: 1 | I51: M
B52: 32 | C52: B-126호 | D52: RNW0721G2S | E52: 2 | F52: 1 | I52: M
A53: 2층 | B53: 1 | C53: B201호 | D53: RNW0520C2S | E53: 1 | F53: 1 | G53: 메인 RPUW18GX9E서버 RPUW12GX9E | H53: 2023.7 | I53: M
B54: 2 | C54: B202호 | D54: RNW0520C2S | E54: 1 | F54: 1 | I54: M
B55: 3 | C55: B203호 | D55: RNW0520C2S | E55: 1 | F55: 1 | I55: M
B56: 4 | C56: B204호 | D56: RNW0520C2S | E56: 1 | F56: 1 | I56: M
B57: 5 | C57: B205호 | D57: RNW0520C2S | E57: 1 | F57: 1 | I57: M
B58: 6 | C58: B206-1호 | D58: RNW0520C2S | E58: 1 | F58: 1 | I58: M
B59: 7 | C59: B206-2호 | D59: RNW0520C2S | E59: 1 | F59: 1 | I59: M
B60: 8 | C60: B208호 | D60: RNW0520C2S | E60: 1 | F60: 1 | I60: M
B61: 9 | C61: B209호 | D61: RNW0520C2S | E61: 1 | F61: 1 | H61: 2023.7 | I61: M
B62: 10 | C62: B210호 | D62: RNW0520C2S | E62: 1 | F62: 1 | I62: M
B63: 11 | C63: B211호 | D63: RNW0520C2S | E63: 1 | F63: 1 | I63: M
B64: 12 | C64: B227호 | D64: RNW0601G2S | E64: 2 | F64: 1 | I64: M
B65: 13 | C65: B228호 | D65: RNW0601G2S | E65: 2 | F65: 1 | I65: M
B66: 14 | C66: B229호 | D66: RNW0601G2S | E66: 2 | F66: 1 | I66: M
B67: 15 | C67: B230호 | D67: RNW0601G2S | E67: 2 | F67: 1 | I67: M
B68: 16 | C68: B231호 | D68: RNW0601G2S | E68: 2 | F68: 1 | I68: M
B69: 17 | C69: B212호 | D69: RNW0520C2S | E69: 1 | F69: 1 | G69: 메인 RPUW18GX9E서버 RPUW12GX9E | I69: M
B70: 18 | C70: B213호 | D70: RNW0520C2S | E70: 1 | F70: 1 | I70: M
B71: 19 | C71: B214호 | D71: RNW0520C2S | E71: 1 | F71: 1 | I71: M
B72: 20 | C72: B215호 | D72: RNW0520C2S | E72: 1 | F72: 1 | I72: M
B73: 21 | C73: B216호 | D73: RNW0520C2S | E73: 1 | F73: 1 | I73: M
B74: 22 | C74: B217호 | D74: RNW0520C2S | E74: 1 | F74: 1 | I74: M
B75: 23 | C75: B218호 | D75: RNW0520C2S | E75: 1 | F75: 1 | I75: M
B76: 24 | C76: B219호 | D76: RNW0521G2S | E76: 2 | F76: 1 | I76: M
B77: 25 | C77: B220호 | D77: RNW0721G2S | E77: 2 | F77: 1 | I77: M
B78: 26 | C78: B221호 | D78: RNW0601G2S | E78: 2 | F78: 1 | I78: M
B79: 27 | C79: B222호 | D79: RNW0601G2S | E79: 2 | F79: 1 | I79: M
B80: 28 | C80: B223호 | D80: RNW0601G2S | E80: 2 | F80: 1 | I80: M
B81: 29 | C81: B224호 | D81: RNW0601G2S | E81: 2 | F81: 1 | I81: M
... B84: 32 | C84: B226호 | D84: RNW0601G2S | E84: 2 | F84: 1 | I84: M
A85: 3층 | B85: 1 | C85: B301호 | D85: RNW0520C2S | E85: 1 | F85: 1 | G85: 메인 RPUW18GX9E서버 RPUW12GX9E | H85: 2023.7 | I85: M
B86: 2 | C86: B302호 | D86: RNW0520C2S | E86: 1 | F86: 1 | I86: M
B87: 3 | C87: B303호 | D87: RNW0520C2S | E87: 1 | F87: 1 | I87: M
B88: 4 | C88: B304호 | D88: RNW0520C2S | E88: 1 | F88: 1 | I88: M
B89: 5 | C89: B305호 | D89: RNW0520C2S | E89: 1 | F89: 1 | I89: M
B90: 6 | C90: B306호 | D90: RNW0520C2S | E90: 1 | F90: 1 | I90: M
B91: 7 | C91: B307호 | D91: RNW0520C2S | E91: 1 | F91: 1 | I91: M
B92: 8 | C92: B308호 | D92: RNW0520C2S | E92: 1 | F92: 1 | I92: M
B93: 9 | C93: B309호 | D93: RNW0520C2S | E93: 1 | F93: 1 | I93: M
B94: 10 | C94: B310호 | D94: RNW0520C2S | E94: 1 | F94: 1 | I94: M
B95: 11 | C95: B311호 | D95: RNW0520C2S | E95: 1 | F95: 1 | I95: M
B96: 12 | C96: B327호 | D96: RNW0601G2S | E96: 2 | F96: 1 | I96: M
B97: 13 | C97: B328호 | D97: RNW0601G2S | E97: 2 | F97: 1 | I97: M
... B100: 16 | C100: B331호 | D100: RNW0601G2S | E100: 2 | F100: 1 | I100: M
B101: 17 | C101: B312호 | D101: RNW0520C2S | E101: 1 | F101: 1 | G101: 메인 RPUW182X9E서버 RPUW122X9E(멀티V I 고효율) | I101: M
B102: 18 | C102: B313호 | D102: RNW0520C2S | E102: 1 | F102: 1 | I102: M
B103: 19 | C103: B314호 | D103: RNW0520C2S | E103: 1 | F103: 1 | I103: M
B104: 20 | C104: B315호 | D104: RNW0520C2S | E104: 1 | F104: 1 | I104: M
B105: 21 | C105: B316호 | D105: RNW0520C2S | E105: 1 | F105: 1 | I105: M
B106: 22 | C106: B317호 | D106: RNW0520C2S | E106: 1 | F106: 1 | I106: M
B107: 23 | C107: B318호 | D107: RNW0520C2S | E107: 1 | F107: 1 | I107: M
B108: 24 | C108: B319호 | D108: RNW0521G2S | E108: 2 | F108: 1 | I108: M
...

Sheet 계산관B동
A1: LG EHP 장비현황 계산관B동
A3: 층 | B3: 순위 | C3: 실내명 | D3: 실내기 모델 | E3: 종류 | F3: 수량 | G3: 실외기모델 | H3: 제조년도 | I3: 형식 | J3: 비고
A4: 1층 | B4: 1 | C4: 101호 | D4: RNW0520T2S | E4: 4 | F4: 1 | G4: RPUW181X9H | H4: 2020.12 | I4: M
B5: 2 | C5: 102호 | D5: RNW0600T2S | E5: 4 | F5: 1 | H5: 2020.12 | I5: M
B6: 3 | C6: 104호 | D6: RNW1000T2S | E6: 4 | F6: 1 | H6: 2020.11 | I6: M
B7: 4 | C7: 105호 | D7: RNW0720T2S | E7: 4 | F7: 1 | H7: 2021.01 | I7: M
B8: 5 | C8: 106-1호 | D8: RNW0720T2S | E8: 4 | F8: 1 | H8: 2021.01 | I8: M
B9: 6 | C9: 106-2호 | D9: RNW0720T2S | E9: 4 | F9: 1 | H9: 2021.01 | I9: M
B10: 7 | C10: 106-3호 | D10: RNW0720T2S | E10: 4 | F10: 1 | H10: 2021.01 | I10: M
A11: 2층 | B11: 8 | C11: 202-1호 | D11: RNW1000T2S | E11: 4 | F11: 1 | G11: RPUW181X9H | H11: 2020.01 | I11: M
B12: 9 | C12: 202-2호 | D12: RNW0720T2S | E12: 4 | F12: 1 | H12: 2021.01 | I12: M
B13: 10 | C13: 204-1호 | D13: RNW0720T2S | E13: 4 | F13: 1 | H13: 2021.01 | I13: M
B14: 11 | C14: 204-2호 | D14: RNW1000T2S | E14: 4 | F14: 1 | H14: 2021년10 | I14: M
B15: 12 | C15: 205호 | D15: RNW0720T2S | E15: 4 | F15: 1 | H15: 2021.01 | I15: M
B16: 13 | C16: 206-1호 | D16: RNW0520T2S | E16: 4 | F16: 1 | H16: 2020년10 | I16: M
B17: 14 | C17: 206-2호 | D17: RNW0520T2S | E17: 4 | F17: 1 | H17: 2020.09 | I17: M
A18: 3층 | B18: 15 | C18: 301호 | D18: RNW0720T2S | E18: 4 | F18: 1 | G18: RPUW14EX9H | H18: 2021.01 | I18: M
B19: 16 | C19: 302호 | D19: RNW0720T2S | E19: 4 | F19: 1 | H19: 2021.01 | I19: M
B20: 17 | C20: 303호 | D20: RNW0720T2S | E20: 4 | F20: 1 | H20: 2021.01 | I20: M
B21: 18 | C21: 304호 | D21: RNW0520T2S | E21: 4 | F21: 1 | H21: 2020.09 | I21: M
B22: 19 | C22: 305호 | D22: RNW0520T2S | E22: 4 | F22: 1 | H22: 2020년10 | I22: M
B23: 20 | C23: 306호 | D23: RNW0520T2S | E23: 4 | F23: 1 | H23: 2020.06 | I23: M
A24: 장비계 | F24: =SUM(F4:F23) -> 20 | G24: 3

Sheet 계산관A동
A1: LG EHP 장비현황 계산관A동
A3: 층 | C3: 실내명 | D3: 실내기 모델 | E3: 종류 | F3: 수량 | G3: 실외기모델 | H3: 제조년도 | I3: 형식 | J3: 비고
A4: 2층 | B4: 1 | C4: 자아명상실1 | D4: RNW0720A2U | E4: 4 | F4: 1 | G4: RPUW102X9E | H4: 2023.11 | I4: M
B5: 2 | C5: 자아명상실2 | D5: RNW0720A2U | E5: 4 | F5: 1 | I5: M
B6: 3 | C6: 자아명상실3 | D6: RNW0720A2U | E6: 4 | F6: 1 | I6: M
B7: 4 | C7: 자아명상실4 | D7: RNW0720A2U | E7: 4 | F7: 1 | I7: M
A8: 장비계 | F8: =SUM(F4:F7) -> 4 | G8: 1

Sheet 체육관
A1: LG EHP 장비현황 체육관
A3: 층 | C3: 실내명 | D3: 실내기 모델 | E3: 종류 | F3: 수량 | G3: 실외기모델 | H3: 제조년도 | I3: 형식 | J3: 비고
A4: B1층 | B4: 1 | C4: B105-1호 | D4: RNW1450A2U | E4: 4WAY | F4: 1 | G4: RPUW12GX9E | H4: 2023.9 | I4: M | J4: 2023.9
B5: 2 | C5: B105-2호 | D5: RNW1450A2U | E5: 4WAY | F5: 1 | J5: 신규설치 공사
A6: 장비계 | F6: 2 | G6: 1

Sheet 신공학관
A1: LG EHP 장비현황 신공학관
A3: 층 | C3: 실내명 | D3: 실내기 모델 | E3: 종류 | F3: 수량 | G3: 실외기모델 | H3: 제조년도 | I3: 형식 | J3: 비고
A4: 6층 | B4: 1 | C4: 6122호 | D4: RNW1000T2S | E4: 4 | F4: 1 | G4: RPUW14EX9H | H4: 2019.01 | I4: M | J4: 2019.01.12
B5: 2 | C5: 6122호 | D5: RNW1000T2S | E5: 4 | F5: 1 | I5: M | J5: 신설 공사
B6: 3 | C6: 6199호 | D6: RNW1000T2S | E6: 4 | F6: 1 | I6: M
B7: 4 | C7: 6199호 | D7: RNW1000T2S | E7: 4 | F7: 1 | I7: M
A8: 4층 | B8: 1 | C8: 4105호 | D8: PNW1451T9SR | E8: 4 | F8: 1 | G8: PUW1451T9SR | H8: 2019.01 | I8: S
B9: 2 | C9: 4109호 | D9: PNW1451T9SR | E9: 4 | F9: 1 | G9: PUW1451T9SR | H9: 2019.01 | I9: S
A10: 장비계 | F10: =SUM(F4:F9) -> 6 | G10: 3

Sheet 장충지구연구동
A1: LG EHP 장충지구연구동
A3: 층 | C3: 실내명 | D3: 실내기 모델 | E3: 종류 | F3: 수량 | G3: 실외기모델 | H3: 제조년도 | I3: 형식 | J3: 비고
A4: 1층 | B4: 1 | C4: 101호 | D4: LRD-N727T | E4: 4 | F4: 1 | G4: LRP-N4108DV | H4: 2010.11 | I4: M
B5: 2 | C5: 102호 | D5: LRD-N727T | E5: 4 | F5: 1 | I5: M
B6: 3 | C6: 103호 | D6: LRD-N727T | E6: 4 | F6: 1 | I6: M
B7: 4 | C7: 104호 | D7: LRD-N1007T | E7: 4 | F7: 1 | I7: M
B8: 5 | C8: 107호 | D8: LRD-N837T | E8: 4 | F8: 1 | I8: M
A9: 장비계 | F9: 5 | G9: 1

Sheet 필동관
A1: LG EHP 장비현황 필동관
A3: 층 | C3: 실내명 | D3: 실내기 모델 | E3: 종류 | F3: 수량 | G3: 실외기모델 | H3: 제조년도 | I3: 형식 | J3: 비고
A4: 2층 | B4: 1 | C4: 실험실1 | D4: RNW0520A2U | E4: 4 | F4: 1 | G4: RPUW12GX9E | H4: 2024.3 | I4: M
B5: 2 | C5: 실험실2 | D5: RNW0520A2U | E5: 4 | F5: 1 | I5: M
B6: 3 | C6: 실험실3 | D6: RNW0520A2U | E6: 4 | F6: 1 | I6: M
B7: 4 | C7: 실험실4 | D7: RNW0830A2U | E7: 4 | F7: 1 | I7: M
B8: 5 | C8: 실험실5 | D8: RNW0830A2U | E8: 4 | F8: 1 | I8: M
A9: 장비계 | F9: 5 | G9: 1

Sheet 충무로신관
A1: LG EHP 장비현황 충무로신관
A3: 층 | C3: 실내명 | D3: 실내기 모델 | E3: 종류 | F3: 수량 | G3: 실외기모델 | H3: 제조년도 | I3: 형식 | J3: 비고
A4: B1층 | B4: 1 | C4: 001호(행정실) | D4: LRB-N23AC | E4: 1 | F4: 1 | G4: LRP-N5805B (#2) | H4: 2006.1 | I4: M
B5: 2 | C5: 002호(포스터) | D5: LRB-N40AC | E5: 1 | F5: 1 | I5: M
B6: 3 | C6: 편집실1 | D6: LRB-N23AC | E6: 1 | F6: 1 | I6: M
B7: 4 | C7: 편집실2 | D7: LRB-N32AC | E7: 1 | F7: 1 | I7: M
B8: 5 | C8: 편집실3 | D8: LRB-N23AC | E8: 4 | F8: 1 | I8: M
B9: 6 | C9: 편집실4 | D9: LRB-N23AC | E9: 1 | F9: 1 | I9: M
B10: 7 | C10: 편집실5 | D10: LRB-N32AC | E10: 1 | F10: 1 | I10: M
B11: 8 | C11: 편집실6 | D11: LRB-N32AC | E11: 1 | F11: 1 | I11: M
B12: 9 | C12: 003호(기재1) | D12: LRB-N23AC | E12: 1 | F12: 1 | I12: M
B13: 10 | C13: 003호(기재2) | D13: LRB-N23AC | E13: 1 | F13: 1 | I13: M
B14: 11 | C14: 013호(미디어) | D14: LRB-N1105T | E14: 1 | F14: 1 | I14: M
B15: 12 | C15: 014호(사운드) | D15: LRB-N40AC | E15: 1 | F15: 1 | I15: M
B16: 13 | C16: 015호(프로젝트) | D16: LRB-N40AC | E16: 1 | F16: 1 | I16: M
B17: 1 | C17: 멘토공간1 | D17: RNW0720A2U | E17: 4 | F17: 1 | G17: RPUW14GX9E | H17: 2023.8 | I17: M
B18: 2 | C18: 멘토공간2 | D18: RNW0720A2U | E18: 4 | F18: 1 | I18: M
B19: 3 | C19: 메타버스강의실1 | D19: RNW0600A2U | E19: 4 | F19: 1 | I19: M
B20: 4 | C20: 메타버스강의실2 | D20: RNW0600A2U | E20: 4 | F20: 1 | I20: M
B21: 5 | C21: 메타버스강의실3 | D21: RNW0600A2U | E21: 4 | F21: 1 | I21: M
B22: 6 | C22: 메타버스강의실4 | D22: RNW0600A2U | E22: 4 | F22: 1 | I22: M
A23: 2층 | C23: 208호 | D23: LTNW403SU | E23: 1 | F23: 1 | G23: LTUW403SU | H23: 2017.8 | I23: S
C24: 208-1호 | D24: LTNW403SU | E24: 1 | F24: 1 | G24: LTUW403SU | H24: 2017.8 | I24: S
A25: 장비계 | F25: =SUM(F4:F24) -> 21 | G25: 4

Sheet 충무로본관
A1: LG EHP 장비현황 충무로본관
A3: 층 | C3: 실내명 | D3: 실내기 모델 | E3: 종류 | F3: 수량 | G3: 실외기모델 | H3: 제조년도 | I3: 형 식 | J3: 비고
A4: 1층 | B4: 1 | C4: 보육실1 | D4: RNW0400A2U | E4: 4 | F4: 1 | G4: RPUW161X9P | H4: 2022. 9 | I4: M
B5: 2 | C5: 보육실2 | D5: RNW0400A2U | E5: 4 | F5: 1 | I5: M
B6: 3 | C6: 보육실3 | D6: RNW0400A2U | E6: 4 | F6: 1 | I6: M
B7: 4 | C7: 창고 | D7: RNW0230C2S | E7: 1 | F7: 1 | I7: M
B8: 5 | C8: 청소용역실 | D8: RNW0400C2S | E8: 1 | F8: 1 | I8: M
B9: 6 | C9: 회의실1 | D9: RNW0230C2S | E9: 1 | F9: 1 | I9: M
B10: 7 | C10: 회의실2 | D10: RNW0230C2S | E10: 1 | F10: 1 | I10: M
B11: 8 | C11: 회의실3 | D11: RNW0230C2S | E11: 1 | F11: 1 | I11: M
B12: 9 | C12: 회의실4 | D12: RNW0230C2S | E12: 1 | F12: 1 | I12: M
B13: 10 | C13: 회의실5 | D13: RNW0230C2S | E13: 1 | F13: 1 | I13: M
B14: 11 | C14: 회의실6 | D14: RNW0230C2S | E14: 1 | F14: 1 | I14: M
B15: 12 | C15: 회의실7 | D15: RNW0230C2S | E15: 1 | F15: 1 | I15: M
B16: 13 | C16: 회의실8 | D16: RNW0230C2S | E16: 1 | F16: 1 | I16: M
... B20: 17 | C20: 회의실12 | D20: RNW0230C2S | E20: 1 | F20: 1 | I20: M
B21: 18 | C21: 상생 플러스1 | D21: RNW0720T2S | E21: 4 | F21: 1 | G21: RPUW10CX9S | H21: 2015.09 | I21: M
B22: 19 | C22: 상생 플러스2 | D22: RNW0720T2S | E22: 4 | F22: 1 | I22: M
B23: 20 | C23: 상생 플러스3 | D23: RNW0720T2S | E23: 4 | F23: 1 | I23: M
B24: 21 | C24: 상생 플러스4 | D24: RNW0720T2S | E24: 4 | F24: 1 | I24: M
A25: 2층 | B25: 1 | C25: 201호 | D25: RNW1000T2S | E25: 4 | F25: 1 | G25: RPUW141X9P | H25: 2019.8 | I25: M
B26: 2 | C26: 202호 | D26: RNW0830T2S | E26: 4 | F26: 1 | H26: 2019.8 | I26: M
B27: 3 | C27: 204-1호 | D27: RNW0600T2S | E27: 4 | F27: 1 | H27: 2019.8 | I27: M
B28: 4 | C28: 204-2호 | D28: RNW0720T2S | E28: 4 | F28: 1 | H28: 2019.8 | I28: M
B29: 5 | C29: 204-3호 | D29: RNW0720T2S | E29: 4 | F29: 1 | H29: 2019.8 | I29: M
B30: 6 | C30: 204-4호 | D30: RNW0521G2S | E30: 2 | F30: 1 | H30: 2019.9 | I30: M
B31: 7 | C31: 204-5호 | D31: RNW0521G2S | E31: 2 | F31: 1 | H31: 2018.1 | I31: M
B32: 8 | C32: 205호 | D32: RNW0830T2S | E32: 4 | F32: 1 | G32: RPUW141X9P | H32: 2019.6 | I32: M
B33: 9 | C33: 212호 | D33: RNW0830T2S | E33: 4 | F33: 1 | H33: 2019.6 | I33: M
B34: 10 | C34: 218호 | D34: RNW1000T2S | E34: 4 | F34: 1 | H34: 2019.8 | I34: M
B35: 11 | C35: 225호 | D35: RNW0720T2S | E35: 4 | F35: 1 | H35: 2019.8 | I35: M
A36: 3층 | B36: 1 | C36: 301호 | D36: RW0401A2U | E36: 4 | F36: 1 | G36: RPW342X9L | H36: 2025.5 | I36: M
B37: 2 | C37: 302-1호 | D37: RW0520G2S | E37: 2 | F37: 1 | I37: M
B38: 3 | C38: 302-2호 | D38: RW0831A2U | E38: 4 | F38: 1 | I38: M
B39: 4 | C39: 305호 | D39: RW0601A2U | E39: 4 | F39: 1 | I39: M
B40: 5 | C40: 306호 | D40: RW0520C2S | E40: 1 | F40: 1 | I40: M
B41: 6 | C41: 309호 | D41: RW0601A2U | E41: 4 | F41: 1 | I41: M
B42: 7 | C42: 310호 | D42: RW1001A2U | E42: 4 | F42: 1 | I42: M
B43: 8 | C43: 312호 | D43: RW0320C2S | E43: 1 | F43: 1 | I43: M
B44: 9 | C44: 316-1호 | D44: RW0520C2S | E44: 1 | F44: 1 | I44: M
B45: 10 | C45: 316-2호 | D45: RW0520C2S | E45: 1 | F45: 1 | I45: M
B46: 11 | C46: 316-3호 | D46: RW1001A2U | E46: 4 | F46: 1 | I46: M
B47: 12 | C47: 321호 | D47: RW0520C2S | E47: 1 | F47: 1 | I47: M
B48: 13 | C48: 324호 | D48: RW0721A2U | E48: 4 | F48: 1 | I48: M
... B50: 15 | C50: 330호 | D50: RW0831A2U | E50: 4 | F50: 1 | I50: M
B51: 16 | C51: 328호(원장실) | D51: TNW0720A2UR | E51: 4 | F51: 1 | G51: UUW072141SR | H51: 2024.6 | I51: S
A52: 4층 | B52: 1 | C52: 대강의실1 | D52: LRD-N607T | E52: 4 | F52: 1 | I52: M
B53: 2 | C53: 대강의실2 | D53: LRD-N607T | E53: 4 | F53: 1 | I53: M
B54: 3 | C54: 대강의실3 | D54: LRD-N607T | E54: 4 | F54: 1 | I54: M
B55: 4 | C55: 대강의실4 | D55: LRD-N607T | E55: 4 | F55: 1 | G55: #4 | I55: M
B56: 5 | C56: 휴게실 | D56: LRD-N607T | E56: 4 | F56: 1 | I56: M
B57: 6 | C57: 회의실1 | D57: LRD-N407T | E57: 4 | F57: 1 | G57: LRP-N5808DH | I57: M
B58: 7 | C58: 회의실2 | D58: LRD-N407T | E58: 4 | F58: 1 | I58: M
B59: 8 | C59: 조정실 | D59: LRD-N607T | E59: 4 | F59: 1 | I59: M
B60: 9 | C60: A.D.R | D60: LRD-N607T | E60: 4 | F60: 1 | I60: M
B61: 10 | C61: 남자 W.C | D61: LRD-N207CS | E61: 1 | F61: 1 | I61: M
B62: 11 | C62: 여자 W.C | D62: LRD-N207CS | E62: 1 | F62: 1 | I62: M
B63: 1 | C63: 전실 | D63: LRD-N207CS | E63: 1 | F63: 1 | I63: M
B64: 2 | C64: 장비대여 | D64: LRD-N607T | E64: 4 | F64: 1 | I64: M
B65: 3 | C65: EVEL 홀 | D65: LRD-N407T | E65: 4 | F65: 1 | G65: #5 | I65: M
B66: 4 | C66: 편집1 | D66: LRD-N527T | E66: 4 | F66: 1 | I66: M
B67: 5 | C67: 편집2 | D67: LRD-N237CS | E67: 1 | F67: 1 | G67: LRP-N8708DH | I67: M
B68: 6 | C68: 편집3 | D68: LRD-N607T | E68: 4 | F68: 1 | I68: M
B69: 7 | C69: 복도1 | D69: LRD-N607G | E69: 2 | F69: 1 | I69: M
B70: 8 | C70: 복도2 | D70: LRD-N607G | E70: 2 | F70: 1 | I70: M
B71: 9 | C71: 복도3 | D71: LRD-N607G | E71: 2 | F71: 1 | I71: M
B72: 10 | C72: 복도4 | D72: LRD-N607G | E72: 2 | F72: 1 | I72: M
B73: 11 | C73: 중 강의실1 | D73: LRD-N837T | E73: 4 | F73: 1 | I73: M
B74: 12 | C74: 중 강의실2 | D74: LRD-N837T | E74: 4 | F74: 1 | I74: M
B75: 13 | C75: 휴게 회의실 | D75: LRD-N527T | E75: 4 | F75: 1 | I75: M
B76: 14 | C76: OFFICE 1 | D76: LRD-N727T | E76: 4 | F76: 1 | I76: M
B77: 15 | C77: OFFICE 2 | D77: LRD-N727T | E77: 4 | F77: 1 | I77: M
A78: 5층 | B78: 1 | C78: 509-1호 | D78: RNW0830A2U | E78: 4 | F78: 1 | G78: RPUW14GX9E | H78: 2024.7 | I78: M
B79: 2 | C79: 509-2호 | D79: RNW0830A2U | E79: 4 | F79: 1 | I79: M
B80: 3 | C80: 511-1호 | D80: RNW0830A2U | E80: 4 | F80: 1 | I80: M
B81: 4 | C81: 511-2호 | D81: RNW0830A2U | E81: 4 | F81: 1 | I81: M
B82: 5 | C82: 511-3호 | D82: RNW0830A2U | E82: 4 | F82: 1 | I82: M
B83: 6 | C83: 511-4호 | D83: RNW0830A2U | E83: 4 | F83: 1 | I83: M
B84: 1 | C84: 525호 | D84: RNW0830A2U | E84: 4 | F84: 1 | G84: RPUW142X9L | H84: 2024.8 | I84: M
B85: 2 | C85: 526호 | D85: RNW0720A2U | E85: 4 | F85: 1 | I85: M
B86: 3 | C86: 527호 | D86: RNW0720A2U | E86: 4 | F86: 1 | I86: M
B87: 4 | C87: 530-1호 | D87: RNW0720A2U | E87: 4 | F87: 1 | I87: M
B88: 5 | C88: 530-2호 | D88: RNW0720A2U | E88: 4 | F88: 1 | I88: M
B89: 6 | C89: 사무실12 | D89: LRB-N60AT | E89: 4 | F89: 1 | G89: LRP-N5800B | H89: 2005.5 | I89: M
B90: 7 | C90: 사무실13 | D90: LRB-N60AT | E90: 4 | F90: 1 | G90: 10HP | I90: M
B91: 8 | C91: 사무실14 | D91: LRB-N60AT | E91: 4 | F91: 1 | I91: M
B92: 9 | C92: 사무실15 | D92: LRB-N60AT | E92: 4 | F92: 1 | I92: M
A93: 8층 | B93: 1 | C93: 사무실1 | D93: RNW0320C2S | E93: 1 | F93: 1 | G93: RPUW14X9E | H93: 2022.1 | I93: M
B94: 2 | C94: 사무실2 | D94: RNW0320C2S | E94: 1 | F94: 1 | I94: M
B95: 3 | C95: 사무실3 | D95: RNW0320C2S | E95: 1 | F95: 1 | I95: M
B96: 4 | C96: 사무실4 | D96: RNW0400C2S | E96: 1 | F96: 1 | I96: M
B97: 5 | C97: 사무실5 | D97: RNW0400C2S | E97: 1 | F97: 1 | I97: M
B98: 6 | C98: 사무실6 | D98: RNW0400C2S | E98: 1 | F98: 1 | I98: M
B99: 7 | C99: 사무실7 | D99: RNW0400C2S | E99: 1 | F99: 1 | I99: M
B100: 8 | C100: 사무실8 | D100: RNW0520A2U | E100: 4 | F100: 1 | I100: M
B101: 9 | C101: 사무실9 | D101: RNW0520A2U | E101: 4 | F101: 1 | I101: M
B102: 10 | C102: 사무실10 | D102: RNW0600A2U | E102: 4 | F102: 1 | G102: RPUW20GX9E | I102: M
B103: 11 | C103: 사무실11 | D103: RNW0600A2U | E103: 4 | F103: 1 | I103: M
B104: 12 | C104: 사무실12 | D104: RNW0720A2U | E104: 4 | F104: 1 | I104: M
B105: 13 | C105: 사무실13 | D105: RNW0720A2U | E105: 4 | F105: 1 | I105: M
...
