Workbook
Name 실내기다: [1]LG제품!$A$3:$A$195
Name 실외기입니다: [1]LG제품!$F$3:$F$308

Sheet 총괄표
A1: LG EHP 장비현황
A3: 연번 | B3: 건물명 | C3: 실내기(대) | D3: 실외기(조) | E3: 비고
A4: 1 | B4: 중앙도서관 | C4: =중앙도서관!F28 -> 24 | D4: =중앙도서관!G28 -> 3
A5: 2 | B5: 본관 | C5: =본관!F95 -> 91 | D5: =본관!G95 -> 34
A6: 3 | B6: 학술관 | C6: =학술관!F66 -> 59 | D6: =학술관!G66 -> 13
A7: 4 | B7: 문화관 | C7: =문화관!F194 -> 227 | D7: =문화관!G194 -> 32
A8: 5 | B8: 경영관 | C8: =경영관!F67 -> 63 | D8: =경영관!G67 -> 8조
A9: 6 | B9: 사회과학관 | C9: =사회과학관!F160 -> 156 | D9: =사회과학관!G160 -> 24
A10: 7 | B10: 정보문화관P동 | C10: =정보문화관P동!F104 -> 100 | D10: =정보문화관P동!G104 -> 16
A11: 8 | B11: 다향관 | C11: =다향관!F22 -> 24 | D11: =다향관!G22 -> 6
A12: 9 | B12: 혜화관 | C12: =혜화관!F217 -> 213 | D12: =혜화관!G217 -> 29
A13: 10 | B13: 혜화별관 | C13: =혜화별관!F26 -> 22 | D13: =혜화별관!G26 -> 8
A14: 11 | B14: 법학관 | C14: =법학관!F130 -> 126 | D14: =법학관!G130 -> 20
A15: 12 | B15: 법학관 열람실 | C15: =법학관열람실!F48 -> 44 | D15: =법학관열람실!G48 -> 4
A16: 13 | B16: 만해관 | C16: =만해관!F149 -> 145 | D16: =만해관!G149 -> 18
A17: 14 | B17: 계산관B | C17: =계산관B동!F24 -> 20 | D17: =계산관B동!G24 -> 3
A18: 15 | B18: 계산관A | C18: =계산관A동!F8 -> 4 | D18: =계산관A동!G8 -> 1
A19: 16 | B19: 체육관 | C19: =체육관!F6 -> 2 | D19: =체육관!G6 -> 1
A20: 17 | B20: 신공학관 | C20: =신공학관!F10 -> 6 | D20: =신공학관!G10 -> 3
A21: 18 | B21: 장충지구연구동 | C21: =장충지구연구동!F9 -> 5 | D21: =장충지구연구동!G9 -> 1
A22: 19 | B22: 필동관 | C22: =필동관!F9 -> 5 | D22: =필동관!G9 -> 1
A23: 20 | B23: 충무로신관 | C23: =충무로신관!F25 -> 21 | D23: =충무로신관!G25 -> 4
A24: 21 | B24: 충무로본관 | C24: =충무로본관!F128 -> 124 | D24: =충무로본관!G128 -> 19
A25: 계 | C25: =SUM(C4:C24) -> 1481 | D25: =SUM(D4:D24) -> 240

Sheet 중앙도서관
A1: LG EHP 장비현황 중앙도서관
A3: 층 | C3: 실내명 | D3: 실내기 모델 | E3: 종류 | F3: 수량 | G3: 실외기모델 | H3: 설치년도 | I3: 형식 | J3: 비고
A4: 1열람실(상) | B4: 1 | C4: 제1열람실 | D4: LRD-N1105B | E4: 매립 | F4: 1 | H4: 2009 | I4: M
B5: 2 | C5: 제1열람실 | D5: LRD-N1105B | E5: 매립 | F5: 1 | I5: M
B6: 3 | C6: 제1열람실 | D6: LRD-N1105B | E6: 매립 | F6: 1 | I6: M
B7: 4 | C7: 제1열람실 | D7: LRD-N1105B | E7: 매립 | F7: 1 | I7: M
B8: 5 | C8: 제1열람실 | D8: LRD-N1105B | E8: 매립 | F8: 1 | I8: M
B9: 6 | C9: 제1열람실 | D9: LRD-N1105B | E9: 매립 | F9: 1 | G9: #3 | I9: M
B10: 7 | C10: 제1열람실 | D10: LRD-N835B | E10: 매립 | F10: 1 | I10: M
B11: 8 | C11: 제1열람실 | D11: LRD-N835B | E11: 매립 | F11: 1 | G11: LRP-N11007 | I11: M
B12: 9 | C12: 제1열람실 | D12: LRD-N835B | E12: 매립 | F12: 1 | I12: M
B13: 10 | C13: 화장실(여) | D13: LRD-N607T | E13: 4 | F13: 1 | I13: M
B14: 11 | C14: 화장실(남) | D14: LRD-N608T | E14: 4 | F14: 1 | I14: M
A15: B4층별관 | B15: 1 | C15: 라운지 | D15: RNW831A2U | E15: 4 | F15: 1 | G15: RPUW220X9L | H15: 2026.3 | I15: M
B16: 2 | C16: PBL실습실 | D16: RNW0601T2S | E16: 4 | F16: 1 | I16: M
B17: 3 | C17: PBL실습실 | D17: RNW0601T2S | E17: 4 | F17: 1 | I17: M
B18: 4 | C18: 회의실1 | D18: RNW1451T2S | E18: 4 | F18: 1 | I18: M
B19: 5 | C19: 사무실1 | D19: RNW831A2U | E19: 4 | F19: 1 | I19: M
B20: 6 | C20: 사무실2 | D20: RNW831A2U | E20: 4 | F20: 1 | I20: M
B21: 7 | C21: 회의실2 | D21: RNW0601T2S | E21: 4 | F21: 1 | I21: M
A22: B3층별관 | B22: 1 | C22: 열람실-1 | D22: LRD-N1457T | E22: 4 | F22: 1 | G22: RP-W220X9S | H22: 2012.1 | I22: M
B23: 2 | C23: 열람실-1 | D23: LRD-N1457T | E23: 4 | F23: 1 | I23: M
B24: 3 | C24: 열람실-1 | D24: LRD-N1457T | E24: 4 | F24: 1 | I24: M
B25: 4 | C25: 열람실-2 | D25: LRD-N607T | E25: 4 | F25: 1 | I25: M
B26: 5 | C26: 열람실-2 | D26: LRD-N607T | E26: 4 | F26: 1 | I26: M
B27: 6 | C27: 열람실-3 | D27: LRD-N727T | E27: 4 | F27: 1 | I27: M
A28: 장비계 | F28: =SUM(F4:F27) -> 24 | G28: 3

Sheet 본관
A1: LG EHP 장비현황 본관
A3: 층 | C3: 실내명 | D3: 실내기 모델 | E3: 종류 | F3: 수량 | G3: 실외기모델 | H3: 제조년도 | I3: 형식 | J3: 비고
A4: 5층 | B4: 1 | C4: 건학 위원회 1 | D4: RNW1451B2S | E4: 매립 | F4: 1 | G4: RPUW181X9H | H4: 2021.4 | I4: M
B5: 2 | C5: 건학 위원회 2 | D5: RNW1451B2S | E5: 매립 | F5: 1 | H5: 2021.4 | I5: M
B6: 3 | C6: 건학 위원회 3 | D6: RNW1451B2S | E6: 매립 | F6: 1 | H6: 2021.4 | I6: M
B7: 4 | C7: 건학 위원회 4 | D7: RNW1451B2S | E7: 매립 | F7: 1 | H7: 2021.4 | I7: M
B8: 5 | C8: 건학 위원회 5 | D8: RNW0720A2S | E8: 4 | F8: 1 | G8: RPUW14EX9H | H8: 2021.3 | I8: M
B9: 6 | C9: 건학 위원회 6 | D9: RNW0601G2S | E9: 2 | F9: 1 | H9: 2021.2 | I9: M
B10: 7 | C10: 건학 위원회 7 | D10: RNW0601G2S | E10: 2 | F10: 1 | H10: 2020년10 | I10: M
B11: 8 | C11: 건학 위원회 8 | D11: RNW0200C2S | E11: 1 | F11: 1 | H11: 2021.2 | I11: M
B12: 9 | C12: 건학 위원회 9 | D12: RNW0200C2S | E12: 1 | F12: 1 | H12: 2021.4 | I12: M
B13: 10 | C13: 건학 위원회 10 | D13: RNW0720C2S | E13: 1 | F13: 1 | H13: 2021.1 | I13: M
B14: 11 | C14: 법인 임원실1 | D14: TNW0651S2SR | E14: 2 | F14: 1 | G14: TUW0651S2SR | H14: 2021.1 | I14: S
B15: 12 | C15: 법인 임원실2 | D15: TNW072PA2SR | E15: 4 | F15: 1 | G15: TUW072PA2SR | H15: 2021.03 | I15: S
A16: 4층 | B16: 1 | C16: 경영 관리실 | D16: LRD-N727T | E16: 4 | F16: 1 | G16: LRP-N2908D | H16: 2008.12 | I16: M
B17: 2 | C17: 혁신 관리팀 | D17: LRD-N1005T | E17: 4 | F17: 1 | I17: M
B18: 3 | C18: CS 경영팀 | D18: LRD-N1005T | E18: 4 | F18: 1 | I18: M
B19: 4 | C19: 총장실1 | D19: LRD-N837T | E19: 4 | F19: 1 | I19: M
B20: 5 | C20: 총장실2 | D20: LRD-N837T | E20: 4 | F20: 1 | I20: M
B21: 6 | C21: 접견실 | D21: LRD-N325CS | E21: 1 | F21: 1 | I21: M
B22: 7 | C22: 화장실 | D22: LRD-N325CS | E22: 1 | F22: 1 | I22: M
B23: 8 | C23: 휴게실 | D23: LRD-N407CS | E23: 1 | F23: 1 | I23: M
B24: 9 | C24: 이사장실 | D24: TNW0900M2S | E24: 4 | F24: 1 | G24: TUW0900M2S | H24: 2016.1 | I24: M
B25: 10 | C25: 이사장실 | D25: TNW0900M2S | E25: 4 | F25: 1 | I25: M
C26: 로터스홀1 | D26: LT-W1101SN | E26: 4 | F26: 1 | G26: LTW1101SN | H26: 2009.8 | I26: S
C27: 로터스홀2 | D27: LT-W1101SN | E27: 4 | F27: 1 | G27: LTW1101SN | I27: S
C28: 로터스홀3 | D28: LT-W1101SN | E28: 4 | F28: 1 | G28: LTW1101SN | I28: S
C29: 총장 비서실 | D29: TNW0400U2S | E29: 1 | F29: 1 | G29: TUW0400U2S | I29: S
C30: 사무실9 | D30: LT-W601SPJ | E30: 4 | F30: 1 | G30: LTW601SPJ | I30: S
C31: 사무실10 | D31: LT-W601SPJ | E31: 4 | F31: 1 | G31: LTW601SPJ | I31: S
C32: 사무실11 | D32: LT-W601SPJ | E32: 4 | F32: 1 | G32: LTW601SPJ | I32: S
C33: 사무실12 | D33: LT-W601SPJ | E33: 4 | F33: 1 | G33: LTW601SPJ | I33: S
C34: 기획부총장실 | D34: LT-W601SPJ | E34: 4 | F34: 1 | G34: LTW601SPJ | I34: S
C35: 법인 접견실1 | D35: LTNW901SNJ | E35: 4 | F35: 1 | G35: LTUW901SNJ | I35: S
C36: 법인 접견실2 | D36: LTNW901SNJ | E36: 4 | F36: 1 | G36: LTUW901SNJ | I36: S
A37: 3층(우) | B37: 1 | C37: 숙직실 | D37: LRD-N405C | E37: 1 | F37: 1 | G37: LRP-N6407D | H37: 2021.11 | I37: M
B38: 2 | C38: 학생경력개발원장실 | D38: LRD-N605G | E38: 2 | F38: 1 | I38: M
B39: 3 | C39: IMFORMATION | D39: LRD-N525G | E39: 2 | F39: 1 | I39: M
B40: 4 | C40: IMFORMATION | D40: LRD-N605G | E40: 2 | F40: 1 | I40: M
B41: 5 | C41: 취업 및 행정실 | D41: LRD-N605G | E41: 2 | F41: 1 | I41: M
...

Sheet 학술관
A1: LG EHP 멀티형 장비현황 학술관
A3: 층 | C3: 실내명 | D3: 실내기 모델 | E3: 종류 | F3: 수량 | G3: 실외기모델 | H3: 제조년도 | I3: 형식 | J3: 비고
A4: 4층 | B4: 1 | C4: S473호 | D4: RNW0521G2S | E4: 2 | F4: 1 | G4: RPUW14GX9E | H4: 2024.7 | I4: M
B5: 2 | C5: S474호 | D5: RNW0601G2S | E5: 2 | F5: 1 | I5: M
B6: 3 | C6: S475호 | D6: RNW0601G2S | E6: 2 | F6: 1 | I6: M
B7: 4 | C7: S476호 | D7: RNW0601G2S | E7: 2 | F7: 1 | I7: M
B8: 5 | C8: S477호 | D8: RNW0601G2S | E8: 2 | F8: 1 | I8: M
B9: 6 | C9: S478호 | D9: RNW0601G2S | E9: 2 | F9: 1 | I9: M
B10: 7 | C10: S479호 | D10: RNW0601G2S | E10: 2 | F10: 1 | I10: M
B11: 8 | C11: S480호 | D11: RNW0601G2S | E11: 2 | F11: 1 | G11: RPUW12GX9E | I11: M
B12: 9 | C12: S481호 | D12: RNW0601G2S | E12: 2 | F12: 1 | I12: M
B13: 10 | C13: S482호 | D13: RNW0601G2S | E13: 2 | F13: 1 | I13: M
B14: 11 | C14: S485-1호 | D14: RNW0720A2U | E14: 4 | F14: 1 | I14: M
B15: 12 | C15: S485-2호 | D15: RNW0720A2U | E15: 4 | F15: 1 | I15: M
B16: 13 | C16: S486호 | D16: RNW0521G2S | E16: 2 | F16: 1 | G16: RPUW12GX9E | I16: M
B17: 14 | C17: S487호 | D17: RNW0521G2S | E17: 2 | F17: 1 | I17: M
B18: 15 | C18: S488호 | D18: RNW0521G2S | E18: 2 | F18: 1 | I18: M
B19: 16 | C19: S489호 | D19: RNW0521G2S | E19: 2 | F19: 1 | I19: M
B20: 17 | C20: S490호 | D20: RNW0521G2S | E20: 2 | F20: 1 | I20: M
B21: 18 | C21: S491호 | D21: RNW0521G2S | E21: 2 | F21: 1 | I21: M
B22: 19 | C22: S492호 | D22: RNW0521G2S | E22: 2 | F22: 1 | I22: M
B23: 20 | C23: S494호 | D23: RNW0521G2S | E23: 2 | F23: 1 | G23: RPUW12GX9E | I23: M
B24: 21 | C24: S495호 | D24: RNW0521G2S | E24: 2 | F24: 1 | I24: M
B25: 22 | C25: S496호 | D25: RNW0521G2S | E25: 2 | F25: 1 | I25: M
B26: 23 | C26: S497호 | D26: RNW0521G2S | E26: 2 | F26: 1 | I26: M
B27: 24 | C27: S498호 | D27: RNW0521G2S | E27: 2 | F27: 1 | I27: M
B28: 25 | C28: S499호 | D28: RNW0521G2S | E28: 2 | F28: 1 | I28: M
A29: B1층 | B29: 1 | C29: 101-B1X90 | D29: RNW0320C2S | E29: 1 | F29: 1 | G29: RP-W362X9L.AKM2 | H29: 2025.12 | I29: M
B30: 2 | C30: 101-B1X92 | D30: RNW0320C2S | E30: 1 | F30: 1 | I30: M
B31: 3 | C31: 101-B190 | D31: RNW0400C2S | E31: 1 | F31: 1 | I31: M
B32: 4 | C32: 101-B191 | D32: RNW0400C2S | E32: 1 | F32: 1 | I32: M
B33: 5 | C33: 101-B193 | D33: RNW0400C2S | E33: 1 | F33: 1 | I33: M
B34: 6 | C34: 101-B194 | D34: RNW0400C2S | E34: 1 | F34: 1 | I34: M
B35: 7 | C35: 101-B195 | D35: RNW0720C2S | E35: 1 | F35: 1 | I35: M
B36: 8 | C36: 101-B196 | D36: RNW0720C2S | E36: 1 | F36: 1 | I36: M
B37: 9 | C37: 101-B1X68 | D37: RNW0521G2S | E37: 2 | F37: 1 | I37: M
B38: 10 | C38: 101-B1X29 | D38: RNW0831A2U | E38: 4 | F38: 1 | I38: M
B39: 11 | C39: 101-B1X29 | D39: RNW0831A2U | E39: 4 | F39: 1 | I39: M
B40: 12 | C40: 102-B165 | D40: RNW1001A2U | E40: 4 | F40: 1 | I40: M
B41: 13 | C41: 102-B165 | D41: RNW1001A2U | E41: 4 | F41: 1 | I41: M
...

Sheet 문화관
A1: LG EHP 장비현황 문화관
A3: 층 | C3: 실내명 | D3: 실내기 모델 | E3: 종류 | F3: 수량 | G3: 실외기모델 | H3: 제조년도 | I3: 형식 | J3: 비고
A4: 4층 | B4: 1 | C4: 대강의실 | D4: LRD-N110B | E4: 매립 | F4: 1 | G4: #1 | H4: 2010.7 | I4: M
B5: 2 | C5: 대강의실 | D5: LRD-N110B | E5: 매립 | F5: 1 | G5: LRP-N3505D | I5: M
B6: 3 | C6: 대강의실 | D6: LRD-N83B | E6: 매립 | F6: 1 | I6: M
B7: 1 | C7: 강의실1-1 | D7: LRD-N727T | E7: 4 | F7: 1 | I7: M
B8: 2 | C8: 강의실1-2 | D8: LRD-N727T | E8: 4 | F8: 1 | I8: M
B9: 3 | C9: 강의실2-1 | D9: LRD-N727T | E9: 4 | F9: 1 | I9: M
B10: 4 | C10: 강의실2-2 | D10: LRD-N727T | E10: 4 | F10: 1 | G10: #2 | I10: M
B11: 5 | C11: 강의실3-1 | D11: LRD-N727T | E11: 4 | F11: 1 | I11: M
B12: 6 | C12: 강의실3-2 | D12: LRD-N727T | E12: 4 | F12: 1 | G12: LRP-N8705D | I12: M
B13: 7 | C13: 강의실4-1 | D13: LRD-N727T | E13: 4 | F13: 1 | I13: M
B14: 8 | C14: 강의실4-2 | D14: LRD-N727T | E14: 4 | F14: 1 | I14: M
B15: 9 | C15: 강의실5-1 | D15: LRD-N727T | E15: 4 | F15: 1 | I15: M
B16: 10 | C16: 강의실5-2 | D16: LRD-N727T | E16: 4 | F16: 1 | I16: M
B17: 1 | C17: 강의실19-1 | D17: LRD-N727T | E17: 4 | F17: 1 | I17: M
B18: 2 | C18: 강의실19-2 | D18: LRD-N727T | E18: 4 | F18: 1 | I18: M
B19: 3 | C19: 강의실18-1 | D19: LRD-N727T | E19: 4 | F19: 1 | I19: M
B20: 4 | C20: 강의실18-2 | D20: LRD-N727T | E20: 4 | F20: 1 | G20: #3 | I20: M
B21: 5 | C21: 강의실17-1 | D21: LRD-N727T | E21: 4 | F21: 1 | I21: M
B22: 6 | C22: 강의실17-2 | D22: LRD-N727T | E22: 4 | F22: 1 | G22: LRP-N8705D | I22: M
B23: 7 | C23: 강의실16-1 | D23: LRD-N727T | E23: 4 | F23: 1 | I23: M
B24: 8 | C24: 강의실16-2 | D24: LRD-N727T | E24: 4 | F24: 1 | I24: M
B25: 9 | C25: 강의실15-1 | D25: LRD-N727T | E25: 4 | F25: 1 | I25: M
B26: 10 | C26: 강의실15-2 | D26: LRD-N727T | E26: 4 | F26: 1 | I26: M
B27: 1 | C27: K426호(교) | D27: RNW0601G2S | E27: 2 | F27: 1 | G27: RPUW16GX9E | H27: 2024.5 | I27: M
B28: 2 | C28: K427호(교) | D28: RNW0601G2S | E28: 2 | F28: 1 | I28: M
B29: 3 | C29: K428호(교) | D29: RNW0601G2S | E29: 2 | F29: 1 | I29: M
B30: 4 | C30: K429호(교) | D30: RNW0601G2S | E30: 2 | F30: 1 | I30: M
B31: 5 | C31: K430호(교) | D31: RNW0601G2S | E31: 2 | F31: 1 | I31: M
B32: 6 | C32: K431호(교) | D32: RNW0601G2S | E32: 2 | F32: 1 | I32: M
B33: 7 | C33: K432호(교) | D33: RNW0601G2S | E33: 2 | F33: 1 | I33: M
B34: 8 | C34: K433호(교) | D34: RNW0601G2S | E34: 2 | F34: 1 | G34: RPUW12GX9E | I34: M
B35: 9 | C35: K434호(교) | D35: RNW0601G2S | E35: 2 | F35: 1 | I35: M
B36: 10 | C36: K420-1호(사) | D36: RNW0830A2U | E36: 4 | F36: 1 | I36: M
B37: 11 | C37: K420-2호(사) | D37: RNW0830A2U | E37: 4 | F37: 1 | I37: M
B38: 12 | C38: K424-1호(사) | D38: RNW0600A2U | E38: 4 | F38: 1 | I38: M
B39: 13 | C39: K424-1호(사) | D39: RNW0600A2U | E39: 4 | F39: 1 | I39: M
B40: 1 | C40: 조교실1 | D40: LRD-N727T | E40: 4 | F40: 1 | H40: 2010.7 | I40: M
B41: 2 | C41: 조교실2 | D41: LRD-N727T | E41: 4 | F41: 1 | I41: M
...

Sheet 경영관
A1: LG EHP 장비현황 경영관
A3: 층 | C3: 실내명 | D3: 실내기 모델 | E3: 종류 | F3: 수량 | G3: 실외기모델 | H3: 제조년도 | I3: 형식 | J3: 비고
A4: B1 | B4: 1 | C4: LB106 | D4: RNW0721G2S | E4: 2 | F4: 1 | G4: RPUW102X9L | H4: 2025.2 | I4: M
B5: 2 | C5: LB107 | D5: RNW0721G2S | E5: 2 | F5: 1 | I5: M
B6: 3 | C6: LB108 | D6: RNW0721G2S | E6: 2 | F6: 1 | I6: M
B7: 4 | C7: LB109 | D7: RNW0721G2S | E7: 2 | F7: 1 | I7: M
A8: 1층 | B8: 1 | C8: L101-1호 | D8: RNW0830A2U | E8: 4 | F8: 1 | G8: RPUW14EX9H | H8: 2022.2 | I8: M
B9: 2 | C9: L101-2호 | D9: RNW0830A2U | E9: 4 | F9: 1 | I9: M
B10: 3 | C10: L102호 | D10: RNW0720A2U | E10: 4 | F10: 1 | H10: 2022.1 | I10: M
B11: 4 | C11: L110호 비즈마루 | D11: RNW0400A2S | E11: 1 | F11: 1 | H11: 2022.2 | I11: M
B12: 5 | C12: L110호 비즈마루 | D12: RNW0400A2S | E12: 1 | F12: 1 | I12: M
B13: 6 | C13: L110호 비즈마루 | D13: RNW0400A2S | E13: 1 | F13: 1 | I13: M
B14: 7 | C14: L110호 비즈마루 | D14: RNW0400A2S | E14: 1 | F14: 1 | I14: M
B15: 8 | C15: L110호 비즈마루 | D15: RNW1000A2U | E15: 4 | F15: 1 | G15: RPUW14EX9H | I15: M
B16: 9 | C16: L110호 비즈마루 | D16: RNW1000A2U | E16: 4 | F16: 1 | I16: M
B17: 10 | C17: L110호 비즈마루 | D17: RNW1000A2U | E17: 4 | F17: 1 | I17: M
B18: 11 | C18: L110호 비즈마루 | D18: RNW1000A2U | E18: 4 | F18: 1 | I18: M
B19: 12 | C19: L110호 비즈마루 | D19: RNW1000A2U | E19: 4 | F19: 1 | I19: M
B20: 13 | C20: L110호 비즈마루 | D20: RNW1000A2U | E20: 4 | F20: 1 | I20: M
A21: 1층 | B21: 1 | C21: 강의실 L101 | D21: RNW0830A2U | E21: 4 | F21: 1 | G21: RP-W362X9L | H21: 2025.2 | I21: M
B22: 2 | C22: 강의실 L101 | D22: RNW0830A2U | E22: 4 | F22: 1 | I22: M
B23: 3 | C23: 강의실 L101 | D23: RNW0830A2U | E23: 4 | F23: 1 | I23: M
B24: 4 | C24: 강의실 L101 | D24: RNW0830A2U | E24: 4 | F24: 1 | I24: M
B25: 5 | C25: 강의실 L101 | D25: RNW0830A2U | E25: 4 | F25: 1 | I25: M
B26: 6 | C26: 강의실 L101 | D26: RNW0830A2U | E26: 4 | F26: 1 | I26: M
B27: 7 | C27: L116-1 | D27: RNW1100A2U | E27: 4 | F27: 1 | I27: M
B28: 8 | C28: L116-2 | D28: RNW1100A2U | E28: 4 | F28: 1 | I28: M
B29: 9 | C29: L117 | D29: RNW0601G2S | E29: 2 | F29: 1 | I29: M
B30: 10 | C30: L118 | D30: RNW0601G2S | E30: 2 | F30: 1 | I30: M
B31: 11 | C31: L119 | D31: RNW0601G2S | E31: 2 | F31: 1 | I31: M
B32: 12 | C32: L119-1 | D32: RNW0601G2S | E32: 2 | F32: 1 | I32: M
B33: 13 | C33: 학사복 창고 | D33: RNW0720A2U | E33: 4 | F33: 1 | I33: M
A34: 2층 | B34: 1 | C34: L202 | D34: RNW0720A2U | E34: 4 | F34: 1 | G34: RP-W302X9L | I34: M
B35: 2 | C35: L202 | D35: RNW0830A2U | E35: 4 | F35: 1 | I35: M
B36: 3 | C36: L202 | D36: RNW0830A2U | E36: 4 | F36: 1 | I36: M
B37: 4 | C37: L202 | D37: RNW0830A2U | E37: 4 | F37: 1 | I37: M
B38: 5 | C38: L203 | D38: RNW0720A2U | E38: 4 | F38: 1 | I38: M
B39: 6 | C39: L204 | D39: RNW1000A2U | E39: 4 | F39: 1 | I39: M
B40: 7 | C40: L205 | D40: RNW0830A2U | E40: 4 | F40: 1 | I40: M
B41: 8 | C41: L205 | D41: RNW0830A2U | E41: 4 | F41: 1 | I41: M
...

Sheet 사회과학관
A1: LG EHP 장비현황 사회 과학관
A3: 층 | C3: 실내명 | D3: 실내기 모델 | E3: 종류 | F3: 수량 | G3: 실외기모델 | H3: 제조년도 | I3: 형식 | J3: 비고
A4: B1층 | B4: 1 | C4: MB123-1 | D4: RNW1300A2U | E4: 4 | F4: 1 | G4: RPUW142X9L | H4: 2025.2 | I4: M
B5: 2 | C5: MB123-2 | D5: RNW1300A2U | E5: 4 | F5: 1 | I5: M
B6: 3 | C6: MB123-3 | D6: RNW1450A2U | E6: 4 | F6: 1 | I6: M
A7: 1층 | B7: 1 | C7: M122 | D7: RNW1300A2U | E7: 4 | F7: 1 | G7: RP-W362X9L | H7: 2025.2 | I7: M
B8: 2 | C8: M122 | D8: RNW1300A2U | E8: 4 | F8: 1 | I8: M
B9: 3 | C9: M126 | D9: RNW0601G2S | E9: 4 | F9: 1 | I9: M
B10: 4 | C10: M127 | D10: RNW1300A2U | E10: 4 | F10: 1 | I10: M
B11: 5 | C11: M129 | D11: RNW1300A2U | E11: 4 | F11: 1 | I11: M
B12: 6 | C12: M131 | D12: RNW1100A2U | E12: 4 | F12: 1 | I12: M
B13: 7 | C13: M131 | D13: RNW1100A2U | E13: 4 | F13: 1 | I13: M
B14: 8 | C14: M134 | D14: RNW1300A2U | E14: 4 | F14: 1 | I14: M
B15: 9 | C15: M136 | D15: RNW1300A2U | E15: 4 | F15: 1 | I15: M
B16: 10 | C16: M107 | D16: RNW0601G2S | E16: 4 | F16: 1 | G16: RP-W302X9L | I16: M
B17: 11 | C17: M108 | D17: RNW0320C2S | E17: 1 | F17: 1 | I17: M
B18: 12 | C18: M108 | D18: RNW0320C2S | E18: 1 | F18: 1 | I18: M
B19: 13 | C19: M109 | D19: RNW0601G2S | E19: 4 | F19: 1 | I19: M
B20: 14 | C20: M110 | D20: RNW0601G2S | E20: 4 | F20: 1 | I20: M
B21: 15 | C21: M111 | D21: RNW0830A2U | E21: 4 | F21: 1 | I21: M
B22: 16 | C22: M111 | D22: RNW0830A2U | E22: 4 | F22: 1 | I22: M
B23: 17 | C23: M114 | D23: RNW0830A2U | E23: 4 | F23: 1 | I23: M
B24: 18 | C24: M114 | D24: RNW0830A2U | E24: 4 | F24: 1 | I24: M
B25: 19 | C25: M117 | D25: RNW1300A2U | E25: 4 | F25: 1 | I25: M
B26: 20 | C26: M117 | D26: RNW1300A2U | E26: 4 | F26: 1 | I26: M
A27: 2층 | B27: 1 | C27: M209-1 | D27: RNW0220C2S | E27: 1 | F27: 1 | G27: RP-W362X9L | H27: 2025.2 | I27: M
B28: 2 | C28: M209-1 | D28: RNW0220C2S | E28: 1 | F28: 1 | I28: M
B29: 3 | C29: M211 | D29: RNW0830A2U | E29: 4 | F29: 1 | I29: M
B30: 4 | C30: M211 | D30: RNW0830A2U | E30: 4 | F30: 1 | I30: M
B31: 5 | C31: M211 | D31: RNW0830A2U | E31: 4 | F31: 1 | I31: M
B32: 6 | C32: M212 | D32: RNW0601G2S | E32: 2 | F32: 1 | I32: M
B33: 7 | C33: M213 | D33: RNW0601G2S | E33: 2 | F33: 1 | I33: M
B34: 8 | C34: M214 | D34: RNW0601G2S | E34: 2 | F34: 1 | I34: M
B35: 9 | C35: M215 | D35: RNW1300A2U | E35: 4 | F35: 1 | I35: M
B36: 10 | C36: M215 | D36: RNW1300A2U | E36: 4 | F36: 1 | I36: M
B37: 11 | C37: M216 | D37: RNW1300A2U | E37: 4 | F37: 1 | I37: M
B38: 12 | C38: M216 | D38: RNW1300A2U | E38: 4 | F38: 1 | I38: M
B39: 13 | C39: 열람실 | D39: RNW1300A2U | E39: 4 | F39: 1 | G39: RP-W242X9L | I39: M
B40: 14 | C40: 열람실 | D40: RNW1300A2U | E40: 4 | F40: 1 | I40: M
B41: 15 | C41: 열람실 | D41: RNW1300A2U | E41: 4 | F41: 1 | I41: M
...

Sheet 정보문화관P동
A1: LG EHP 장비현황 정보문화관P
C3: 실내명 | D3: 실내기 모델 | E3: 종류 | F3: 수량 | G3: 실외기모델 | H3: 제조년도 | I3: 형식 | J3: 비고
A4: 6층 | B4: 1 | C4: P601 | D4: RNW0721A2U | E4: 4 | F4: 1 | G4: RP-W342X9L | H4: 2025.3 | I4: M
B5: 2 | C5: P602 | D5: RNW0600C2S | E5: 1 | F5: 1 | I5: M
B6: 3 | C6: P603 | D6: RNW0600C2S | E6: 1 | F6: 1 | I6: M
B7: 4 | C7: P604 | D7: RNW0600C2S | E7: 1 | F7: 1 | I7: M
B8: 5 | C8: P605 | D8: RNW0600C2S | E8: 1 | F8: 1 | I8: M
B9: 6 | C9: P606 | D9: RNW0600C2S | E9: 1 | F9: 1 | I9: M
B10: 7 | C10: P607 | D10: RNW0600C2S | E10: 1 | F10: 1 | I10: M
B11: 8 | C11: P608 | D11: RNW0600C2S | E11: 1 | F11: 1 | I11: M
B12: 9 | C12: P609 | D12: RNW0600C2S | E12: 1 | F12: 1 | I12: M
B13: 10 | C13: P610 | D13: RNW0600C2S | E13: 1 | F13: 1 | I13: M
B14: 11 | C14: P611 | D14: RNW0600C2S | E14: 1 | F14: 1 | I14: M
B15: 12 | C15: P612 | D15: RNW0721A2U | E15: 4 | F15: 1 | I15: M
B16: 13 | C16: P621 | D16: RNW0600C2S | E16: 1 | F16: 1 | G16: RP-W342X9L | I16: M
B17: 14 | C17: P622 | D17: RNW0600C2S | E17: 1 | F17: 1 | I17: M
B18: 15 | C18: P623 | D18: RNW0600C2S | E18: 1 | F18: 1 | I18: M
B19: 16 | C19: P624 | D19: RNW0600C2S | E19: 1 | F19: 1 | I19: M
B20: 17 | C20: P625 | D20: RNW0600C2S | E20: 1 | F20: 1 | I20: M
B21: 18 | C21: P626 | D21: RNW0600C2S | E21: 1 | F21: 1 | I21: M
B22: 19 | C22: P627 | D22: RNW0600C2S | E22: 1 | F22: 1 | I22: M
B23: 20 | C23: P628 | D23: RNW0600C2S | E23: 1 | F23: 1 | I23: M
B24: 21 | C24: P634 | D24: RNW0600C2S | E24: 1 | F24: 1 | I24: M
B25: 22 | C25: P635 | D25: RNW0601A2U | E25: 4 | F25: 1 | I25: M
B26: 23 | C26: P636 | D26: RNW0601A2U | E26: 4 | F26: 1 | I26: M
B27: 24 | C27: P637 | D27: RNW0601A2U | E27: 4 | F27: 1 | I27: M
B28: 25 | C28: P638 | D28: RNW0601A2U | E28: 4 | F28: 1 | I28: M
... B31: 28 | C31: P641 | D31: RNW0600C2S | E31: 1 | F31: 1 | I31: M
A32: 5층 | B32: 1 | C32: P501 | D32: RNW0831A2U | E32: 4 | F32: 1 | G32: RPUW142X9L | H32: 2025.3 | I32: M
B33: 2 | C33: P501 | D33: RNW0831A2U | E33: 4 | F33: 1 | I33: M
B34: 3 | C34: P502 | D34: RNW0721A2U | E34: 4 | F34: 1 | I34: M
B35: 4 | C35: P502 | D35: RNW0721A2U | E35: 4 | F35: 1 | I35: M
B36: 5 | C36: P502 | D36: RNW0721A2U | E36: 4 | F36: 1 | I36: M
B37: 6 | C37: 분석실2 | D37: RNW0601A2U | E37: 4 | F37: 1 | G37: RPUW162X9L | I37: M
B38: 7 | C38: 분석실2 | D38: RNW0601A2U | E38: 4 | F38: 1 | I38: M
B39: 8 | C39: 분석실2 | D39: RNW0601A2U | E39: 4 | F39: 1 | I39: M
B40: 9 | C40: 분석실2 | D40: RNW0400C2S | E40: 1 | F40: 1 | I40: M
B41: 10 | C41: 분석실1 | D41: RNW0831A2U | E41: 4 | F41: 1 | I41: M
B42: 11 | C42: 분석실1 | D42: RNW0831A2U | E42: 4 | F42: 1 | I42: M
B43: 12 | C43: P503-1 | D43: RNW0831A2U | E43: 4 | F43: 1 | G43: RP-W302X9L | I43: M
...

Sheet 다향관
A1: LG EHP 장비현황 다향관
A3: 층 | C3: 실내명 | D3: 실내기 모델 | E3: 종류 | F3: 수량 | G3: 실외기모델 | H3: 설치년도 | I3: 형식 | J3: 비고
A4: 3층 | B4: 1 | C4: 4 | D4: LRD-N1457T | E4: 4 | F4: 1 | G4: #1 LRP-V8708D | H4: 2011.7 | I4: M
B5: 2 | C5: 4 | D5: LRD-N1457T | E5: 4 | F5: 1 | I5: M
B6: 3 | C6: 4 | D6: LRD-N1457T | E6: 4 | F6: 1 | I6: M
B7: 4 | C7: 4 | D7: LRD-N1457T | E7: 4 | F7: 1 | I7: M
B8: 5 | C8: 4 | D8: LRD-N1457T | E8: 4 | F8: 1 | I8: M
B9: 6 | C9: 4 | D9: LRD-N1457T | E9: 4 | F9: 1 | I9: M
B10: 7 | C10: A/S 실 | D10: TNW0720P2S | E10: 4 | F10: 1 | G10: TUW0720P2S | I10: S
A11: 2층 | B11: 1 | C11: 컴퓨터실 | D11: RNW0831T2S | E11: 4 | F11: 1 | G11: RPUW102X9L | H11: 2026.2 | I11: M
B12: 2 | C12: 컴퓨터실 | D12: RNW0831T2S | E12: 4 | F12: 1 | I12: M
B13: 3 | C13: 컴퓨터실 | D13: RNW0831T2S | E13: 4 | F13: 1 | I13: M
A14: 1층 | B14: 1 | C14: 컴퓨터실-2 (노트북존) | D14: R-W1100A2U | E14: 4 | F14: 4 | G14: RPUW16GX9E | H14: 2025.2 | I14: M
B15: 2 | C15: 컴퓨터실-3 (노트북존) | D15: R-W0720A2U | E15: 4 | F15: 4 | G15: RPUW16GX9E | I15: M
B16: 3 | C16: 109 세미나실1 | D16: R-W0520C2S | E16: 1 | F16: 1 | I16: M
B17: 4 | C17: 109 세미나실2 | D17: R-W0520C2S | E17: 1 | F17: 1 | I17: M
B18: 5 | C18: 109 세미나실3 | D18: R-W0520C2S | E18: 1 | F18: 1 | I18: M
B19: 6 | C19: 컴퓨터실-1 | D19: R-W1000A2U | E19: 4 | F19: 1 | G19: RPUW12GX9E | I19: M
B20: 7 | C20: 컴퓨터실-2 | D20: R-W1000A3U | E20: 4 | F20: 1
B21: 8 | C21: 컴퓨터실-3 | D21: R-W1000A4U | E21: 4 | F21: 1
A22: 장비계 | F22: =SUM(F4:F21) -> 24 | G22: 6

Sheet 혜화관
A1: LG EHP 장비현황 혜화관
A3: 층 | C3: 실내명 | D3: 실내기 모델 | E3: 종류 | F3: 수량 | G3: 실외기모델 | H3: 제조년도 | I3: 형식 | J3: 비고
A4: 6층(좌) | B4: 1 | C4: 207-614-1호 | D4: RNW1450T2S | E4: 4 | F4: 1 | G4: RPUW20GX9E | H4: 2019.12 | I4: M
B5: 2 | C5: 207-614-2호 | D5: RNW1450T2S | E5: 4 | F5: 1 | I5: M
B6: 3 | C6: 207-615-1호 | D6: RNW1450T2S | E6: 4 | F6: 1 | I6: M
B7: 4 | C7: 207-615-2호 | D7: RNW1450T2S | E7: 4 | F7: 1 | I7: M
B8: 5 | C8: 207-642-1호 | D8: RNW0720A2U | E8: 4 | F8: 1 | G8: RPUW20GX9E | H8: 2022.11 | I8: M
B9: 6 | C9: 207-642-2호 | D9: RNW0720A2U | E9: 4 | F9: 1 | I9: M
B10: 7 | C10: 207-642-3호 | D10: RNW0720A2U | E10: 4 | F10: 1 | I10: M
B11: 8 | C11: 207-601호 | D11: RNW0830A2U | E11: 4 | F11: 1 | I11: M
B12: 9 | C12: 207-603호 | D12: RNW0720A2U | E12: 4 | F12: 1 | I12: M
B13: 10 | C13: 207-604-1호 | D13: RNW0830A2U | E13: 4 | F13: 1 | I13: M
B14: 11 | C14: 207-604-2호 | D14: RNW0830A2U | E14: 4 | F14: 1 | I14: M
B15: 12 | C15: 207-606호 | D15: RNW0521G2S | E15: 2 | F15: 1 | G15: RPUW12GX9E | H15: 2022.11 | I15: M
B16: 13 | C16: 207-607호 | D16: RNW0521G2S | E16: 2 | F16: 1 | I16: M
B17: 14 | C17: 207-608호 | D17: RNW0521G2S | E17: 2 | F17: 1 | I17: M
B18: 15 | C18: 207-610호 | D18: RNW0520C2S | E18: 1 | F18: 1 | I18: M
B19: 16 | C19: 207-612-1호 | D19: RNW0830A2U | E19: 4 | F19: 1 | I19: M
B20: 17 | C20: 207-612-2호 | D20: RNW0830A2U | E20: 4 | F20: 1 | I20: M
A21: 6층(우) | B21: 1 | C21: 207-617-1호 | D21: RNW0830A2U | E21: 4 | F21: 1 | G21: RPUW20GX9E | H21: 2022.11 | I21: M
B22: 2 | C22: 207-617-2호 | D22: RNW0830A2U | E22: 4 | F22: 1 | I22: M
B23: 3 | C23: 207-617-3호 | D23: RNW0830A2U | E23: 4 | F23: 1 | I23: M
B24: 4 | C24: 207-617-4호 | D24: RNW0830A2U | E24: 4 | F24: 1 | I24: M
B25: 5 | C25: 207-620-1호 | D25: RNW0600A2U | E25: 4 | F25: 1 | I25: M
B26: 6 | C26: 207-620-2호 | D26: RNW0830A2U | E26: 4 | F26: 1 | I26: M
B27: 7 | C27: 207-622호 | D27: RNW0521G2S | E27: 2 | F27: 1 | I27: M
B28: 8 | C28: 207-623호 | D28: RNW0200C2S | E28: 1 | F28: 1 | I28: M
B29: 9 | C29: 207-623호 | D29: RNW0200C2S | E29: 1 | F29: 1 | I29: M
B30: 10 | C30: 207-623호 | D30: RNW0600A2U | E30: 4 | F30: 1 | G30: RPUW16GX9E | H30: 2022.11 | I30: M
B31: 11 | C31: 207-623호-1 | D31: RNW0830A2U | E31: 4 | F31: 1 | I31: M
B32: 12 | C32: 207-625-1호 | D32: RNW0720A2U | E32: 4 | F32: 1 | I32: M
B33: 13 | C33: 207-625-2호 | D33: RNW0720A2U | E33: 4 | F33: 1 | I33: M
B34: 14 | C34: 207-628-1호 | D34: RNW1000A2U | E34: 4 | F34: 1 | I34: M
B35: 15 | C35: 207-628-2호 | D35: RNW1000A2U | E35: 4 | F35: 1 | I35: M
B36: 16 | C36: 207-631-1호 | D36: RNW0200C2S | E36: 1 | F36: 1 | I36: M
B37: 17 | C37: 207-631-2호 | D37: RNW0320C2S | E37: 1 | F37: 1 | I37: M
B38: 18 | C38: 207-631-3호 | D38: RNW0720A2U | E38: 4 | F38: 1 | I38: M
B39: 19 | C39: 207-634호 | D39: RNW0720A2U | E39: 4 | F39: 1 | G39: RPUW12GX9E | H39: 2022.11 | I39: M
B40: 20 | C40: 207-636호 | D40: RNW0720A2U | E40: 4 | F40: 1 | I40: M
B41: 21 | C41: 207-637호 | D41: RNW1000A2U | E41: 4 | F41: 1 | I41: M
...

Sheet 혜화별관
A1: LG EHP 장비현황 혜화별관
A3: 층 | B3: 순위 | C3: 실내명 | D3: 실내기 모델 | E3: 종류 | F3: 수량 | G3: 실외기모델 | H3: 제조년도 | I3: 형식 | J3: 비고
A4: 1층 | B4: 1 | C4: H103호 | D4: RNW1300A2S | E4: 4 | F4: 1 | G4: RPUW100S9S | H4: 2021.02 | I4: M
B5: 2 | C5: H104호 | D5: RNW0720A2S | E5: 4 | F5: 1 | I5: M
C6: 스튜디오 조정실 | D6: TNW0900M2S | E6: 4 | F6: 1 | G6: TUW0900M2S | H6: 2017.5 | I6: S
C7: 스튜디오 1실 | D7: TNW0900M2S | E7: 4 | F7: 1 | G7: TUW0900M2S | H7: 2017.5 | I7: S
C8: 스튜디오 2실 | D8: TNW0900M2S | E8: 4 | F8: 1 | G8: TUW0900M2S | H8: 2017.5 | I8: S
C9: 103호 | D9: TNW0720B2SR | E9: 4 | F9: 1 | G9: UUW072042SR | H9: 2021.08 | I9: S
A10: 2층 | B10: 3 | C10: H203-1호 | D10: RNW1300A2S | E10: 4 | F10: 1 | G10: RPUW141X9P | H10: 2020.12 | I10: M
B11: 4 | C11: H203-2호 | D11: RNW0720A2S | E11: 4 | F11: 1 | I11: M
B12: 5 | C12: H204-1호 | D12: RNW1450A2S | E12: 4 | F12: 1 | I12: M
B13: 6 | C13: H204-2호 | D13: RNW1450A2S | E13: 4 | F13: 1 | I13: M
A14: 3층 | B14: 7 | C14: H301 | D14: LRD-N1107T | E14: 4 | F14: 1 | G14: LRP-N1608D | H14: 2010.4 | I14: M
B15: 8 | C15: H302 | D15: LRD-N1107T | E15: 4 | F15: 1 | I15: M
B16: 9 | C16: H303 | D16: LRD-N1107T | E16: 4 | F16: 1 | I16: M
B17: 10 | C17: H304 | D17: LRD-N1107T | E17: 4 | F17: 1 | I17: M
B18: 11 | C18: H305 | D18: LRD-N405C | E18: 1 | F18: 1 | I18: M
B19: 12 | C19: H306 | D19: LRD-N405C | E19: 1 | F19: 1 | G19: LRP-N4107D | I19: M
B20: 13 | C20: H307 | D20: LRD-N405C | E20: 1 | F20: 1 | I20: M
B21: 14 | C21: H307 | D21: LRD-N405C | E21: 1 | F21: 1 | I21: M
B22: 15 | C22: H307 | D22: LRD-N1107T | E22: 4 | F22: 1 | I22: M
B23: 16 | C23: H308 | D23: LRD-N1107T | E23: 4 | F23: 1 | I23: M
B24: 17 | C24: H309 | D24: LRD-N405C | E24: 1 | F24: 1 | I24: M
B25: 18 | C25: 복도 | D25: LRD-N607T | E25: 4 | F25: 1 | I25: M
A26: 장비계 | F26: =SUM(F4:F25) -> 22 | G26: 8

Sheet 법학관
A1: LG EHP 장비현황 법학관
A3: 층 | B3: 순위 | C3: 실내명 | D3: 실내기 모델 | E3: 종류 | F3: 수량 | G3: 실외기모델 | H3: 제조년도 | I3: 형식 | J3: 비고
A4: 1층 | B4: 1 | C4: B158-1호(강) | D4: RNW0830A2U | E4: 4 | F4: 1 | G4: 메인RPUW20GX9E서버(RPUW12GX9E) | H4: 2023.7 | I4: M
B5: 2 | C5: B158-2호(강) | D5: RNW0830A2U | E5: 4 | F5: 1 | I5: M
B6: 3 | C6: B159호(강) | D6: RNW0830A2U | E6: 4 | F6: 1 | I6: M
B7: 4 | C7: B160호(강) | D7: RNW0830A2U | E7: 4 | F7: 1 | I7: M
B8: 5 | C8: 만해관경비실 | D8: RNW0200C2S | E8: 1 | F8: 1 | I8: M
B9: 6 | C9: B162호(세) | D9: RNW0830A2U | E9: 4 | F9: 1 | I9: M
B10: 7 | C10: B162-1호(세) | D10: RNW0720A2U | E10: 4 | F10: 1 | I10: M
B11: 8 | C11: B161-1호(모의) | D11: RNW0830A2U | E11: 4 | F11: 1 | I11: M
B12: 9 | C12: B161-2호(모의) | D12: RNW0830A2U | E12: 4 | F12: 1 | I12: M
B13: 10 | C13: B161-3호(모의) | D13: RNW0830A2U | E13: 4 | F13: 1 | I13: M
B14: 11 | C14: B161-4호(모의) | D14: RNW0830A2U | E14: 4 | F14: 1 | I14: M
B15: 12 | C15: 모의법정전실 | D15: RNW1000A2U | E15: 4 | F15: 1 | I15: M
B16: 13 | C16: B163-1호(강) | D16: RNW1000A2U | E16: 4 | F16: 1 | G16: 메인RPUW20GX9E서버(RPUW12GX9E) | I16: M
B17: 14 | C17: B163호(강1) | D17: RNW0830A2U | E17: 4 | F17: 1 | I17: M
B18: 15 | C18: B163호(강2) | D18: RNW0830A2U | E18: 4 | F18: 1 | I18: M
B19: 16 | C19: B163호(강3) | D19: RNW0830A2U | E19: 4 | F19: 1 | I19: M
B20: 17 | C20: B164호 | D20: RNW1000A2U | E20: 4 | F20: 1 | I20: M
B21: 18 | C21: B165호(학) | D21: RNW0830A2U | E21: 4 | F21: 1 | I21: M
B22: 19 | C22: B166-1호(사) | D22: RNW0830A2U | E22: 4 | F22: 1 | I22: M
B23: 20 | C23: B166-2호(사) | D23: RNW0830A2U | E23: 4 | F23: 1 | I23: M
B24: 21 | C24: B167-1호(사) | D24: RNW0830A2U | E24: 4 | F24: 1 | I24: M
B25: 22 | C25: B167-2호(사) | D25: RNW0830A2U | E25: 4 | F25: 1 | I25: M
B26: 23 | C26: B168호(원) | D26: RNW0520A2U | E26: 4 | F26: 1 | I26: M
B27: 24 | C27: 열람실 복도1 | D27: RNW1450A2U | E27: 4 | F27: 1 | G27: 메인RPUW12GX9E서버(RPUW12GX9E) | I27: M
B28: 25 | C28: 경비실앞복도2 | D28: RNW1450A2U | E28: 4 | F28: 1 | I28: M
B29: 26 | C29: 경비실 복도3 | D29: RNW1450A2U | E29: 4 | F29: 1 | I29: M
B30: 27 | C30: 경비실 복도4 | D30: RNW1450A2U | E30: 4 | F30: 1 | I30: M
B31: 28 | C31: 경비실 휴게실 | D31: RNW0200C2S | E31: 1 | F31: 1 | I31: M
B32: 29 | C32: 락카툼 | D32: RNW1450A2U | E32: 4 | F32: 1 | I32: M
B33: 30 | C33: 169호(법학) | D33: RNW0400C2S | E33: 4 | F33: 1 | G33: 메인RPUW18GX9E | I33: M
B34: 31 | C34: 170호(상담) | D34: RNW0400C2S | E34: 4 | F34: 1 | I34: M
B35: 32 | C35: 171호(형사) | D35: RNW0400C2S | E35: 4 | F35: 1 | I35: M
B36: 33 | C36: 174호(강) | D36: RNW1000A2U | E36: 4 | F36: 1 | I36: M
B37: 34 | C37: 154호(사법) | D37: RNW0520C2S | E37: 1 | F37: 1 | I37: M
B38: 35 | C38: 155호(공법) | D38: RNW0400C2S | E38: 1 | F38: 1 | I38: M
B39: 36 | C39: 156호(국제) | D39: RNW0400C2S | E39: 1 | F39: 1 | I39: M
B40: 37 | C40: 157호(민주) | D40: RNW0400C2S | E40: 1 | F40: 1 | I40: M
A41: 2층 | B41: 1 | C41: B253호-1 | D41: RNW0830A2S | E41: 4 | F41: 1 | G41: 메인RPUW14EX9H | H41: 2021.12 | I41: M
...

Sheet 법학관열람실
A1: LG EHP 장비현황 법학관 열람실
A3: 층 | B3: 순위 | C3: 실내명 | D3: 실내기 모델 | E3: 종류 | F3: 수량 | G3: 실외기모델 | H3: 제조년도 | I3: 형식 | J3: 비고
A4: 1층 | B4: 1 | C4: 열람실1 | D4: R-W1000A2S | E4: 4 | F4: 1 | G4: RP-W301X9H(RPUW14EX9H) | H4: 2020.12 | I4: M
B5: 2 | C5: 열람실2 | D5: R-W1000A2S | E5: 4 | F5: 1 | I5: M
B6: 3 | C6: 열람실3 | D6: R-W1000A2S | E6: 4 | F6: 1 | I6: M
B7: 4 | C7: 열람실4 | D7: R-W1000A2S | E7: 4 | F7: 1 | I7: M
B8: 5 | C8: 열람실5 | D8: R-W1000A2S | E8: 4 | F8: 1 | I8: M
B9: 6 | C9: 열람실6 | D9: R-W1000A2S | E9: 4 | F9: 1 | I9: M
B10: 7 | C10: 열람실7 | D10: R-W1000A2S | E10: 4 | F10: 1 | I10: M
B11: 8 | C11: 열람실8 | D11: R-W1000A2S | E11: 4 | F11: 1 | I11: M
B12: 9 | C12: 열람실9 | D12: R-W1000A2S | E12: 4 | F12: 1 | I12: M
A13: 2층 | B13: 1 | C13: 열람실1 | D13: R-W1100A2S | E13: 4 | F13: 1 | G13: RP-W301X9H(RPUW14EX9H) | H13: 2020.12 | I13: M
B14: 2 | C14: 열람실2 | D14: R-W1100A2S | E14: 4 | F14: 1 | I14: M
B15: 3 | C15: 열람실3 | D15: R-W1100A2S | E15: 4 | F15: 1 | I15: M
B16: 4 | C16: 열람실4 | D16: R-W1100A2S | E16: 4 | F16: 1 | I16: M
B17: 5 | C17: 열람실5 | D17: R-W1100A2S | E17: 4 | F17: 1 | I17: M
B18: 6 | C18: 열람실6 | D18: R-W1100A2S | E18: 4 | F18: 1 | I18: M
B19: 7 | C19: 열람실7 | D19: R-W1100A2S | E19: 4 | F19: 1 | I19: M
B20: 8 | C20: 열람실8 | D20: R-W1100A2S | E20: 4 | F20: 1 | I20: M
A21: 3층 | B21: 1 | C21: 열람실1 | D21: R-W1100A2S | E21: 4 | F21: 1 | G21: RP-W401X9H(RPUW161X9H) | H21: 2020.12 | I21: M
B22: 2 | C22: 열람실2 | D22: R-W1100A2S | E22: 4 | F22: 1 | I22: M
B23: 3 | C23: 열람실3 | D23: R-W1100A2S | E23: 4 | F23: 1 | I23: M
B24: 4 | C24: 열람실4 | D24: R-W1100A2S | E24: 4 | F24: 1 | I24: M
B25: 5 | C25: 열람실5 | D25: R-W1100A2S | E25: 4 | F25: 1 | I25: M
B26: 6 | C26: 열람실6 | D26: R-W1100A2S | E26: 4 | F26: 1 | I26: M
B27: 7 | C27: 열람실7 | D27: R-W1100A2S | E27: 4 | F27: 1 | I27: M
B28: 8 | C28: 열람실8 | D28: R-W1100A2S | E28: 4 | F28: 1 | I28: M
B29: 9 | C29: 열람실9 | D29: R-W1100A2S | E29: 4 | F29: 1 | I29: M
B30: 10 | C30: 열람실10 | D30: R-W1100A2S | E30: 4 | F30: 1 | I30: M
B31: 11 | C31: 열람실11 | D31: R-W1100A2S | E31: 4 | F31: 1 | I31: M
B32: 12 | C32: 열람실12 | D32: R-W1100A2S | E32: 4 | F32: 1 | I32: M
A33: 4층 | B33: 1 | C33: 열람실1 | D33: R-W1100A2S | E33: 4 | F33: 1 | G33: RP-W461X9H(RPUW161X9H) | H33: 2020.12 | I33: M
B34: 2 | C34: 열람실2 | D34: R-W1100A2S | E34: 4 | F34: 1 | I34: M
B35: 3 | C35: 열람실3 | D35: R-W1100A2S | E35: 4 | F35: 1 | I35: M
B36: 4 | C36: 열람실4 | D36: R-W1100A2S | E36: 4 | F36: 1 | I36: M
B37: 5 | C37: 열람실5 | D37: R-W1100A2S | E37: 4 | F37: 1 | I37: M
B38: 6 | C38: 열람실6 | D38: R-W1100A2S | E38: 4 | F38: 1 | I38: M
B39: 7 | C39: 열람실7 | D39: R-W0600A2S | E39: 4 | F39: 1 | I39: M
B40: 8 | C40: 열람실8 | D40: R-W0600A2S | E40: 4 | F40: 1 | I40: M
B41: 9 | C41: 열람실9 | D41: R-W0600A2S | E41: 4 | F41: 1 | I41: M
...

Sheet 만해관
A1: LG EHP 장비현황 만해관
A3: 층 | B3: 순위 | C3: 실내명 | D3: 실내기 모델 | E3: 종류 | F3: 수량 | G3: 실외기모델 | H3: 제조년도 | I3: 형식 | J3: 비고
A4: B1층 | B4: 1 | C4: B01-1(불연구회) | D4: RNW0520C2S | E4: 4 | F4: 1 | G4: 메인 RPUW20GX9E서버 RPUW14GX9E | H4: 2023.7 | I4: M | J4: LS 네오텍(나재호)
B5: 2 | C5: B01-2(불연구회) | D5: RNW0520C2S | E5: 4 | F5: 1 | I5: M | J5: 010-2647-0847
B6: 3 | C6: B01-3(불연구회) | D6: RNW0520C2S | E6: 4 | F6: 1 | I6: M | J6: 신규설치
B7: 4 | C7: B01-4(불연구회) | D7: RNW0520C2S | E7: 4 | F7: 1 | I7: M
B8: 5 | C8: B02-1호 (석림비) | D8: RNW0520C2S | E8: 4 | F8: 1 | I8: M
B9: 6 | C9: B02-2호 (석림비) | D9: RNW0520C2S | E9: 4 | F9: 1 | I9: M
B10: 7 | C10: B03호(정각원) | D10: RNW0520C2S | E10: 4 | F10: 1 | I10: M
B11: 8 | C11: B04-1호(정각원) | D11: RNW0520C2S | E11: 4 | F11: 1 | I11: M
B12: 9 | C12: B04-2호(정각원) | D12: RNW0520C2S | E12: 4 | F12: 1 | I12: M
B13: 10 | C13: B05호(원장실) | D13: RNW1000G2S | E13: 4 | F13: 1 | I13: M
B14: 11 | C14: B06-1호(일본학) | D14: RNW0600C2S | E14: 4 | F14: 1 | I14: M
B15: 12 | C15: B06-2호(일본학) | D15: RNW0600C2S | E15: 4 | F15: 1 | I15: M
B16: 13 | C16: B07호(상담실) | D16: RNW0600C2S | E16: 4 | F16: 1 | I16: M
B17: 14 | C17: B08-1호(명상실) | D17: RNW0600C2S | E17: 4 | F17: 1 | I17: M
B18: 15 | C18: B08-2호(명상실) | D18: RNW0600C2S | E18: 4 | F18: 1 | I18: M
... B20: 17 | C20: B09-2호(석림회) | D20: RNW0600C2S | E20: 4 | F20: 1 | I20: M
A21: 1층 | B21: 1 | C21: B101호 | D21: RNW0520C2S | E21: 1 | F21: 1 | G21: 메인 RPUW18GX9E서버 RPUW12GX9E | H21: 2023.7 | I21: M
B22: 2 | C22: B102호 | D22: RNW0520C2S | E22: 1 | F22: 1 | I22: M
B23: 3 | C23: B103호 | D23: RNW0520C2S | E23: 1 | F23: 1 | I23: M
B24: 4 | C24: B104호 | D24: RNW0520C2S | E24: 1 | F24: 1 | I24: M
B25: 5 | C25: B105호 | D25: RNW0520C2S | E25: 1 | F25: 1 | I25: M
B26: 6 | C26: B107호 | D26: RNW0520C2S | E26: 1 | F26: 1 | I26: M
B27: 7 | C27: B108호 | D27: RNW0520C2S | E27: 1 | F27: 1 | I27: M
B28: 8 | C28: B109호 | D28: RNW0520C2S | E28: 1 | F28: 1 | I28: M
B29: 9 | C29: B110호 | D29: RNW0520C2S | E29: 1 | F29: 1 | I29: M
B30: 10 | C30: B111호 | D30: RNW0520C2S | E30: 1 | F30: 1 | I30: M
B31: 11 | C31: B-127호 | D31: RNW0721G2S | E31: 2 | F31: 1 | I31: M
B32: 12 | C32: B-128호 | D32: RNW0721G2S | E32: 2 | F32: 1 | I32: M
B33: 13 | C33: B-129-1호 | D33: RNW0601G2S | E33: 2 | F33: 1 | I33: M
... B36: 16 | C36: B-130-2호 | D36: RNW0601G2S | E36: 2 | F36: 1 | I36: M
B37: 17 | C37: B112호 | D37: RNW0520C2S | E37: 1 | F37: 1 | G37: 메인 RPUW18GX9E서버 RPUW12GX9E | I37: M
B38: 18 | C38: B113호 | D38: RNW0520C2S | E38: 1 | F38: 1 | I38: M
B39: 19 | C39: B114호 | D39: RNW0520C2S | E39: 1 | F39: 1 | I39: M
B40: 20 | C40: B115호 | D40: RNW0520C2S | E40: 1 | F40: 1 | I40: M
B41: 21 | C41: B116호 | D41: RNW0520C2S | E41: 1 | F41: 1 | I41: M
B42: 22 | C42: B117호 | D42: RNW0520C2S | E42: 1 | F42: 1 | I42: M
B43: 23 | C43: B118호 | D43: RNW0520C2S | E43: 1 | F43: 1 | I43: M
B44: 24 | C44: B119호 | D44: RNW0721G2S | E44: 2 | F44: 1 | I44: M
...

Sheet 계산관B동
A1: LG EHP 장비현황 계산관B동
A3: 층 | B3: 순위 | C3: 실내명 | D3: 실내기 모델 | E3: 종류 | F3: 수량 | G3: 실외기모델 | H3: 제조년도 | I3: 형식 | J3: 비고
A4: 1층 | B4: 1 | C4: 101호 | D4: RNW0520T2S | E4: 4 | F4: 1 | G4: RPUW181X9H | H4: 2020.12 | I4: M
B5: 2 | C5: 102호 | D5: RNW0600T2S | E5: 4 | F5: 1 | H5: 2020.12 | I5: M
B6: 3 | C6: 104호 | D6: RNW1000T2S | E6: 4 | F6: 1 | H6: 2020.11 | I6: M
B7: 4 | C7: 105호 | D7: RNW0720T2S | E7: 4 | F7: 1 | H7: 2021.01 | I7: M
B8: 5 | C8: 106-1호 | D8: RNW0720T2S | E8: 4 | F8: 1 | H8: 2021.01 | I8: M
B9: 6 | C9: 106-2호 | D9: RNW0720T2S | E9: 4 | F9: 1 | H9: 2021.01 | I9: M
B10: 7 | C10: 106-3호 | D10: RNW0720T2S | E10: 4 | F10: 1 | H10: 2021.01 | I10: M
A11: 2층 | B11: 8 | C11: 202-1호 | D11: RNW1000T2S | E11: 4 | F11: 1 | G11: RPUW181X9H | H11: 2020.01 | I11: M
B12: 9 | C12: 202-2호 | D12: RNW0720T2S | E12: 4 | F12: 1 | H12: 2021.01 | I12: M
B13: 10 | C13: 204-1호 | D13: RNW0720T2S | E13: 4 | F13: 1 | H13: 2021.01 | I13: M
B14: 11 | C14: 204-2호 | D14: RNW1000T2S | E14: 4 | F14: 1 | H14: 2021년10 | I14: M
B15: 12 | C15: 205호 | D15: RNW0720T2S | E15: 4 | F15: 1 | H15: 2021.01 | I15: M
B16: 13 | C16: 206-1호 | D16: RNW0520T2S | E16: 4 | F16: 1 | H16: 2020년10 | I16: M
B17: 14 | C17: 206-2호 | D17: RNW0520T2S | E17: 4 | F17: 1 | H17: 2020.09 | I17: M
A18: 3층 | B18: 15 | C18: 301호 | D18: RNW0720T2S | E18: 4 | F18: 1 | G18: RPUW14EX9H | H18: 2021.01 | I18: M
B19: 16 | C19: 302호 | D19: RNW0720T2S | E19: 4 | F19: 1 | H19: 2021.01 | I19: M
B20: 17 | C20: 303호 | D20: RNW0720T2S | E20: 4 | F20: 1 | H20: 2021.01 | I20: M
B21: 18 | C21: 304호 | D21: RNW0520T2S | E21: 4 | F21: 1 | H21: 2020.09 | I21: M
B22: 19 | C22: 305호 | D22: RNW0520T2S | E22: 4 | F22: 1 | H22: 2020년10 | I22: M
B23: 20 | C23: 306호 | D23: RNW0520T2S | E23: 4 | F23: 1 | H23: 2020.06 | I23: M
A24: 장비계 | F24: =SUM(F4:F23) -> 20 | G24: 3

Sheet 계산관A동
A1: LG EHP 장비현황 계산관A동
A3: 층 | C3: 실내명 | D3: 실내기 모델 | E3: 종류 | F3: 수량 | G3: 실외기모델 | H3: 제조년도 | I3: 형식 | J3: 비고
A4: 2층 | B4: 1 | C4: 자아명상실1 | D4: RNW0720A2U | E4: 4 | F4: 1 | G4: RPUW102X9E | H4: 2023.11 | I4: M
B5: 2 | C5: 자아명상실2 | D5: RNW0720A2U | E5: 4 | F5: 1 | I5: M
B6: 3 | C6: 자아명상실3 | D6: RNW0720A2U | E6: 4 | F6: 1 | I6: M
B7: 4 | C7: 자아명상실4 | D7: RNW0720A2U | E7: 4 | F7: 1 | I7: M
A8: 장비계 | F8: =SUM(F4:F7) -> 4 | G8: 1

Sheet 체육관
A1: LG EHP 장비현황 체육관
A3: 층 | C3: 실내명 | D3: 실내기 모델 | E3: 종류 | F3: 수량 | G3: 실외기모델 | H3: 제조년도 | I3: 형식 | J3: 비고
A4: B1층 | B4: 1 | C4: B105-1호 | D4: RNW1450A2U | E4: 4WAY | F4: 1 | G4: RPUW12GX9E | H4: 2023.9 | I4: M | J4: 2023.9
B5: 2 | C5: B105-2호 | D5: RNW1450A2U | E5: 4WAY | F5: 1 | J5: 신규설치 공사
A6: 장비계 | F6: 2 | G6: 1

Sheet 신공학관
A1: LG EHP 장비현황 신공학관
A3: 층 | C3: 실내명 | D3: 실내기 모델 | E3: 종류 | F3: 수량 | G3: 실외기모델 | H3: 제조년도 | I3: 형식 | J3: 비고
A4: 6층 | B4: 1 | C4: 6122호 | D4: RNW1000T2S | E4: 4 | F4: 1 | G4: RPUW14EX9H | H4: 2019.01 | I4: M | J4: 2019.01.12
B5: 2 | C5: 6122호 | D5: RNW1000T2S | E5: 4 | F5: 1 | I5: M | J5: 신설 공사
B6: 3 | C6: 6199호 | D6: RNW1000T2S | E6: 4 | F6: 1 | I6: M
B7: 4 | C7: 6199호 | D7: RNW1000T2S | E7: 4 | F7: 1 | I7: M
A8: 4층 | B8: 1 | C8: 4105호 | D8: PNW1451T9SR | E8: 4 | F8: 1 | G8: PUW1451T9SR | H8: 2019.01 | I8: S
B9: 2 | C9: 4109호 | D9: PNW1451T9SR | E9: 4 | F9: 1 | G9: PUW1451T9SR | H9: 2019.01 | I9: S
A10: 장비계 | F10: =SUM(F4:F9) -> 6 | G10: 3

Sheet 장충지구연구동
A1: LG EHP 장충지구연구동
A3: 층 | C3: 실내명 | D3: 실내기 모델 | E3: 종류 | F3: 수량 | G3: 실외기모델 | H3: 제조년도 | I3: 형식 | J3: 비고
A4: 1층 | B4: 1 | C4: 101호 | D4: LRD-N727T | E4: 4 | F4: 1 | G4: LRP-N4108DV | H4: 2010.11 | I4: M
B5: 2 | C5: 102호 | D5: LRD-N727T | E5: 4 | F5: 1 | I5: M
B6: 3 | C6: 103호 | D6: LRD-N727T | E6: 4 | F6: 1 | I6: M
B7: 4 | C7: 104호 | D7: LRD-N1007T | E7: 4 | F7: 1 | I7: M
B8: 5 | C8: 107호 | D8: LRD-N837T | E8: 4 | F8: 1 | I8: M
A9: 장비계 | F9: 5 | G9: 1

Sheet 필동관
A1: LG EHP 장비현황 필동관
A3: 층 | C3: 실내명 | D3: 실내기 모델 | E3: 종류 | F3: 수량 | G3: 실외기모델 | H3: 제조년도 | I3: 형식 | J3: 비고
A4: 2층 | B4: 1 | C4: 실험실1 | D4: RNW0520A2U | E4: 4 | F4: 1 | G4: RPUW12GX9E | H4: 2024.3 | I4: M
B5: 2 | C5: 실험실2 | D5: RNW0520A2U | E5: 4 | F5: 1 | I5: M
B6: 3 | C6: 실험실3 | D6: RNW0520A2U | E6: 4 | F6: 1 | I6: M
B7: 4 | C7: 실험실4 | D7: RNW0830A2U | E7: 4 | F7: 1 | I7: M
B8: 5 | C8: 실험실5 | D8: RNW0830A2U | E8: 4 | F8: 1 | I8: M
A9: 장비계 | F9: 5 | G9: 1

Sheet 충무로신관
A1: LG EHP 장비현황 충무로신관
A3: 층 | C3: 실내명 | D3: 실내기 모델 | E3: 종류 | F3: 수량 | G3: 실외기모델 | H3: 제조년도 | I3: 형식 | J3: 비고
A4: B1층 | B4: 1 | C4: 001호(행정실) | D4: LRB-N23AC | E4: 1 | F4: 1 | G4: LRP-N5805B (#2) | H4: 2006.1 | I4: M
B5: 2 | C5: 002호(포스터) | D5: LRB-N40AC | E5: 1 | F5: 1 | I5: M
B6: 3 | C6: 편집실1 | D6: LRB-N23AC | E6: 1 | F6: 1 | I6: M
B7: 4 | C7: 편집실2 | D7: LRB-N32AC | E7: 1 | F7: 1 | I7: M
B8: 5 | C8: 편집실3 | D8: LRB-N23AC | E8: 4 | F8: 1 | I8: M
B9: 6 | C9: 편집실4 | D9: LRB-N23AC | E9: 1 | F9: 1 | I9: M
B10: 7 | C10: 편집실5 | D10: LRB-N32AC | E10: 1 | F10: 1 | I10: M
B11: 8 | C11: 편집실6 | D11: LRB-N32AC | E11: 1 | F11: 1 | I11: M
B12: 9 | C12: 003호(기재1) | D12: LRB-N23AC | E12: 1 | F12: 1 | I12: M
B13: 10 | C13: 003호(기재2) | D13: LRB-N23AC | E13: 1 | F13: 1 | I13: M
B14: 11 | C14: 013호(미디어) | D14: LRB-N1105T | E14: 1 | F14: 1 | I14: M
B15: 12 | C15: 014호(사운드) | D15: LRB-N40AC | E15: 1 | F15: 1 | I15: M
B16: 13 | C16: 015호(프로젝트) | D16: LRB-N40AC | E16: 1 | F16: 1 | I16: M
B17: 1 | C17: 멘토공간1 | D17: RNW0720A2U | E17: 4 | F17: 1 | G17: RPUW14GX9E | H17: 2023.8 | I17: M
B18: 2 | C18: 멘토공간2 | D18: RNW0720A2U | E18: 4 | F18: 1 | I18: M
B19: 3 | C19: 메타버스강의실1 | D19: RNW0600A2U | E19: 4 | F19: 1 | I19: M
B20: 4 | C20: 메타버스강의실2 | D20: RNW0600A2U | E20: 4 | F20: 1 | I20: M
B21: 5 | C21: 메타버스강의실3 | D21: RNW0600A2U | E21: 4 | F21: 1 | I21: M
B22: 6 | C22: 메타버스강의실4 | D22: RNW0600A2U | E22: 4 | F22: 1 | I22: M
A23: 2층 | C23: 208호 | D23: LTNW403SU | E23: 1 | F23: 1 | G23: LTUW403SU | H23: 2017.8 | I23: S
C24: 208-1호 | D24: LTNW403SU | E24: 1 | F24: 1 | G24: LTUW403SU | H24: 2017.8 | I24: S
A25: 장비계 | F25: =SUM(F4:F24) -> 21 | G25: 4

Sheet 충무로본관
A1: LG EHP 장비현황 충무로본관
A3: 층 | C3: 실내명 | D3: 실내기 모델 | E3: 종류 | F3: 수량 | G3: 실외기모델 | H3: 제조년도 | I3: 형 식 | J3: 비고
A4: 1층 | B4: 1 | C4: 보육실1 | D4: RNW0400A2U | E4: 4 | F4: 1 | G4: RPUW161X9P | H4: 2022. 9 | I4: M
B5: 2 | C5: 보육실2 | D5: RNW0400A2U | E5: 4 | F5: 1 | I5: M
B6: 3 | C6: 보육실3 | D6: RNW0400A2U | E6: 4 | F6: 1 | I6: M
B7: 4 | C7: 창고 | D7: RNW0230C2S | E7: 1 | F7: 1 | I7: M
B8: 5 | C8: 청소용역실 | D8: RNW0400C2S | E8: 1 | F8: 1 | I8: M
B9: 6 | C9: 회의실1 | D9: RNW0230C2S | E9: 1 | F9: 1 | I9: M
B10: 7 | C10: 회의실2 | D10: RNW0230C2S | E10: 1 | F10: 1 | I10: M
B11: 8 | C11: 회의실3 | D11: RNW0230C2S | E11: 1 | F11: 1 | I11: M
B12: 9 | C12: 회의실4 | D12: RNW0230C2S | E12: 1 | F12: 1 | I12: M
B13: 10 | C13: 회의실5 | D13: RNW0230C2S | E13: 1 | F13: 1 | I13: M
B14: 11 | C14: 회의실6 | D14: RNW0230C2S | E14: 1 | F14: 1 | I14: M
B15: 12 | C15: 회의실7 | D15: RNW0230C2S | E15: 1 | F15: 1 | I15: M
B16: 13 | C16: 회의실8 | D16: RNW0230C2S | E16: 1 | F16: 1 | I16: M
... B20: 17 | C20: 회의실12 | D20: RNW0230C2S | E20: 1 | F20: 1 | I20: M
B21: 18 | C21: 상생 플러스1 | D21: RNW0720T2S | E21: 4 | F21: 1 | G21: RPUW10CX9S | H21: 2015.09 | I21: M
B22: 19 | C22: 상생 플러스2 | D22: RNW0720T2S | E22: 4 | F22: 1 | I22: M
B23: 20 | C23: 상생 플러스3 | D23: RNW0720T2S | E23: 4 | F23: 1 | I23: M
B24: 21 | C24: 상생 플러스4 | D24: RNW0720T2S | E24: 4 | F24: 1 | I24: M
A25: 2층 | B25: 1 | C25: 201호 | D25: RNW1000T2S | E25: 4 | F25: 1 | G25: RPUW141X9P | H25: 2019.8 | I25: M
B26: 2 | C26: 202호 | D26: RNW0830T2S | E26: 4 | F26: 1 | H26: 2019.8 | I26: M
B27: 3 | C27: 204-1호 | D27: RNW0600T2S | E27: 4 | F27: 1 | H27: 2019.8 | I27: M
B28: 4 | C28: 204-2호 | D28: RNW0720T2S | E28: 4 | F28: 1 | H28: 2019.8 | I28: M
B29: 5 | C29: 204-3호 | D29: RNW0720T2S | E29: 4 | F29: 1 | H29: 2019.8 | I29: M
B30: 6 | C30: 204-4호 | D30: RNW0521G2S | E30: 2 | F30: 1 | H30: 2019.9 | I30: M
B31: 7 | C31: 204-5호 | D31: RNW0521G2S | E31: 2 | F31: 1 | H31: 2018.1 | I31: M
B32: 8 | C32: 205호 | D32: RNW0830T2S | E32: 4 | F32: 1 | G32: RPUW141X9P | H32: 2019.6 | I32: M
B33: 9 | C33: 212호 | D33: RNW0830T2S | E33: 4 | F33: 1 | H33: 2019.6 | I33: M
B34: 10 | C34: 218호 | D34: RNW1000T2S | E34: 4 | F34: 1 | H34: 2019.8 | I34: M
B35: 11 | C35: 225호 | D35: RNW0720T2S | E35: 4 | F35: 1 | H35: 2019.8 | I35: M
A36: 3층 | B36: 1 | C36: 301호 | D36: RW0401A2U | E36: 4 | F36: 1 | G36: RPW342X9L | H36: 2025.5 | I36: M
B37: 2 | C37: 302-1호 | D37: RW0520G2S | E37: 2 | F37: 1 | I37: M
B38: 3 | C38: 302-2호 | D38: RW0831A2U | E38: 4 | F38: 1 | I38: M
B39: 4 | C39: 305호 | D39: RW0601A2U | E39: 4 | F39: 1 | I39: M
B40: 5 | C40: 306호 | D40: RW0520C2S | E40: 1 | F40: 1 | I40: M
B41: 6 | C41: 309호 | D41: RW0601A2U | E41: 4 | F41: 1 | I41: M
B42: 7 | C42: 310호 | D42: RW1001A2U | E42: 4 | F42: 1 | I42: M
B43: 8 | C43: 312호 | D43: RW0320C2S | E43: 1 | F43: 1 | I43: M
B44: 9 | C44: 316-1호 | D44: RW0520C2S | E44: 1 | F44: 1 | I44: M
...
